BEGIN:VCALENDAR
VERSION:2.0
PRODID:-//First Religious Society of Newburyport - ECPv6.15.20//NONSGML v1.0//EN
CALSCALE:GREGORIAN
METHOD:PUBLISH
X-WR-CALNAME:First Religious Society of Newburyport
X-ORIGINAL-URL:https://www.frsuu.org
X-WR-CALDESC:Events for First Religious Society of Newburyport
REFRESH-INTERVAL;VALUE=DURATION:PT1H
X-Robots-Tag:noindex
X-PUBLISHED-TTL:PT1H
BEGIN:VTIMEZONE
TZID:America/New_York
BEGIN:DAYLIGHT
TZOFFSETFROM:-0500
TZOFFSETTO:-0400
TZNAME:EDT
DTSTART:20250309T070000
END:DAYLIGHT
BEGIN:STANDARD
TZOFFSETFROM:-0400
TZOFFSETTO:-0500
TZNAME:EST
DTSTART:20251102T060000
END:STANDARD
BEGIN:DAYLIGHT
TZOFFSETFROM:-0500
TZOFFSETTO:-0400
TZNAME:EDT
DTSTART:20260308T070000
END:DAYLIGHT
BEGIN:STANDARD
TZOFFSETFROM:-0400
TZOFFSETTO:-0500
TZNAME:EST
DTSTART:20261101T060000
END:STANDARD
BEGIN:DAYLIGHT
TZOFFSETFROM:-0500
TZOFFSETTO:-0400
TZNAME:EDT
DTSTART:20270314T070000
END:DAYLIGHT
BEGIN:STANDARD
TZOFFSETFROM:-0400
TZOFFSETTO:-0500
TZNAME:EST
DTSTART:20271107T060000
END:STANDARD
END:VTIMEZONE
BEGIN:VEVENT
DTSTART;TZID=America/New_York:20260422T110000
DTEND;TZID=America/New_York:20260422T123000
DTSTAMP:20260419T190723
CREATED:20260417T174354Z
LAST-MODIFIED:20260417T174354Z
UID:50943-1776855600-1776861000@www.frsuu.org
SUMMARY:Farewell Party Planning Meeting
DESCRIPTION:Wednesday\, April 22\, LMH Room A\, 11am-12:30pm
URL:https://www.frsuu.org/event/farewell-party-planning-meeting/
LOCATION:LMH Room A\, 26 Pleasant St\, Newburyport\, MA\, 01950\, United States
END:VEVENT
BEGIN:VEVENT
DTSTART;TZID=America/New_York:20260602T173000
DTEND;TZID=America/New_York:20260602T203000
DTSTAMP:20260419T190723
CREATED:20260407T164219Z
LAST-MODIFIED:20260407T164353Z
UID:50851-1780421400-1780432200@www.frsuu.org
SUMMARY:Celebration Party
DESCRIPTION:Tuesday\, June 2\, Newburyport Community/Senior Center\, 331 High St.\, Newburyport\, 5:30-8:30pm \nJOIN US! \nPlanning is underway and we need help organizing as well as help on the day of the event. Please email Celebration Party Chair Barbara Garnis\, barbaragarnis@comcast.net\, and get involved with the planning. More details to come.
URL:https://www.frsuu.org/event/celebration-party/
LOCATION:Newburyport Community Center\, 331 High St\, Newburyport\, MA\, 01950\, United States
END:VEVENT
END:VCALENDAR