BEGIN:VCALENDAR
VERSION:2.0
PRODID:-//First Religious Society of Newburyport - ECPv6.15.20//NONSGML v1.0//EN
CALSCALE:GREGORIAN
METHOD:PUBLISH
X-ORIGINAL-URL:https://www.frsuu.org
X-WR-CALDESC:Events for First Religious Society of Newburyport
REFRESH-INTERVAL;VALUE=DURATION:PT1H
X-Robots-Tag:noindex
X-PUBLISHED-TTL:PT1H
BEGIN:VTIMEZONE
TZID:America/New_York
BEGIN:DAYLIGHT
TZOFFSETFROM:-0500
TZOFFSETTO:-0400
TZNAME:EDT
DTSTART:20230312T070000
END:DAYLIGHT
BEGIN:STANDARD
TZOFFSETFROM:-0400
TZOFFSETTO:-0500
TZNAME:EST
DTSTART:20231105T060000
END:STANDARD
BEGIN:DAYLIGHT
TZOFFSETFROM:-0500
TZOFFSETTO:-0400
TZNAME:EDT
DTSTART:20240310T070000
END:DAYLIGHT
BEGIN:STANDARD
TZOFFSETFROM:-0400
TZOFFSETTO:-0500
TZNAME:EST
DTSTART:20241103T060000
END:STANDARD
BEGIN:DAYLIGHT
TZOFFSETFROM:-0500
TZOFFSETTO:-0400
TZNAME:EDT
DTSTART:20250309T070000
END:DAYLIGHT
BEGIN:STANDARD
TZOFFSETFROM:-0400
TZOFFSETTO:-0500
TZNAME:EST
DTSTART:20251102T060000
END:STANDARD
BEGIN:DAYLIGHT
TZOFFSETFROM:-0500
TZOFFSETTO:-0400
TZNAME:EDT
DTSTART:20260308T070000
END:DAYLIGHT
BEGIN:STANDARD
TZOFFSETFROM:-0400
TZOFFSETTO:-0500
TZNAME:EST
DTSTART:20261101T060000
END:STANDARD
END:VTIMEZONE
BEGIN:VEVENT
DTSTART;TZID=America/New_York:20250618T081500
DTEND;TZID=America/New_York:20250618T091500
DTSTAMP:20260420T154821
CREATED:20240917T134148Z
LAST-MODIFIED:20240917T134148Z
UID:41301-1750234500-1750238100@www.frsuu.org
SUMMARY:Facilities Committee (Hybrid)
DESCRIPTION:Meets monthly in the LMH Main Room.
URL:https://www.frsuu.org/event/facilities-committee-hybrid/2025-06-18/
LOCATION:LMH Main Room\, 26 Pleasant St\, Newburyport\, MA\, 01950\, United States
END:VEVENT
BEGIN:VEVENT
DTSTART;TZID=America/New_York:20250521T081500
DTEND;TZID=America/New_York:20250521T091500
DTSTAMP:20260420T154821
CREATED:20240917T134148Z
LAST-MODIFIED:20240917T134148Z
UID:41300-1747815300-1747818900@www.frsuu.org
SUMMARY:Facilities Committee (Hybrid)
DESCRIPTION:Meets monthly in the LMH Main Room.
URL:https://www.frsuu.org/event/facilities-committee-hybrid/2025-05-21/
LOCATION:LMH Main Room\, 26 Pleasant St\, Newburyport\, MA\, 01950\, United States
END:VEVENT
BEGIN:VEVENT
DTSTART;TZID=America/New_York:20250416T081500
DTEND;TZID=America/New_York:20250416T091500
DTSTAMP:20260420T154821
CREATED:20240917T134148Z
LAST-MODIFIED:20240917T134148Z
UID:41299-1744791300-1744794900@www.frsuu.org
SUMMARY:Facilities Committee (Hybrid)
DESCRIPTION:Meets monthly in the LMH Main Room.
URL:https://www.frsuu.org/event/facilities-committee-hybrid/2025-04-16/
LOCATION:LMH Main Room\, 26 Pleasant St\, Newburyport\, MA\, 01950\, United States
END:VEVENT
BEGIN:VEVENT
DTSTART;TZID=America/New_York:20250319T081500
DTEND;TZID=America/New_York:20250319T091500
DTSTAMP:20260420T154821
CREATED:20240917T134148Z
LAST-MODIFIED:20240917T134148Z
UID:41298-1742372100-1742375700@www.frsuu.org
SUMMARY:Facilities Committee (Hybrid)
DESCRIPTION:Meets monthly in the LMH Main Room.
URL:https://www.frsuu.org/event/facilities-committee-hybrid/2025-03-19/
LOCATION:LMH Main Room\, 26 Pleasant St\, Newburyport\, MA\, 01950\, United States
END:VEVENT
BEGIN:VEVENT
DTSTART;TZID=America/New_York:20250219T081500
DTEND;TZID=America/New_York:20250219T091500
DTSTAMP:20260420T154821
CREATED:20240917T134148Z
LAST-MODIFIED:20240917T134148Z
UID:41297-1739952900-1739956500@www.frsuu.org
SUMMARY:Facilities Committee (Hybrid)
DESCRIPTION:Meets monthly in the LMH Main Room.
URL:https://www.frsuu.org/event/facilities-committee-hybrid/2025-02-19/
LOCATION:LMH Main Room\, 26 Pleasant St\, Newburyport\, MA\, 01950\, United States
END:VEVENT
BEGIN:VEVENT
DTSTART;TZID=America/New_York:20250115T081500
DTEND;TZID=America/New_York:20250115T091500
DTSTAMP:20260420T154821
CREATED:20240917T134148Z
LAST-MODIFIED:20240917T134148Z
UID:41296-1736928900-1736932500@www.frsuu.org
SUMMARY:Facilities Committee (Hybrid)
DESCRIPTION:Meets monthly in the LMH Main Room.
URL:https://www.frsuu.org/event/facilities-committee-hybrid/2025-01-15/
LOCATION:LMH Main Room\, 26 Pleasant St\, Newburyport\, MA\, 01950\, United States
END:VEVENT
BEGIN:VEVENT
DTSTART;TZID=America/New_York:20241218T081500
DTEND;TZID=America/New_York:20241218T091500
DTSTAMP:20260420T154821
CREATED:20240917T134148Z
LAST-MODIFIED:20240917T134148Z
UID:41295-1734509700-1734513300@www.frsuu.org
SUMMARY:Facilities Committee (Hybrid)
DESCRIPTION:Meets monthly in the LMH Main Room.
URL:https://www.frsuu.org/event/facilities-committee-hybrid/2024-12-18/
LOCATION:LMH Main Room\, 26 Pleasant St\, Newburyport\, MA\, 01950\, United States
END:VEVENT
BEGIN:VEVENT
DTSTART;TZID=America/New_York:20241120T081500
DTEND;TZID=America/New_York:20241120T091500
DTSTAMP:20260420T154821
CREATED:20240917T134148Z
LAST-MODIFIED:20240917T134148Z
UID:41294-1732090500-1732094100@www.frsuu.org
SUMMARY:Facilities Committee (Hybrid)
DESCRIPTION:Meets monthly in the LMH Main Room.
URL:https://www.frsuu.org/event/facilities-committee-hybrid/2024-11-20/
LOCATION:LMH Main Room\, 26 Pleasant St\, Newburyport\, MA\, 01950\, United States
END:VEVENT
BEGIN:VEVENT
DTSTART;TZID=America/New_York:20241016T081500
DTEND;TZID=America/New_York:20241016T091500
DTSTAMP:20260420T154821
CREATED:20240917T134148Z
LAST-MODIFIED:20240917T134148Z
UID:41293-1729066500-1729070100@www.frsuu.org
SUMMARY:Facilities Committee (Hybrid)
DESCRIPTION:Meets monthly in the LMH Main Room.
URL:https://www.frsuu.org/event/facilities-committee-hybrid/2024-10-16/
LOCATION:LMH Main Room\, 26 Pleasant St\, Newburyport\, MA\, 01950\, United States
END:VEVENT
BEGIN:VEVENT
DTSTART;TZID=America/New_York:20240918T081500
DTEND;TZID=America/New_York:20240918T091500
DTSTAMP:20260420T154821
CREATED:20240917T134148Z
LAST-MODIFIED:20240917T134148Z
UID:41291-1726647300-1726650900@www.frsuu.org
SUMMARY:Facilities Committee (Hybrid)
DESCRIPTION:Meets monthly in the LMH Main Room.
URL:https://www.frsuu.org/event/facilities-committee-hybrid/2024-09-18/
LOCATION:LMH Main Room\, 26 Pleasant St\, Newburyport\, MA\, 01950\, United States
END:VEVENT
END:VCALENDAR