BEGIN:VCALENDAR
VERSION:2.0
PRODID:-//First Religious Society of Newburyport - ECPv6.15.20//NONSGML v1.0//EN
CALSCALE:GREGORIAN
METHOD:PUBLISH
X-ORIGINAL-URL:https://www.frsuu.org
X-WR-CALDESC:Events for First Religious Society of Newburyport
REFRESH-INTERVAL;VALUE=DURATION:PT1H
X-Robots-Tag:noindex
X-PUBLISHED-TTL:PT1H
BEGIN:VTIMEZONE
TZID:America/New_York
BEGIN:DAYLIGHT
TZOFFSETFROM:-0500
TZOFFSETTO:-0400
TZNAME:EDT
DTSTART:20230312T070000
END:DAYLIGHT
BEGIN:STANDARD
TZOFFSETFROM:-0400
TZOFFSETTO:-0500
TZNAME:EST
DTSTART:20231105T060000
END:STANDARD
BEGIN:DAYLIGHT
TZOFFSETFROM:-0500
TZOFFSETTO:-0400
TZNAME:EDT
DTSTART:20240310T070000
END:DAYLIGHT
BEGIN:STANDARD
TZOFFSETFROM:-0400
TZOFFSETTO:-0500
TZNAME:EST
DTSTART:20241103T060000
END:STANDARD
BEGIN:DAYLIGHT
TZOFFSETFROM:-0500
TZOFFSETTO:-0400
TZNAME:EDT
DTSTART:20250309T070000
END:DAYLIGHT
BEGIN:STANDARD
TZOFFSETFROM:-0400
TZOFFSETTO:-0500
TZNAME:EST
DTSTART:20251102T060000
END:STANDARD
BEGIN:DAYLIGHT
TZOFFSETFROM:-0500
TZOFFSETTO:-0400
TZNAME:EDT
DTSTART:20260308T070000
END:DAYLIGHT
BEGIN:STANDARD
TZOFFSETFROM:-0400
TZOFFSETTO:-0500
TZNAME:EST
DTSTART:20261101T060000
END:STANDARD
END:VTIMEZONE
BEGIN:VEVENT
DTSTART;TZID=America/New_York:20250516T150000
DTEND;TZID=America/New_York:20250516T173000
DTSTAMP:20260420T011037
CREATED:20241021T214720Z
LAST-MODIFIED:20250507T211835Z
UID:42264-1747407600-1747416600@www.frsuu.org
SUMMARY:Wedding Rehearsal
DESCRIPTION:Friday\, May 16\, Sanctuary\, 3-5:30pm. Ryan and Emma wedding rehearsal and photography.
URL:https://www.frsuu.org/event/wedding-rehearsal/
LOCATION:FRS Sanctuary\, 26 Pleasant St\, Newburyport\, MA\, 01950\, United States
CATEGORIES:Private Rental
ORGANIZER;CN="Cynthia Walsh":MAILTO:cynthia.walsh@frsuu.org
END:VEVENT
BEGIN:VEVENT
DTSTART;TZID=America/New_York:20241220T170000
DTEND;TZID=America/New_York:20241220T203000
DTSTAMP:20260420T011037
CREATED:20241011T123833Z
LAST-MODIFIED:20241220T214710Z
UID:42082-1734714000-1734726600@www.frsuu.org
SUMMARY:CANCELED: Piano Recital
DESCRIPTION:To be rescheduled.
URL:https://www.frsuu.org/event/piana-recital/
LOCATION:FRS Sanctuary\, 26 Pleasant St\, Newburyport\, MA\, 01950\, United States
CATEGORIES:Music,Private Rental
ORGANIZER;CN="Cynthia Walsh":MAILTO:cynthia.walsh@frsuu.org
END:VEVENT
BEGIN:VEVENT
DTSTART;TZID=America/New_York:20241219T153000
DTEND;TZID=America/New_York:20241219T173000
DTSTAMP:20260420T011037
CREATED:20240925T153249Z
LAST-MODIFIED:20241023T192204Z
UID:42360-1734622200-1734629400@www.frsuu.org
SUMMARY:Private Rental
DESCRIPTION:TITO Afterschool Program from 3:30-5:30pm\, Parish Hall 1st floor. \nOct. 24\nNov.7\, 14 & 21\nDec. 5\, 12 & 19
URL:https://www.frsuu.org/event/private-rental/2024-12-19/
LOCATION:Parish Hall 1st Floor
CATEGORIES:Private Rental
ORGANIZER;CN="Cynthia Walsh":MAILTO:cynthia.walsh@frsuu.org
END:VEVENT
BEGIN:VEVENT
DTSTART;TZID=America/New_York:20241212T153000
DTEND;TZID=America/New_York:20241212T173000
DTSTAMP:20260420T011037
CREATED:20240925T153249Z
LAST-MODIFIED:20241023T192204Z
UID:42358-1734017400-1734024600@www.frsuu.org
SUMMARY:Private Rental
DESCRIPTION:TITO Afterschool Program from 3:30-5:30pm\, Parish Hall 1st floor. \nOct. 24\nNov.7\, 14 & 21\nDec. 5\, 12 & 19
URL:https://www.frsuu.org/event/private-rental/2024-12-12/
LOCATION:Parish Hall 1st Floor
CATEGORIES:Private Rental
ORGANIZER;CN="Cynthia Walsh":MAILTO:cynthia.walsh@frsuu.org
END:VEVENT
BEGIN:VEVENT
DTSTART;TZID=America/New_York:20241205T153000
DTEND;TZID=America/New_York:20241205T173000
DTSTAMP:20260420T011037
CREATED:20240925T153249Z
LAST-MODIFIED:20241023T192203Z
UID:42357-1733412600-1733419800@www.frsuu.org
SUMMARY:Private Rental
DESCRIPTION:TITO Afterschool Program from 3:30-5:30pm\, Parish Hall 1st floor. \nOct. 24\nNov.7\, 14 & 21\nDec. 5\, 12 & 19
URL:https://www.frsuu.org/event/private-rental/2024-12-05/
LOCATION:Parish Hall 1st Floor
CATEGORIES:Private Rental
ORGANIZER;CN="Cynthia Walsh":MAILTO:cynthia.walsh@frsuu.org
END:VEVENT
BEGIN:VEVENT
DTSTART;TZID=America/New_York:20241130T100000
DTEND;TZID=America/New_York:20241130T160000
DTSTAMP:20260420T011037
CREATED:20240925T152642Z
LAST-MODIFIED:20240925T152642Z
UID:42883-1732960800-1732982400@www.frsuu.org
SUMMARY:Holiday Bazaar
DESCRIPTION:NAAM Artisan’s 2nd Annual Holiday Pop Up Market Friday\, November 29 and Saturday\, November 30 in the Lower Meetinghouse featuring handcrafted items for everyone \nFriday: 11am-5pm \nSaturday: 10am-4pm
URL:https://www.frsuu.org/event/holiday-bazaar/2024-11-30/
LOCATION:LMH Main Room\, 26 Pleasant St\, Newburyport\, MA\, 01950\, United States
CATEGORIES:Community Events
ORGANIZER;CN="Cynthia Walsh":MAILTO:cynthia.walsh@frsuu.org
END:VEVENT
BEGIN:VEVENT
DTSTART;TZID=America/New_York:20241129T110000
DTEND;TZID=America/New_York:20241129T170000
DTSTAMP:20260420T011037
CREATED:20240925T152642Z
LAST-MODIFIED:20241121T232031Z
UID:41624-1732878000-1732899600@www.frsuu.org
SUMMARY:Holiday Bazaar
DESCRIPTION:NAAM Artisan’s 2nd Annual Holiday Pop Up Market Friday\, November 29 and Saturday\, November 30 in the Lower Meetinghouse featuring handcrafted items for everyone \nFriday: 11am-5pm \nSaturday: 10am-4pm
URL:https://www.frsuu.org/event/holiday-bazaar/2024-11-29/
LOCATION:LMH Main Room\, 26 Pleasant St\, Newburyport\, MA\, 01950\, United States
CATEGORIES:Community Events
ORGANIZER;CN="Cynthia Walsh":MAILTO:cynthia.walsh@frsuu.org
END:VEVENT
BEGIN:VEVENT
DTSTART;TZID=America/New_York:20241125T190000
DTEND;TZID=America/New_York:20241125T203000
DTSTAMP:20260420T011037
CREATED:20241021T230010Z
LAST-MODIFIED:20241021T230010Z
UID:42269-1732561200-1732566600@www.frsuu.org
SUMMARY:The Breath of Life: An Introduction to Breath and Awareness Practices for Health and Wellbeing - A Four-Week Series with Matthew Daniell
DESCRIPTION:Please join NSIMC guiding teacher Matthew Daniell for a four-week Monday night series in November\, held in partnership with the First Religious Society\, Unitarian Universalist\, in Newburyport \nWhen: Monday evenings\, 7-8:30 pm\, Nov. 4\, 11\, 18\, & 25 \nWhere: First Religious Society\, Unitarian Universalist\, Parish Hall \nCost: $85 for the series ($80 cash or check) \nDescription: To breathe is to live. This is an anatomical fact\, but it can also be a powerful tool to support our inner life\, and find a quiet place of rest\, renewal\, and resilience\, inside. In this four-part series\, we will draw mainly from the ancient and modern meditative wisdom traditions to explore how mindful breathing can be a simple gateway to living a fuller\, more emotionally skillful and more spiritually rich life\, in the here and now. There will be meditation periods (15-25 minutes) with instruction and silence\, along with reflections and time for discussion in each session\, as well as exercises to bring into daily life. This series is appropriate for beginners as well as those with more meditation experience. People of all traditions are welcome\, breath is common to all that lives. \nMatthew Daniell is the guiding teacher of NSIMC. He has been practicing Buddhist meditation since the 1980s\, including over a decade in Asia\, where he practiced Zen intensively in Japan\, Tibetan Buddhism in India\, and Insight meditation in Burma\, India\, and Thailand. Read more about Matthew on his teacher page. \nThe fee for this program is $85 ($80 cash or check). To register and pay online\, just click below; to pay by cash or check\, email northshoreimc@gmail.com.
URL:https://www.frsuu.org/event/the-breath-of-life-an-introduction-to-breath-and-awareness-practices-for-health-and-wellbeing-a-four-week-series-with-matthew-daniell/2024-11-25/
LOCATION:Parish Hall 1st Floor
CATEGORIES:Private Rental
ORGANIZER;CN="Cynthia Walsh":MAILTO:cynthia.walsh@frsuu.org
END:VEVENT
BEGIN:VEVENT
DTSTART;TZID=America/New_York:20241124T150000
DTEND;TZID=America/New_York:20241124T170000
DTSTAMP:20260420T011037
CREATED:20241001T133900Z
LAST-MODIFIED:20241001T133946Z
UID:41766-1732460400-1732467600@www.frsuu.org
SUMMARY:Play Rehearsal
DESCRIPTION:Sundays from 3-5pm \nNovember 3\, 10\, 17\, 24
URL:https://www.frsuu.org/event/play-rehearsal-7/
LOCATION:Parish Hall 1st Floor
CATEGORIES:Private Rental
ORGANIZER;CN="Cynthia Walsh":MAILTO:cynthia.walsh@frsuu.org
END:VEVENT
BEGIN:VEVENT
DTSTART;TZID=America/New_York:20241123T110000
DTEND;TZID=America/New_York:20241123T160000
DTSTAMP:20260420T011037
CREATED:20241008T191853Z
LAST-MODIFIED:20241016T134044Z
UID:41989-1732359600-1732377600@www.frsuu.org
SUMMARY:Reserved for Memorial Service Reception
DESCRIPTION:November 23\, 2024\, LMH Main Room
URL:https://www.frsuu.org/event/reserved-for-memorial-service-reception-11-23-24/
LOCATION:LMH Main Room\, 26 Pleasant St\, Newburyport\, MA\, 01950\, United States
END:VEVENT
BEGIN:VEVENT
DTSTART;TZID=America/New_York:20241122T150000
DTEND;TZID=America/New_York:20241122T190000
DTSTAMP:20260420T011037
CREATED:20241011T123425Z
LAST-MODIFIED:20241121T205924Z
UID:42080-1732287600-1732302000@www.frsuu.org
SUMMARY:Rummage Sale (Friday)
DESCRIPTION:Parish Hall 1st Floor\, Friday\, November 22\, 3-7pm.
URL:https://www.frsuu.org/event/fall-rummage-sale/
LOCATION:Parish Hall 1st Floor
CATEGORIES:Community Events
ORGANIZER;CN="Cynthia Walsh":MAILTO:cynthia.walsh@frsuu.org
END:VEVENT
BEGIN:VEVENT
DTSTART;TZID=America/New_York:20241118T190000
DTEND;TZID=America/New_York:20241118T203000
DTSTAMP:20260420T011037
CREATED:20241021T230010Z
LAST-MODIFIED:20241021T230010Z
UID:42268-1731956400-1731961800@www.frsuu.org
SUMMARY:The Breath of Life: An Introduction to Breath and Awareness Practices for Health and Wellbeing - A Four-Week Series with Matthew Daniell
DESCRIPTION:Please join NSIMC guiding teacher Matthew Daniell for a four-week Monday night series in November\, held in partnership with the First Religious Society\, Unitarian Universalist\, in Newburyport \nWhen: Monday evenings\, 7-8:30 pm\, Nov. 4\, 11\, 18\, & 25 \nWhere: First Religious Society\, Unitarian Universalist\, Parish Hall \nCost: $85 for the series ($80 cash or check) \nDescription: To breathe is to live. This is an anatomical fact\, but it can also be a powerful tool to support our inner life\, and find a quiet place of rest\, renewal\, and resilience\, inside. In this four-part series\, we will draw mainly from the ancient and modern meditative wisdom traditions to explore how mindful breathing can be a simple gateway to living a fuller\, more emotionally skillful and more spiritually rich life\, in the here and now. There will be meditation periods (15-25 minutes) with instruction and silence\, along with reflections and time for discussion in each session\, as well as exercises to bring into daily life. This series is appropriate for beginners as well as those with more meditation experience. People of all traditions are welcome\, breath is common to all that lives. \nMatthew Daniell is the guiding teacher of NSIMC. He has been practicing Buddhist meditation since the 1980s\, including over a decade in Asia\, where he practiced Zen intensively in Japan\, Tibetan Buddhism in India\, and Insight meditation in Burma\, India\, and Thailand. Read more about Matthew on his teacher page. \nThe fee for this program is $85 ($80 cash or check). To register and pay online\, just click below; to pay by cash or check\, email northshoreimc@gmail.com.
URL:https://www.frsuu.org/event/the-breath-of-life-an-introduction-to-breath-and-awareness-practices-for-health-and-wellbeing-a-four-week-series-with-matthew-daniell/2024-11-18/
LOCATION:Parish Hall 1st Floor
CATEGORIES:Private Rental
ORGANIZER;CN="Cynthia Walsh":MAILTO:cynthia.walsh@frsuu.org
END:VEVENT
BEGIN:VEVENT
DTSTART;TZID=America/New_York:20241117T150000
DTEND;TZID=America/New_York:20241117T170000
DTSTAMP:20260420T011037
CREATED:20241001T133817Z
LAST-MODIFIED:20241001T134022Z
UID:41764-1731855600-1731862800@www.frsuu.org
SUMMARY:Play Rehearsal
DESCRIPTION:Sundays from 3-5pm \nNovember 3\, 10\, 17\, 24
URL:https://www.frsuu.org/event/play-rehearsal-6/
LOCATION:Parish Hall 1st Floor
CATEGORIES:Private Rental
ORGANIZER;CN="Cynthia Walsh":MAILTO:cynthia.walsh@frsuu.org
END:VEVENT
BEGIN:VEVENT
DTSTART;TZID=America/New_York:20241114T153000
DTEND;TZID=America/New_York:20241114T173000
DTSTAMP:20260420T011037
CREATED:20240925T153249Z
LAST-MODIFIED:20241023T192203Z
UID:42355-1731598200-1731605400@www.frsuu.org
SUMMARY:Private Rental
DESCRIPTION:TITO Afterschool Program from 3:30-5:30pm\, Parish Hall 1st floor. \nOct. 24\nNov.7\, 14 & 21\nDec. 5\, 12 & 19
URL:https://www.frsuu.org/event/private-rental/2024-11-14/
LOCATION:Parish Hall 1st Floor
CATEGORIES:Private Rental
ORGANIZER;CN="Cynthia Walsh":MAILTO:cynthia.walsh@frsuu.org
END:VEVENT
BEGIN:VEVENT
DTSTART;TZID=America/New_York:20241113T160000
DTEND;TZID=America/New_York:20241113T200000
DTSTAMP:20260420T011037
CREATED:20241011T160050Z
LAST-MODIFIED:20241011T160050Z
UID:42087-1731513600-1731528000@www.frsuu.org
SUMMARY:Safety Training
DESCRIPTION:CPR-Defib from 4-8pm
URL:https://www.frsuu.org/event/safety-training/
LOCATION:LMH Main Room\, 26 Pleasant St\, Newburyport\, MA\, 01950\, United States
CATEGORIES:Room Reservations
ORGANIZER;CN="Cynthia Walsh":MAILTO:cynthia.walsh@frsuu.org
END:VEVENT
BEGIN:VEVENT
DTSTART;TZID=America/New_York:20241112T183000
DTEND;TZID=America/New_York:20241112T200000
DTSTAMP:20260420T011037
CREATED:20241023T202810Z
LAST-MODIFIED:20241106T194418Z
UID:42367-1731436200-1731441600@www.frsuu.org
SUMMARY:Master Your Mind: Unlocking the Path to Spiritual Awakening and Personal Evolution
DESCRIPTION:Tuesday\, November 12\, Lower Meetinghouse\, 6:30-8pm. Join us for an inspiring evening with Manny Muros\, as he shares his 30-year spiritual journey and introduces The Mind Overlay Transformational Program\, a powerful system he created to unlock personal and spiritual evolution. \nMaster Your Mind: Unlocking the Path to Spiritual Awakening and Personal Evolution \nThrough the integration of metaphysical yogic teachings\, meditations\, and devotional practices\, Manny will guide us towards a deeper understanding of what it truly means to “be human.” Learn how to embrace the peace and joy that is your birthright. \nManny’s work—embodied in his Mind Overlay Transformational Program\, his transformative books\, and his immersive group trainings and retreats—has helped countless individuals live with purpose\, love\, and joy. He simplifies complex spiritual concepts\, making them accessible and relevant to modern life. \nIn this talk\, Manny will share his insights from decades of dedicated practice in yoga\, meditation\, and sacred wisdom traditions\, and show you how to awaken your soul’s potential and bring balance to your everyday existence. \nThis is more than just a talk—it’s an invitation to a life-altering journey toward authentic self-expression\, personal growth\, and spiritual awakening. Don’t miss this opportunity to transform your life from within! \nThere in no charge for this program. Please RSVP here!
URL:https://www.frsuu.org/event/master-your-mind-unlocking-the-path-to-spiritual-awakening-and-personal-evolution/
LOCATION:LMH Main Room\, 26 Pleasant St\, Newburyport\, MA\, 01950\, United States
CATEGORIES:Community Events,Spiritual Development
ORGANIZER;CN="Cynthia Walsh":MAILTO:cynthia.walsh@frsuu.org
END:VEVENT
BEGIN:VEVENT
DTSTART;TZID=America/New_York:20241111T190000
DTEND;TZID=America/New_York:20241111T203000
DTSTAMP:20260420T011037
CREATED:20241021T230010Z
LAST-MODIFIED:20241021T230010Z
UID:42267-1731351600-1731357000@www.frsuu.org
SUMMARY:The Breath of Life: An Introduction to Breath and Awareness Practices for Health and Wellbeing - A Four-Week Series with Matthew Daniell
DESCRIPTION:Please join NSIMC guiding teacher Matthew Daniell for a four-week Monday night series in November\, held in partnership with the First Religious Society\, Unitarian Universalist\, in Newburyport \nWhen: Monday evenings\, 7-8:30 pm\, Nov. 4\, 11\, 18\, & 25 \nWhere: First Religious Society\, Unitarian Universalist\, Parish Hall \nCost: $85 for the series ($80 cash or check) \nDescription: To breathe is to live. This is an anatomical fact\, but it can also be a powerful tool to support our inner life\, and find a quiet place of rest\, renewal\, and resilience\, inside. In this four-part series\, we will draw mainly from the ancient and modern meditative wisdom traditions to explore how mindful breathing can be a simple gateway to living a fuller\, more emotionally skillful and more spiritually rich life\, in the here and now. There will be meditation periods (15-25 minutes) with instruction and silence\, along with reflections and time for discussion in each session\, as well as exercises to bring into daily life. This series is appropriate for beginners as well as those with more meditation experience. People of all traditions are welcome\, breath is common to all that lives. \nMatthew Daniell is the guiding teacher of NSIMC. He has been practicing Buddhist meditation since the 1980s\, including over a decade in Asia\, where he practiced Zen intensively in Japan\, Tibetan Buddhism in India\, and Insight meditation in Burma\, India\, and Thailand. Read more about Matthew on his teacher page. \nThe fee for this program is $85 ($80 cash or check). To register and pay online\, just click below; to pay by cash or check\, email northshoreimc@gmail.com.
URL:https://www.frsuu.org/event/the-breath-of-life-an-introduction-to-breath-and-awareness-practices-for-health-and-wellbeing-a-four-week-series-with-matthew-daniell/2024-11-11/
LOCATION:Parish Hall 1st Floor
CATEGORIES:Private Rental
ORGANIZER;CN="Cynthia Walsh":MAILTO:cynthia.walsh@frsuu.org
END:VEVENT
BEGIN:VEVENT
DTSTART;TZID=America/New_York:20241110T150000
DTEND;TZID=America/New_York:20241110T170000
DTSTAMP:20260420T011037
CREATED:20241001T133650Z
LAST-MODIFIED:20241001T134049Z
UID:41761-1731250800-1731258000@www.frsuu.org
SUMMARY:Play Rehearsal
DESCRIPTION:Sundays from 3-5pm \nNovember 3\, 10\, 17\, 24
URL:https://www.frsuu.org/event/play-rehearsal-5/
LOCATION:Parish Hall 1st Floor
CATEGORIES:Private Rental
ORGANIZER;CN="Cynthia Walsh":MAILTO:cynthia.walsh@frsuu.org
END:VEVENT
BEGIN:VEVENT
DTSTART;TZID=America/New_York:20241107T153000
DTEND;TZID=America/New_York:20241107T173000
DTSTAMP:20260420T011037
CREATED:20240925T153249Z
LAST-MODIFIED:20241023T192202Z
UID:42354-1730993400-1731000600@www.frsuu.org
SUMMARY:Private Rental
DESCRIPTION:TITO Afterschool Program from 3:30-5:30pm\, Parish Hall 1st floor. \nOct. 24\nNov.7\, 14 & 21\nDec. 5\, 12 & 19
URL:https://www.frsuu.org/event/private-rental/2024-11-07/
LOCATION:Parish Hall 1st Floor
CATEGORIES:Private Rental
ORGANIZER;CN="Cynthia Walsh":MAILTO:cynthia.walsh@frsuu.org
END:VEVENT
BEGIN:VEVENT
DTSTART;TZID=America/New_York:20241106T180000
DTEND;TZID=America/New_York:20241106T193000
DTSTAMP:20260420T011037
CREATED:20241101T183720Z
LAST-MODIFIED:20241101T183720Z
UID:42410-1730916000-1730921400@www.frsuu.org
SUMMARY:Habitat Education Board
DESCRIPTION:Meeting for 18 in the LMH from 6-7:30pm
URL:https://www.frsuu.org/event/habitat-education-board/
LOCATION:LMH Main Room\, 26 Pleasant St\, Newburyport\, MA\, 01950\, United States
CATEGORIES:Private Rental
ORGANIZER;CN="Cynthia Walsh":MAILTO:cynthia.walsh@frsuu.org
END:VEVENT
BEGIN:VEVENT
DTSTART;TZID=America/New_York:20241104T190000
DTEND;TZID=America/New_York:20241104T203000
DTSTAMP:20260420T011037
CREATED:20241021T230010Z
LAST-MODIFIED:20241021T230010Z
UID:42266-1730746800-1730752200@www.frsuu.org
SUMMARY:The Breath of Life: An Introduction to Breath and Awareness Practices for Health and Wellbeing - A Four-Week Series with Matthew Daniell
DESCRIPTION:Please join NSIMC guiding teacher Matthew Daniell for a four-week Monday night series in November\, held in partnership with the First Religious Society\, Unitarian Universalist\, in Newburyport \nWhen: Monday evenings\, 7-8:30 pm\, Nov. 4\, 11\, 18\, & 25 \nWhere: First Religious Society\, Unitarian Universalist\, Parish Hall \nCost: $85 for the series ($80 cash or check) \nDescription: To breathe is to live. This is an anatomical fact\, but it can also be a powerful tool to support our inner life\, and find a quiet place of rest\, renewal\, and resilience\, inside. In this four-part series\, we will draw mainly from the ancient and modern meditative wisdom traditions to explore how mindful breathing can be a simple gateway to living a fuller\, more emotionally skillful and more spiritually rich life\, in the here and now. There will be meditation periods (15-25 minutes) with instruction and silence\, along with reflections and time for discussion in each session\, as well as exercises to bring into daily life. This series is appropriate for beginners as well as those with more meditation experience. People of all traditions are welcome\, breath is common to all that lives. \nMatthew Daniell is the guiding teacher of NSIMC. He has been practicing Buddhist meditation since the 1980s\, including over a decade in Asia\, where he practiced Zen intensively in Japan\, Tibetan Buddhism in India\, and Insight meditation in Burma\, India\, and Thailand. Read more about Matthew on his teacher page. \nThe fee for this program is $85 ($80 cash or check). To register and pay online\, just click below; to pay by cash or check\, email northshoreimc@gmail.com.
URL:https://www.frsuu.org/event/the-breath-of-life-an-introduction-to-breath-and-awareness-practices-for-health-and-wellbeing-a-four-week-series-with-matthew-daniell/2024-11-04/
LOCATION:Parish Hall 1st Floor
CATEGORIES:Private Rental
ORGANIZER;CN="Cynthia Walsh":MAILTO:cynthia.walsh@frsuu.org
END:VEVENT
BEGIN:VEVENT
DTSTART;TZID=America/New_York:20241103T150000
DTEND;TZID=America/New_York:20241103T170000
DTSTAMP:20260420T011037
CREATED:20241001T133555Z
LAST-MODIFIED:20241001T134121Z
UID:41759-1730646000-1730653200@www.frsuu.org
SUMMARY:Play Rehearsal
DESCRIPTION:Sundays from 3-5pm \nNovember 3\, 10\, 17\, 24
URL:https://www.frsuu.org/event/play-rehearsal-4/
LOCATION:Parish Hall 1st Floor
CATEGORIES:Private Rental
ORGANIZER;CN="Cynthia Walsh":MAILTO:cynthia.walsh@frsuu.org
END:VEVENT
BEGIN:VEVENT
DTSTART;TZID=America/New_York:20241030T133000
DTEND;TZID=America/New_York:20241030T150000
DTSTAMP:20260420T011037
CREATED:20241011T122430Z
LAST-MODIFIED:20241021T210246Z
UID:42078-1730295000-1730300400@www.frsuu.org
SUMMARY:Grant Meeting
DESCRIPTION:October 30\, Grants/Facilities Team Meeting with need for Zoom\, LMH Main Room\, 1:30-3pm.
URL:https://www.frsuu.org/event/grant-meeting/
LOCATION:LMH Main Room\, 26 Pleasant St\, Newburyport\, MA\, 01950\, United States
CATEGORIES:Grants Team
ORGANIZER;CN="Cynthia Walsh":MAILTO:cynthia.walsh@frsuu.org
END:VEVENT
BEGIN:VEVENT
DTSTART;TZID=America/New_York:20241027T150000
DTEND;TZID=America/New_York:20241027T170000
DTSTAMP:20260420T011037
CREATED:20241001T133457Z
LAST-MODIFIED:20241001T134155Z
UID:41757-1730041200-1730048400@www.frsuu.org
SUMMARY:Play Rehearsal
DESCRIPTION:Sundays from 3-5pm \nOctober 13\, 20\, 27 \nNovember 3\, 10\, 17\, 24
URL:https://www.frsuu.org/event/play-rehearsal-3/
LOCATION:Parish Hall 1st Floor
CATEGORIES:Private Rental
ORGANIZER;CN="Cynthia Walsh":MAILTO:cynthia.walsh@frsuu.org
END:VEVENT
BEGIN:VEVENT
DTSTART;TZID=America/New_York:20241024T153000
DTEND;TZID=America/New_York:20241024T173000
DTSTAMP:20260420T011037
CREATED:20240925T153249Z
LAST-MODIFIED:20241023T192202Z
UID:41627-1729783800-1729791000@www.frsuu.org
SUMMARY:Private Rental
DESCRIPTION:TITO Afterschool Program from 3:30-5:30pm\, Parish Hall 1st floor. \nOct. 24\nNov.7\, 14 & 21\nDec. 5\, 12 & 19
URL:https://www.frsuu.org/event/private-rental/2024-10-24/
LOCATION:Parish Hall 1st Floor
CATEGORIES:Private Rental
ORGANIZER;CN="Cynthia Walsh":MAILTO:cynthia.walsh@frsuu.org
END:VEVENT
BEGIN:VEVENT
DTSTART;TZID=America/New_York:20241021T100000
DTEND;TZID=America/New_York:20241021T150000
DTSTAMP:20260420T011037
CREATED:20241015T224429Z
LAST-MODIFIED:20241015T224526Z
UID:42127-1729504800-1729522800@www.frsuu.org
SUMMARY:Meeting
DESCRIPTION:Newburyport School District Meeting \n  \n 
URL:https://www.frsuu.org/event/meeting/
LOCATION:Parish Hall 1st Floor
CATEGORIES:Community Events,Private Rental
ORGANIZER;CN="Cynthia Walsh":MAILTO:cynthia.walsh@frsuu.org
END:VEVENT
BEGIN:VEVENT
DTSTART;TZID=America/New_York:20241020T150000
DTEND;TZID=America/New_York:20241020T170000
DTSTAMP:20260420T011037
CREATED:20241001T134703Z
LAST-MODIFIED:20241001T134703Z
UID:41773-1729436400-1729443600@www.frsuu.org
SUMMARY:Play Rehearsal
DESCRIPTION:Sundays from 3-5pm \nOctober 13\, 20\, 27 \nNovember 3\, 10\, 17\, 24
URL:https://www.frsuu.org/event/play-rehearsal-8/
LOCATION:Parish Hall 1st Floor
CATEGORIES:Private Rental
ORGANIZER;CN="Cynthia Walsh":MAILTO:cynthia.walsh@frsuu.org
END:VEVENT
BEGIN:VEVENT
DTSTART;TZID=America/New_York:20241019T140000
DTEND;TZID=America/New_York:20241019T180000
DTSTAMP:20260420T011037
CREATED:20240930T200846Z
LAST-MODIFIED:20240930T200846Z
UID:41731-1729346400-1729360800@www.frsuu.org
SUMMARY:Reserved
DESCRIPTION:LMH Room A reserved from 2-6pm.
URL:https://www.frsuu.org/event/reserved-19/
LOCATION:LMH Room A\, 26 Pleasant St\, Newburyport\, MA\, 01950\, United States
ORGANIZER;CN="Cynthia Walsh":MAILTO:cynthia.walsh@frsuu.org
END:VEVENT
BEGIN:VEVENT
DTSTART;TZID=America/New_York:20241019T140000
DTEND;TZID=America/New_York:20241019T180000
DTSTAMP:20260420T011037
CREATED:20240820T133744Z
LAST-MODIFIED:20240930T200742Z
UID:39786-1729346400-1729360800@www.frsuu.org
SUMMARY:Reserved
DESCRIPTION:Sanctuary reserved from 2-6pm.
URL:https://www.frsuu.org/event/reserved-10/
LOCATION:FRS Sanctuary\, 26 Pleasant St\, Newburyport\, MA\, 01950\, United States
CATEGORIES:Room Reservations
ORGANIZER;CN="Cynthia Walsh":MAILTO:cynthia.walsh@frsuu.org
END:VEVENT
BEGIN:VEVENT
DTSTART;TZID=America/New_York:20241018T160000
DTEND;TZID=America/New_York:20241018T170000
DTSTAMP:20260420T011037
CREATED:20240906T185754Z
LAST-MODIFIED:20241008T152326Z
UID:40388-1729267200-1729270800@www.frsuu.org
SUMMARY:Reserved-Private Rental
DESCRIPTION:Sanctuary
URL:https://www.frsuu.org/event/reserved-9/
LOCATION:FRS Sanctuary\, 26 Pleasant St\, Newburyport\, MA\, 01950\, United States
CATEGORIES:Room Reservations
ORGANIZER;CN="Cynthia Walsh":MAILTO:cynthia.walsh@frsuu.org
END:VEVENT
END:VCALENDAR