BEGIN:VCALENDAR
VERSION:2.0
PRODID:-//First Religious Society of Newburyport - ECPv6.15.20//NONSGML v1.0//EN
CALSCALE:GREGORIAN
METHOD:PUBLISH
X-ORIGINAL-URL:https://www.frsuu.org
X-WR-CALDESC:Events for First Religious Society of Newburyport
REFRESH-INTERVAL;VALUE=DURATION:PT1H
X-Robots-Tag:noindex
X-PUBLISHED-TTL:PT1H
BEGIN:VTIMEZONE
TZID:America/New_York
BEGIN:DAYLIGHT
TZOFFSETFROM:-0500
TZOFFSETTO:-0400
TZNAME:EDT
DTSTART:20230312T070000
END:DAYLIGHT
BEGIN:STANDARD
TZOFFSETFROM:-0400
TZOFFSETTO:-0500
TZNAME:EST
DTSTART:20231105T060000
END:STANDARD
BEGIN:DAYLIGHT
TZOFFSETFROM:-0500
TZOFFSETTO:-0400
TZNAME:EDT
DTSTART:20240310T070000
END:DAYLIGHT
BEGIN:STANDARD
TZOFFSETFROM:-0400
TZOFFSETTO:-0500
TZNAME:EST
DTSTART:20241103T060000
END:STANDARD
BEGIN:DAYLIGHT
TZOFFSETFROM:-0500
TZOFFSETTO:-0400
TZNAME:EDT
DTSTART:20250309T070000
END:DAYLIGHT
BEGIN:STANDARD
TZOFFSETFROM:-0400
TZOFFSETTO:-0500
TZNAME:EST
DTSTART:20251102T060000
END:STANDARD
BEGIN:DAYLIGHT
TZOFFSETFROM:-0500
TZOFFSETTO:-0400
TZNAME:EDT
DTSTART:20260308T070000
END:DAYLIGHT
BEGIN:STANDARD
TZOFFSETFROM:-0400
TZOFFSETTO:-0500
TZNAME:EST
DTSTART:20261101T060000
END:STANDARD
BEGIN:DAYLIGHT
TZOFFSETFROM:-0500
TZOFFSETTO:-0400
TZNAME:EDT
DTSTART:20270314T070000
END:DAYLIGHT
BEGIN:STANDARD
TZOFFSETFROM:-0400
TZOFFSETTO:-0500
TZNAME:EST
DTSTART:20271107T060000
END:STANDARD
END:VTIMEZONE
BEGIN:VEVENT
DTSTART;TZID=America/New_York:20260412T113000
DTEND;TZID=America/New_York:20260412T140000
DTSTAMP:20260421T192154
CREATED:20260304T150403Z
LAST-MODIFIED:20260304T150405Z
UID:50565-1775993400-1776002400@www.frsuu.org
SUMMARY:Rummage Sale
DESCRIPTION:Sunday\, April 12\, Parish Hall 1st Floor\, 11:30am-2pm
URL:https://www.frsuu.org/event/rummage-sale-5/
LOCATION:Parish Hall 1st Floor
ORGANIZER;CN="Jenn Day":MAILTO:jennd42003@yahoo.com
END:VEVENT
BEGIN:VEVENT
DTSTART;TZID=America/New_York:20260411T090000
DTEND;TZID=America/New_York:20260411T160000
DTSTAMP:20260421T192154
CREATED:20260304T150222Z
LAST-MODIFIED:20260304T150225Z
UID:50563-1775898000-1775923200@www.frsuu.org
SUMMARY:Rummage Sale
DESCRIPTION:Saturday\, April 11\, Parish Hall 1st Floor\, 9am-4pm
URL:https://www.frsuu.org/event/rummage-sale-4/
LOCATION:Parish Hall 1st Floor
ORGANIZER;CN="Jenn Day":MAILTO:jennd42003@yahoo.com
END:VEVENT
BEGIN:VEVENT
DTSTART;TZID=America/New_York:20260410T150000
DTEND;TZID=America/New_York:20260410T190000
DTSTAMP:20260421T192154
CREATED:20260304T150051Z
LAST-MODIFIED:20260304T150054Z
UID:50561-1775833200-1775847600@www.frsuu.org
SUMMARY:Rummage Sale
DESCRIPTION:Friday\, April 10\, Parish Hall 1st Floor\, 3-7pm.
URL:https://www.frsuu.org/event/rummage-sale-3/
LOCATION:Parish Hall 1st Floor
ORGANIZER;CN="Jenn Day":MAILTO:jennd42003@yahoo.com
END:VEVENT
BEGIN:VEVENT
DTSTART;VALUE=DATE:20260409
DTEND;VALUE=DATE:20260410
DTSTAMP:20260421T192154
CREATED:20260304T151316Z
LAST-MODIFIED:20260304T151316Z
UID:50570-1775692800-1775779199@www.frsuu.org
SUMMARY:Rummage Sale Sorting
DESCRIPTION:Thursday\, April 9\, Parish Hall 1st Floor\, all day
URL:https://www.frsuu.org/event/rummage-sale-sorting/
LOCATION:Parish Hall 1st Floor
ORGANIZER;CN="Jenn Day":MAILTO:jennd42003@yahoo.com
END:VEVENT
BEGIN:VEVENT
DTSTART;TZID=America/New_York:20260408T090000
DTEND;TZID=America/New_York:20260408T130000
DTSTAMP:20260421T192154
CREATED:20260303T200821Z
LAST-MODIFIED:20260304T150837Z
UID:50554-1775638800-1775653200@www.frsuu.org
SUMMARY:Rummage Sale Item Dropoff
DESCRIPTION:Monday\, April 6-Wednesday\, April 8\, Parish Hall 1st Floor\, 9am-1pm. \nOnly clothing and accessories will be accepted for the rummage sale.
URL:https://www.frsuu.org/event/rummage-sale-item-dropoff/2026-04-08/
LOCATION:Parish Hall 1st Floor
ORGANIZER;CN="Jenn Day":MAILTO:jennd42003@yahoo.com
END:VEVENT
BEGIN:VEVENT
DTSTART;TZID=America/New_York:20260407T090000
DTEND;TZID=America/New_York:20260407T130000
DTSTAMP:20260421T192154
CREATED:20260303T200821Z
LAST-MODIFIED:20260304T150836Z
UID:50553-1775552400-1775566800@www.frsuu.org
SUMMARY:Rummage Sale Item Dropoff
DESCRIPTION:Monday\, April 6-Wednesday\, April 8\, Parish Hall 1st Floor\, 9am-1pm. \nOnly clothing and accessories will be accepted for the rummage sale.
URL:https://www.frsuu.org/event/rummage-sale-item-dropoff/2026-04-07/
LOCATION:Parish Hall 1st Floor
ORGANIZER;CN="Jenn Day":MAILTO:jennd42003@yahoo.com
END:VEVENT
BEGIN:VEVENT
DTSTART;TZID=America/New_York:20260406T090000
DTEND;TZID=America/New_York:20260406T130000
DTSTAMP:20260421T192154
CREATED:20260303T200821Z
LAST-MODIFIED:20260304T150834Z
UID:50552-1775466000-1775480400@www.frsuu.org
SUMMARY:Rummage Sale Item Dropoff
DESCRIPTION:Monday\, April 6-Wednesday\, April 8\, Parish Hall 1st Floor\, 9am-1pm. \nOnly clothing and accessories will be accepted for the rummage sale.
URL:https://www.frsuu.org/event/rummage-sale-item-dropoff/2026-04-06/
LOCATION:Parish Hall 1st Floor
ORGANIZER;CN="Jenn Day":MAILTO:jennd42003@yahoo.com
END:VEVENT
BEGIN:VEVENT
DTSTART;TZID=America/New_York:20251025T090000
DTEND;TZID=America/New_York:20251025T150000
DTSTAMP:20260421T192154
CREATED:20250908T192525Z
LAST-MODIFIED:20250925T182319Z
UID:47668-1761382800-1761404400@www.frsuu.org
SUMMARY:Rummage Sale
DESCRIPTION:Friday\, October 24\, Parish Hall 1st Floor\, 3-7pm; Saturday\, October 25\, Parish Hall 1st Floor\, 9am-3pm
URL:https://www.frsuu.org/event/rummage-sale-2/
LOCATION:Parish Hall 1st Floor
ORGANIZER;CN="Jenn Day":MAILTO:jennd42003@yahoo.com
END:VEVENT
BEGIN:VEVENT
DTSTART;TZID=America/New_York:20251024T150000
DTEND;TZID=America/New_York:20251024T190000
DTSTAMP:20260421T192154
CREATED:20250908T192442Z
LAST-MODIFIED:20250925T182225Z
UID:47665-1761318000-1761332400@www.frsuu.org
SUMMARY:Rummage Sale
DESCRIPTION:Friday\, October 24\, Parish Hall 1st Floor\, 3-7pm; Saturday\, October 25\, Parish Hall 1st Floor\, 9am-3pm
URL:https://www.frsuu.org/event/rummage-sale/
LOCATION:Parish Hall 1st Floor
ORGANIZER;CN="Jenn Day":MAILTO:jennd42003@yahoo.com
END:VEVENT
BEGIN:VEVENT
DTSTART;TZID=America/New_York:20251023T090000
DTEND;TZID=America/New_York:20251023T150000
DTSTAMP:20260421T192154
CREATED:20250925T182739Z
LAST-MODIFIED:20250925T182739Z
UID:48310-1761210000-1761231600@www.frsuu.org
SUMMARY:Rummage Sale Donation Drop-off
DESCRIPTION:Donation drop-off only: Thursday\, October 23\, Parish Hall 1st Floor\, 9am-3pm
URL:https://www.frsuu.org/event/rummage-sale-donation-drop-off-2/
LOCATION:Parish Hall 1st Floor
ORGANIZER;CN="Jenn Day":MAILTO:jennd42003@yahoo.com
END:VEVENT
BEGIN:VEVENT
DTSTART;TZID=America/New_York:20251022T090000
DTEND;TZID=America/New_York:20251022T130000
DTSTAMP:20260421T192154
CREATED:20250925T182551Z
LAST-MODIFIED:20250925T182551Z
UID:48308-1761123600-1761138000@www.frsuu.org
SUMMARY:Rummage Sale Donation Drop-off
DESCRIPTION:Donation drop-off only: Monday\, October 20-Wednesday\, October 22\, Parish Hall 1st Floor\, 9am-1pm
URL:https://www.frsuu.org/event/rummage-sale-donation-drop-off/2025-10-22/
LOCATION:Parish Hall 1st Floor
ORGANIZER;CN="Jenn Day":MAILTO:jennd42003@yahoo.com
END:VEVENT
BEGIN:VEVENT
DTSTART;TZID=America/New_York:20251021T090000
DTEND;TZID=America/New_York:20251021T130000
DTSTAMP:20260421T192154
CREATED:20250925T182551Z
LAST-MODIFIED:20250925T182551Z
UID:48307-1761037200-1761051600@www.frsuu.org
SUMMARY:Rummage Sale Donation Drop-off
DESCRIPTION:Donation drop-off only: Monday\, October 20-Wednesday\, October 22\, Parish Hall 1st Floor\, 9am-1pm
URL:https://www.frsuu.org/event/rummage-sale-donation-drop-off/2025-10-21/
LOCATION:Parish Hall 1st Floor
ORGANIZER;CN="Jenn Day":MAILTO:jennd42003@yahoo.com
END:VEVENT
BEGIN:VEVENT
DTSTART;TZID=America/New_York:20251020T090000
DTEND;TZID=America/New_York:20251020T130000
DTSTAMP:20260421T192154
CREATED:20250925T182551Z
LAST-MODIFIED:20250925T182551Z
UID:48306-1760950800-1760965200@www.frsuu.org
SUMMARY:Rummage Sale Donation Drop-off
DESCRIPTION:Donation drop-off only: Monday\, October 20-Wednesday\, October 22\, Parish Hall 1st Floor\, 9am-1pm
URL:https://www.frsuu.org/event/rummage-sale-donation-drop-off/2025-10-20/
LOCATION:Parish Hall 1st Floor
ORGANIZER;CN="Jenn Day":MAILTO:jennd42003@yahoo.com
END:VEVENT
BEGIN:VEVENT
DTSTART;TZID=America/New_York:20251019T083000
DTEND;TZID=America/New_York:20251019T130000
DTSTAMP:20260421T192154
CREATED:20250925T191438Z
LAST-MODIFIED:20250925T191438Z
UID:48316-1760862600-1760878800@www.frsuu.org
SUMMARY:Rummage Sale Donation Drop-off
DESCRIPTION:Sunday\, October 19\, Parish Hall 1st Floor\, 8:30am-1pm
URL:https://www.frsuu.org/event/rummage-sale-donation-drop-off-3/
LOCATION:Parish Hall 1st Floor
ORGANIZER;CN="Jenn Day":MAILTO:jennd42003@yahoo.com
END:VEVENT
BEGIN:VEVENT
DTSTART;TZID=America/New_York:20240608T090000
DTEND;TZID=America/New_York:20240608T160000
DTSTAMP:20260421T192154
CREATED:20240607T173458Z
LAST-MODIFIED:20240607T173458Z
UID:38360-1717837200-1717862400@www.frsuu.org
SUMMARY:FRS Rummage Sale (Day 2)
DESCRIPTION:Join us in Parish Hall for Day 2 of the Rummage Sale \nVolunteers are needed to set up\, sort and clean up on June 6\,7\, and 8. Please email Jenn Day at jennd42003@yahoo.com for schedule options and to sign up.
URL:https://www.frsuu.org/event/frs-rummage-sale-day-2/
LOCATION:Parish Hall – 2nd Floor
CATEGORIES:Community Events
ORGANIZER;CN="Jenn Day":MAILTO:jennd42003@yahoo.com
END:VEVENT
BEGIN:VEVENT
DTSTART;TZID=America/New_York:20240607T150000
DTEND;TZID=America/New_York:20240607T190000
DTSTAMP:20260421T192154
CREATED:20240605T192851Z
LAST-MODIFIED:20240607T173817Z
UID:38163-1717772400-1717786800@www.frsuu.org
SUMMARY:FRS Rummage Sale
DESCRIPTION:Rummage is coming! Please drop off all your donations directly at the Parish Hall on Friday\, May 24th or Friday\, May 31st between 10am-4pm. The side of the Parish Hall will be unlocked during that time. \nVolunteers are needed to set up\, sort and clean up on June 6\,7\, and 8. Please email Jenn Day at jennd42003@yahoo.com for schedule options and to sign up.
URL:https://www.frsuu.org/event/frs-rummage-sale/
LOCATION:Parish Hall – 2nd Floor
CATEGORIES:Community Events
ORGANIZER;CN="Jenn Day":MAILTO:jennd42003@yahoo.com
END:VEVENT
END:VCALENDAR