BEGIN:VCALENDAR
VERSION:2.0
PRODID:-//First Religious Society of Newburyport - ECPv6.15.20//NONSGML v1.0//EN
CALSCALE:GREGORIAN
METHOD:PUBLISH
X-WR-CALNAME:First Religious Society of Newburyport
X-ORIGINAL-URL:https://www.frsuu.org
X-WR-CALDESC:Events for First Religious Society of Newburyport
REFRESH-INTERVAL;VALUE=DURATION:PT1H
X-Robots-Tag:noindex
X-PUBLISHED-TTL:PT1H
BEGIN:VTIMEZONE
TZID:America/New_York
BEGIN:DAYLIGHT
TZOFFSETFROM:-0500
TZOFFSETTO:-0400
TZNAME:EDT
DTSTART:20240310T070000
END:DAYLIGHT
BEGIN:STANDARD
TZOFFSETFROM:-0400
TZOFFSETTO:-0500
TZNAME:EST
DTSTART:20241103T060000
END:STANDARD
BEGIN:DAYLIGHT
TZOFFSETFROM:-0500
TZOFFSETTO:-0400
TZNAME:EDT
DTSTART:20250309T070000
END:DAYLIGHT
BEGIN:STANDARD
TZOFFSETFROM:-0400
TZOFFSETTO:-0500
TZNAME:EST
DTSTART:20251102T060000
END:STANDARD
BEGIN:DAYLIGHT
TZOFFSETFROM:-0500
TZOFFSETTO:-0400
TZNAME:EDT
DTSTART:20260308T070000
END:DAYLIGHT
BEGIN:STANDARD
TZOFFSETFROM:-0400
TZOFFSETTO:-0500
TZNAME:EST
DTSTART:20261101T060000
END:STANDARD
BEGIN:DAYLIGHT
TZOFFSETFROM:-0500
TZOFFSETTO:-0400
TZNAME:EDT
DTSTART:20270314T070000
END:DAYLIGHT
BEGIN:STANDARD
TZOFFSETFROM:-0400
TZOFFSETTO:-0500
TZNAME:EST
DTSTART:20271107T060000
END:STANDARD
END:VTIMEZONE
BEGIN:VEVENT
DTSTART;TZID=America/New_York:20260419T103000
DTEND;TZID=America/New_York:20260419T113000
DTSTAMP:20260421T162956
CREATED:20250922T163733Z
LAST-MODIFIED:20260403T151733Z
UID:48125-1776594600-1776598200@www.frsuu.org
SUMMARY:Young Church
DESCRIPTION:Sundays\, from September 14\, 2025 until May 17\, 2026\, LMH Main Room and Nursery/Conf Room\, 10:30-11:30am
URL:https://www.frsuu.org/event/young-church-3/2026-04-19/
LOCATION:LMH Main Room\, 26 Pleasant St\, Newburyport\, MA\, 01950\, United States
CATEGORIES:Young Church
ORGANIZER;CN="Mara Flynn":MAILTO:mara.flynn@frsuu.org
END:VEVENT
BEGIN:VEVENT
DTSTART;TZID=America/New_York:20260412T103000
DTEND;TZID=America/New_York:20260412T113000
DTSTAMP:20260421T162956
CREATED:20250922T163733Z
LAST-MODIFIED:20260403T151732Z
UID:48124-1775989800-1775993400@www.frsuu.org
SUMMARY:Young Church
DESCRIPTION:Sundays\, from September 14\, 2025 until May 17\, 2026\, LMH Main Room and Nursery/Conf Room\, 10:30-11:30am
URL:https://www.frsuu.org/event/young-church-3/2026-04-12/
LOCATION:LMH Main Room\, 26 Pleasant St\, Newburyport\, MA\, 01950\, United States
CATEGORIES:Young Church
ORGANIZER;CN="Mara Flynn":MAILTO:mara.flynn@frsuu.org
END:VEVENT
BEGIN:VEVENT
DTSTART;TZID=America/New_York:20260329T113000
DTEND;TZID=America/New_York:20260329T130000
DTSTAMP:20260421T162956
CREATED:20260211T213451Z
LAST-MODIFIED:20260211T213452Z
UID:50309-1774783800-1774789200@www.frsuu.org
SUMMARY:Intergenerational Fellowship
DESCRIPTION:Sunday\, March 29\, Parish Hall 1st Floor\, 11:30am-1pm
URL:https://www.frsuu.org/event/intergenerational-fellowship-2/
LOCATION:Parish Hall 1st Floor
ORGANIZER;CN="Mara Flynn":MAILTO:mara.flynn@frsuu.org
END:VEVENT
BEGIN:VEVENT
DTSTART;TZID=America/New_York:20260329T103000
DTEND;TZID=America/New_York:20260329T113000
DTSTAMP:20260421T162956
CREATED:20250922T163733Z
LAST-MODIFIED:20260403T151731Z
UID:48122-1774780200-1774783800@www.frsuu.org
SUMMARY:Young Church
DESCRIPTION:Sundays\, from September 14\, 2025 until May 17\, 2026\, LMH Main Room and Nursery/Conf Room\, 10:30-11:30am
URL:https://www.frsuu.org/event/young-church-3/2026-03-29/
LOCATION:LMH Main Room\, 26 Pleasant St\, Newburyport\, MA\, 01950\, United States
CATEGORIES:Young Church
ORGANIZER;CN="Mara Flynn":MAILTO:mara.flynn@frsuu.org
END:VEVENT
BEGIN:VEVENT
DTSTART;TZID=America/New_York:20260329T094500
DTEND;TZID=America/New_York:20260329T101500
DTSTAMP:20260421T162956
CREATED:20260219T215300Z
LAST-MODIFIED:20260219T215300Z
UID:50471-1774777500-1774779300@www.frsuu.org
SUMMARY:Young Church Singers
DESCRIPTION:Sundays\, March 15\, 22\, and 29\, LMH Room A\, 9:45-10:15am
URL:https://www.frsuu.org/event/young-church-singers-4/2026-03-29/
LOCATION:LMH Room A\, 26 Pleasant St\, Newburyport\, MA\, 01950\, United States
ORGANIZER;CN="Mara Flynn":MAILTO:mara.flynn@frsuu.org
END:VEVENT
BEGIN:VEVENT
DTSTART;TZID=America/New_York:20260322T103000
DTEND;TZID=America/New_York:20260322T113000
DTSTAMP:20260421T162956
CREATED:20250922T163733Z
LAST-MODIFIED:20260403T151730Z
UID:48121-1774175400-1774179000@www.frsuu.org
SUMMARY:Young Church
DESCRIPTION:Sundays\, from September 14\, 2025 until May 17\, 2026\, LMH Main Room and Nursery/Conf Room\, 10:30-11:30am
URL:https://www.frsuu.org/event/young-church-3/2026-03-22/
LOCATION:LMH Main Room\, 26 Pleasant St\, Newburyport\, MA\, 01950\, United States
CATEGORIES:Young Church
ORGANIZER;CN="Mara Flynn":MAILTO:mara.flynn@frsuu.org
END:VEVENT
BEGIN:VEVENT
DTSTART;TZID=America/New_York:20260322T094500
DTEND;TZID=America/New_York:20260322T101500
DTSTAMP:20260421T162956
CREATED:20260219T215300Z
LAST-MODIFIED:20260219T215300Z
UID:50470-1774172700-1774174500@www.frsuu.org
SUMMARY:Young Church Singers
DESCRIPTION:Sundays\, March 15\, 22\, and 29\, LMH Room A\, 9:45-10:15am
URL:https://www.frsuu.org/event/young-church-singers-4/2026-03-22/
LOCATION:LMH Room A\, 26 Pleasant St\, Newburyport\, MA\, 01950\, United States
ORGANIZER;CN="Mara Flynn":MAILTO:mara.flynn@frsuu.org
END:VEVENT
BEGIN:VEVENT
DTSTART;TZID=America/New_York:20260321T170000
DTEND;TZID=America/New_York:20260322T080000
DTSTAMP:20260421T162956
CREATED:20260311T200926Z
LAST-MODIFIED:20260311T200926Z
UID:50605-1774112400-1774166400@www.frsuu.org
SUMMARY:Youth Group Church Event
DESCRIPTION:Saturday\, March 21\, Lower Meetinghouse\, 5pm
URL:https://www.frsuu.org/event/youth-group-church-event/
LOCATION:LMH Main Room\, 26 Pleasant St\, Newburyport\, MA\, 01950\, United States
ORGANIZER;CN="Mara Flynn":MAILTO:mara.flynn@frsuu.org
END:VEVENT
BEGIN:VEVENT
DTSTART;TZID=America/New_York:20260315T103000
DTEND;TZID=America/New_York:20260315T113000
DTSTAMP:20260421T162956
CREATED:20250922T163733Z
LAST-MODIFIED:20260403T151729Z
UID:48120-1773570600-1773574200@www.frsuu.org
SUMMARY:Young Church
DESCRIPTION:Sundays\, from September 14\, 2025 until May 17\, 2026\, LMH Main Room and Nursery/Conf Room\, 10:30-11:30am
URL:https://www.frsuu.org/event/young-church-3/2026-03-15/
LOCATION:LMH Main Room\, 26 Pleasant St\, Newburyport\, MA\, 01950\, United States
CATEGORIES:Young Church
ORGANIZER;CN="Mara Flynn":MAILTO:mara.flynn@frsuu.org
END:VEVENT
BEGIN:VEVENT
DTSTART;TZID=America/New_York:20260315T094500
DTEND;TZID=America/New_York:20260315T101500
DTSTAMP:20260421T162956
CREATED:20260219T215300Z
LAST-MODIFIED:20260219T215300Z
UID:50469-1773567900-1773569700@www.frsuu.org
SUMMARY:Young Church Singers
DESCRIPTION:Sundays\, March 15\, 22\, and 29\, LMH Room A\, 9:45-10:15am
URL:https://www.frsuu.org/event/young-church-singers-4/2026-03-15/
LOCATION:LMH Room A\, 26 Pleasant St\, Newburyport\, MA\, 01950\, United States
ORGANIZER;CN="Mara Flynn":MAILTO:mara.flynn@frsuu.org
END:VEVENT
BEGIN:VEVENT
DTSTART;TZID=America/New_York:20260308T103000
DTEND;TZID=America/New_York:20260308T113000
DTSTAMP:20260421T162956
CREATED:20250922T163733Z
LAST-MODIFIED:20260403T151728Z
UID:48119-1772965800-1772969400@www.frsuu.org
SUMMARY:Young Church
DESCRIPTION:Sundays\, from September 14\, 2025 until May 17\, 2026\, LMH Main Room and Nursery/Conf Room\, 10:30-11:30am
URL:https://www.frsuu.org/event/young-church-3/2026-03-08/
LOCATION:LMH Main Room\, 26 Pleasant St\, Newburyport\, MA\, 01950\, United States
CATEGORIES:Young Church
ORGANIZER;CN="Mara Flynn":MAILTO:mara.flynn@frsuu.org
END:VEVENT
BEGIN:VEVENT
DTSTART;TZID=America/New_York:20260301T120000
DTEND;TZID=America/New_York:20260301T133000
DTSTAMP:20260421T162956
CREATED:20260211T212953Z
LAST-MODIFIED:20260211T212953Z
UID:50307-1772366400-1772371800@www.frsuu.org
SUMMARY:Youth Group
DESCRIPTION:Sunday\, March 1\, 12-1:30pm
URL:https://www.frsuu.org/event/youth-group-3/
ORGANIZER;CN="Mara Flynn":MAILTO:mara.flynn@frsuu.org
END:VEVENT
BEGIN:VEVENT
DTSTART;TZID=America/New_York:20260301T103000
DTEND;TZID=America/New_York:20260301T113000
DTSTAMP:20260421T162956
CREATED:20250922T163733Z
LAST-MODIFIED:20260403T151727Z
UID:48118-1772361000-1772364600@www.frsuu.org
SUMMARY:Young Church
DESCRIPTION:Sundays\, from September 14\, 2025 until May 17\, 2026\, LMH Main Room and Nursery/Conf Room\, 10:30-11:30am
URL:https://www.frsuu.org/event/young-church-3/2026-03-01/
LOCATION:LMH Main Room\, 26 Pleasant St\, Newburyport\, MA\, 01950\, United States
CATEGORIES:Young Church
ORGANIZER;CN="Mara Flynn":MAILTO:mara.flynn@frsuu.org
END:VEVENT
BEGIN:VEVENT
DTSTART;TZID=America/New_York:20260222T103000
DTEND;TZID=America/New_York:20260222T113000
DTSTAMP:20260421T162956
CREATED:20250922T163733Z
LAST-MODIFIED:20260403T151724Z
UID:48117-1771756200-1771759800@www.frsuu.org
SUMMARY:Young Church
DESCRIPTION:Sundays\, from September 14\, 2025 until May 17\, 2026\, LMH Main Room and Nursery/Conf Room\, 10:30-11:30am
URL:https://www.frsuu.org/event/young-church-3/2026-02-22/
LOCATION:LMH Main Room\, 26 Pleasant St\, Newburyport\, MA\, 01950\, United States
CATEGORIES:Young Church
ORGANIZER;CN="Mara Flynn":MAILTO:mara.flynn@frsuu.org
END:VEVENT
BEGIN:VEVENT
DTSTART;TZID=America/New_York:20260215T120000
DTEND;TZID=America/New_York:20260215T133000
DTSTAMP:20260421T162956
CREATED:20260204T205723Z
LAST-MODIFIED:20260204T205723Z
UID:50238-1771156800-1771162200@www.frsuu.org
SUMMARY:Youth Group Meeting
DESCRIPTION:Sunday\, February 15\, Youth Room\, 12-1:30pm
URL:https://www.frsuu.org/event/youth-group-meeting/
ORGANIZER;CN="Mara Flynn":MAILTO:mara.flynn@frsuu.org
END:VEVENT
BEGIN:VEVENT
DTSTART;TZID=America/New_York:20260215T103000
DTEND;TZID=America/New_York:20260215T113000
DTSTAMP:20260421T162956
CREATED:20250922T163733Z
LAST-MODIFIED:20260403T151630Z
UID:48116-1771151400-1771155000@www.frsuu.org
SUMMARY:Young Church
DESCRIPTION:Sundays\, from September 14\, 2025 until May 17\, 2026\, LMH Main Room and Nursery/Conf Room\, 10:30-11:30am
URL:https://www.frsuu.org/event/young-church-3/2026-02-15/
LOCATION:LMH Main Room\, 26 Pleasant St\, Newburyport\, MA\, 01950\, United States
CATEGORIES:Young Church
ORGANIZER;CN="Mara Flynn":MAILTO:mara.flynn@frsuu.org
END:VEVENT
BEGIN:VEVENT
DTSTART;TZID=America/New_York:20260208T103000
DTEND;TZID=America/New_York:20260208T113000
DTSTAMP:20260421T162956
CREATED:20250922T163733Z
LAST-MODIFIED:20260403T151625Z
UID:48115-1770546600-1770550200@www.frsuu.org
SUMMARY:Young Church
DESCRIPTION:Sundays\, from September 14\, 2025 until May 17\, 2026\, LMH Main Room and Nursery/Conf Room\, 10:30-11:30am
URL:https://www.frsuu.org/event/young-church-3/2026-02-08/
LOCATION:LMH Main Room\, 26 Pleasant St\, Newburyport\, MA\, 01950\, United States
CATEGORIES:Young Church
ORGANIZER;CN="Mara Flynn":MAILTO:mara.flynn@frsuu.org
END:VEVENT
BEGIN:VEVENT
DTSTART;TZID=America/New_York:20260201T103000
DTEND;TZID=America/New_York:20260201T113000
DTSTAMP:20260421T162956
CREATED:20250922T163733Z
LAST-MODIFIED:20260403T151624Z
UID:48114-1769941800-1769945400@www.frsuu.org
SUMMARY:Young Church
DESCRIPTION:Sundays\, from September 14\, 2025 until May 17\, 2026\, LMH Main Room and Nursery/Conf Room\, 10:30-11:30am
URL:https://www.frsuu.org/event/young-church-3/2026-02-01/
LOCATION:LMH Main Room\, 26 Pleasant St\, Newburyport\, MA\, 01950\, United States
CATEGORIES:Young Church
ORGANIZER;CN="Mara Flynn":MAILTO:mara.flynn@frsuu.org
END:VEVENT
BEGIN:VEVENT
DTSTART;TZID=America/New_York:20260125T103000
DTEND;TZID=America/New_York:20260125T113000
DTSTAMP:20260421T162956
CREATED:20250922T163733Z
LAST-MODIFIED:20260403T151624Z
UID:48113-1769337000-1769340600@www.frsuu.org
SUMMARY:Young Church
DESCRIPTION:Sundays\, from September 14\, 2025 until May 17\, 2026\, LMH Main Room and Nursery/Conf Room\, 10:30-11:30am
URL:https://www.frsuu.org/event/young-church-3/2026-01-25/
LOCATION:LMH Main Room\, 26 Pleasant St\, Newburyport\, MA\, 01950\, United States
CATEGORIES:Young Church
ORGANIZER;CN="Mara Flynn":MAILTO:mara.flynn@frsuu.org
END:VEVENT
BEGIN:VEVENT
DTSTART;TZID=America/New_York:20260118T103000
DTEND;TZID=America/New_York:20260118T113000
DTSTAMP:20260421T162956
CREATED:20250922T163733Z
LAST-MODIFIED:20260403T151623Z
UID:48112-1768732200-1768735800@www.frsuu.org
SUMMARY:Young Church
DESCRIPTION:Sundays\, from September 14\, 2025 until May 17\, 2026\, LMH Main Room and Nursery/Conf Room\, 10:30-11:30am
URL:https://www.frsuu.org/event/young-church-3/2026-01-18/
LOCATION:LMH Main Room\, 26 Pleasant St\, Newburyport\, MA\, 01950\, United States
CATEGORIES:Young Church
ORGANIZER;CN="Mara Flynn":MAILTO:mara.flynn@frsuu.org
END:VEVENT
BEGIN:VEVENT
DTSTART;TZID=America/New_York:20260111T103000
DTEND;TZID=America/New_York:20260111T113000
DTSTAMP:20260421T162956
CREATED:20250922T163733Z
LAST-MODIFIED:20260403T151621Z
UID:48111-1768127400-1768131000@www.frsuu.org
SUMMARY:Young Church
DESCRIPTION:Sundays\, from September 14\, 2025 until May 17\, 2026\, LMH Main Room and Nursery/Conf Room\, 10:30-11:30am
URL:https://www.frsuu.org/event/young-church-3/2026-01-11/
LOCATION:LMH Main Room\, 26 Pleasant St\, Newburyport\, MA\, 01950\, United States
CATEGORIES:Young Church
ORGANIZER;CN="Mara Flynn":MAILTO:mara.flynn@frsuu.org
END:VEVENT
BEGIN:VEVENT
DTSTART;TZID=America/New_York:20260104T103000
DTEND;TZID=America/New_York:20260104T113000
DTSTAMP:20260421T162956
CREATED:20250922T163733Z
LAST-MODIFIED:20260403T151618Z
UID:48110-1767522600-1767526200@www.frsuu.org
SUMMARY:Young Church
DESCRIPTION:Sundays\, from September 14\, 2025 until May 17\, 2026\, LMH Main Room and Nursery/Conf Room\, 10:30-11:30am
URL:https://www.frsuu.org/event/young-church-3/2026-01-04/
LOCATION:LMH Main Room\, 26 Pleasant St\, Newburyport\, MA\, 01950\, United States
CATEGORIES:Young Church
ORGANIZER;CN="Mara Flynn":MAILTO:mara.flynn@frsuu.org
END:VEVENT
BEGIN:VEVENT
DTSTART;TZID=America/New_York:20251228T103000
DTEND;TZID=America/New_York:20251228T113000
DTSTAMP:20260421T162956
CREATED:20250922T163733Z
LAST-MODIFIED:20260403T151616Z
UID:48109-1766917800-1766921400@www.frsuu.org
SUMMARY:Young Church
DESCRIPTION:Sundays\, from September 14\, 2025 until May 17\, 2026\, LMH Main Room and Nursery/Conf Room\, 10:30-11:30am
URL:https://www.frsuu.org/event/young-church-3/2025-12-28/
LOCATION:LMH Main Room\, 26 Pleasant St\, Newburyport\, MA\, 01950\, United States
CATEGORIES:Young Church
ORGANIZER;CN="Mara Flynn":MAILTO:mara.flynn@frsuu.org
END:VEVENT
BEGIN:VEVENT
DTSTART;TZID=America/New_York:20251218T160000
DTEND;TZID=America/New_York:20251218T173000
DTSTAMP:20260421T162956
CREATED:20250926T135533Z
LAST-MODIFIED:20250926T135608Z
UID:48341-1766073600-1766079000@www.frsuu.org
SUMMARY:Theater in the Open
DESCRIPTION:Thursdays\, November 6\, 13\, 20; December 4\, 11\, 18; Parish Hall 1st Floor\, 4-5:30pm
URL:https://www.frsuu.org/event/theater-in-the-open/2025-12-18/
LOCATION:Parish Hall 1st Floor
ORGANIZER;CN="Mara Flynn":MAILTO:mara.flynn@frsuu.org
END:VEVENT
BEGIN:VEVENT
DTSTART;TZID=America/New_York:20251214T113000
DTEND;TZID=America/New_York:20251214T123000
DTSTAMP:20260421T162956
CREATED:20251203T183117Z
LAST-MODIFIED:20251203T183118Z
UID:49701-1765711800-1765715400@www.frsuu.org
SUMMARY:Coffee & Cocoa Hour
DESCRIPTION:Sunday\, December 14\, Parish Hall\, 11:30-12:30pm. \nJoin us for coffee and cocoa following worship!
URL:https://www.frsuu.org/event/coffee-cocoa-hour/
LOCATION:Parish Hall 1st Floor
ORGANIZER;CN="Mara Flynn":MAILTO:mara.flynn@frsuu.org
END:VEVENT
BEGIN:VEVENT
DTSTART;TZID=America/New_York:20251214T103000
DTEND;TZID=America/New_York:20251214T113000
DTSTAMP:20260421T162956
CREATED:20250922T163733Z
LAST-MODIFIED:20260403T151615Z
UID:48107-1765708200-1765711800@www.frsuu.org
SUMMARY:Young Church
DESCRIPTION:Sundays\, from September 14\, 2025 until May 17\, 2026\, LMH Main Room and Nursery/Conf Room\, 10:30-11:30am
URL:https://www.frsuu.org/event/young-church-3/2025-12-14/
LOCATION:LMH Main Room\, 26 Pleasant St\, Newburyport\, MA\, 01950\, United States
CATEGORIES:Young Church
ORGANIZER;CN="Mara Flynn":MAILTO:mara.flynn@frsuu.org
END:VEVENT
BEGIN:VEVENT
DTSTART;TZID=America/New_York:20251211T160000
DTEND;TZID=America/New_York:20251211T173000
DTSTAMP:20260421T162956
CREATED:20250926T135533Z
LAST-MODIFIED:20250926T135606Z
UID:48340-1765468800-1765474200@www.frsuu.org
SUMMARY:Theater in the Open
DESCRIPTION:Thursdays\, November 6\, 13\, 20; December 4\, 11\, 18; Parish Hall 1st Floor\, 4-5:30pm
URL:https://www.frsuu.org/event/theater-in-the-open/2025-12-11/
LOCATION:Parish Hall 1st Floor
ORGANIZER;CN="Mara Flynn":MAILTO:mara.flynn@frsuu.org
END:VEVENT
BEGIN:VEVENT
DTSTART;TZID=America/New_York:20251207T103000
DTEND;TZID=America/New_York:20251207T113000
DTSTAMP:20260421T162956
CREATED:20250922T163733Z
LAST-MODIFIED:20260403T151614Z
UID:48106-1765103400-1765107000@www.frsuu.org
SUMMARY:Young Church
DESCRIPTION:Sundays\, from September 14\, 2025 until May 17\, 2026\, LMH Main Room and Nursery/Conf Room\, 10:30-11:30am
URL:https://www.frsuu.org/event/young-church-3/2025-12-07/
LOCATION:LMH Main Room\, 26 Pleasant St\, Newburyport\, MA\, 01950\, United States
CATEGORIES:Young Church
ORGANIZER;CN="Mara Flynn":MAILTO:mara.flynn@frsuu.org
END:VEVENT
BEGIN:VEVENT
DTSTART;TZID=America/New_York:20251207T094500
DTEND;TZID=America/New_York:20251207T101500
DTSTAMP:20260421T162956
CREATED:20251112T203041Z
LAST-MODIFIED:20251112T203041Z
UID:49306-1765100700-1765102500@www.frsuu.org
SUMMARY:Young Church Singers
DESCRIPTION:Sundays\, November 16 and 23\, LMH Room A\, 9:45-10:15am. \nSunday\, December 7\, LMH Nursery/Conf Room\, 9:45-10:15am.
URL:https://www.frsuu.org/event/young-church-singers-3/
LOCATION:LMH Nursery/Conf Room
ORGANIZER;CN="Mara Flynn":MAILTO:mara.flynn@frsuu.org
END:VEVENT
BEGIN:VEVENT
DTSTART;TZID=America/New_York:20251204T160000
DTEND;TZID=America/New_York:20251204T173000
DTSTAMP:20260421T162956
CREATED:20250926T135533Z
LAST-MODIFIED:20250926T135605Z
UID:48339-1764864000-1764869400@www.frsuu.org
SUMMARY:Theater in the Open
DESCRIPTION:Thursdays\, November 6\, 13\, 20; December 4\, 11\, 18; Parish Hall 1st Floor\, 4-5:30pm
URL:https://www.frsuu.org/event/theater-in-the-open/2025-12-04/
LOCATION:Parish Hall 1st Floor
ORGANIZER;CN="Mara Flynn":MAILTO:mara.flynn@frsuu.org
END:VEVENT
END:VCALENDAR