BEGIN:VCALENDAR
VERSION:2.0
PRODID:-//First Religious Society of Newburyport - ECPv6.15.20//NONSGML v1.0//EN
CALSCALE:GREGORIAN
METHOD:PUBLISH
X-WR-CALNAME:First Religious Society of Newburyport
X-ORIGINAL-URL:https://www.frsuu.org
X-WR-CALDESC:Events for First Religious Society of Newburyport
REFRESH-INTERVAL;VALUE=DURATION:PT1H
X-Robots-Tag:noindex
X-PUBLISHED-TTL:PT1H
BEGIN:VTIMEZONE
TZID:America/New_York
BEGIN:DAYLIGHT
TZOFFSETFROM:-0500
TZOFFSETTO:-0400
TZNAME:EDT
DTSTART:20250309T070000
END:DAYLIGHT
BEGIN:STANDARD
TZOFFSETFROM:-0400
TZOFFSETTO:-0500
TZNAME:EST
DTSTART:20251102T060000
END:STANDARD
BEGIN:DAYLIGHT
TZOFFSETFROM:-0500
TZOFFSETTO:-0400
TZNAME:EDT
DTSTART:20260308T070000
END:DAYLIGHT
BEGIN:STANDARD
TZOFFSETFROM:-0400
TZOFFSETTO:-0500
TZNAME:EST
DTSTART:20261101T060000
END:STANDARD
BEGIN:DAYLIGHT
TZOFFSETFROM:-0500
TZOFFSETTO:-0400
TZNAME:EDT
DTSTART:20270314T070000
END:DAYLIGHT
BEGIN:STANDARD
TZOFFSETFROM:-0400
TZOFFSETTO:-0500
TZNAME:EST
DTSTART:20271107T060000
END:STANDARD
BEGIN:DAYLIGHT
TZOFFSETFROM:-0500
TZOFFSETTO:-0400
TZNAME:EDT
DTSTART:20280312T070000
END:DAYLIGHT
BEGIN:STANDARD
TZOFFSETFROM:-0400
TZOFFSETTO:-0500
TZNAME:EST
DTSTART:20281105T060000
END:STANDARD
END:VTIMEZONE
BEGIN:VEVENT
DTSTART;TZID=America/New_York:20260427T153000
DTEND;TZID=America/New_York:20260427T170000
DTSTAMP:20260424T205342
CREATED:20260317T135517Z
LAST-MODIFIED:20260424T185951Z
UID:50627-1777303800-1777309200@www.frsuu.org
SUMMARY:Social Justice Groups Potluck
DESCRIPTION:Monday\, April 27\, Parish Hall 1st Floor\, 3:30-5pm. \nJoin us for a celebration of all our justice work over these last eight years with Rev. Rebecca.
URL:https://www.frsuu.org/event/social-justice-groups-potluck/
LOCATION:Parish Hall 1st Floor
END:VEVENT
BEGIN:VEVENT
DTSTART;TZID=America/New_York:20260504T180000
DTEND;TZID=America/New_York:20260504T193000
DTSTAMP:20260424T205342
CREATED:20260219T203643Z
LAST-MODIFIED:20260219T203643Z
UID:50445-1777917600-1777923000@www.frsuu.org
SUMMARY:Council of Chairs (formerly Program Council) Meeting
DESCRIPTION:Monday\, May 4\, Parish Hall 1st Floor\, 6-7:30pm
URL:https://www.frsuu.org/event/council-of-chairs-formerly-program-council-meeting/
LOCATION:Parish Hall 1st Floor
END:VEVENT
BEGIN:VEVENT
DTSTART;TZID=America/New_York:20260517T090000
DTEND;TZID=America/New_York:20260517T100000
DTSTAMP:20260424T205342
CREATED:20250502T185302Z
LAST-MODIFIED:20250502T185303Z
UID:45723-1779008400-1779012000@www.frsuu.org
SUMMARY:Parish Board-Congregational Meeting
DESCRIPTION:Sunday\, May 17\, LMH Main Room\, 9-10am
URL:https://www.frsuu.org/event/parish-board-congregational-meeting-5/
LOCATION:LMH Main Room\, 26 Pleasant St\, Newburyport\, MA\, 01950\, United States
END:VEVENT
BEGIN:VEVENT
DTSTART;TZID=America/New_York:20260518T153000
DTEND;TZID=America/New_York:20260518T170000
DTSTAMP:20260424T205342
CREATED:20250903T212138Z
LAST-MODIFIED:20260213T155247Z
UID:50081-1779118200-1779123600@www.frsuu.org
SUMMARY:Justice Action Council
DESCRIPTION:Monthly on the third Monday\, LMH Main Room\, 3:30-5pm
URL:https://www.frsuu.org/event/justice-action-council-2/2026-05-18/
LOCATION:LMH Main Room\, 26 Pleasant St\, Newburyport\, MA\, 01950\, United States
END:VEVENT
BEGIN:VEVENT
DTSTART;TZID=America/New_York:20260524T114500
DTEND;TZID=America/New_York:20260524T124500
DTSTAMP:20260424T205342
CREATED:20260219T202114Z
LAST-MODIFIED:20260219T202327Z
UID:50442-1779623100-1779626700@www.frsuu.org
SUMMARY:Congregational Conversation
DESCRIPTION:Sunday\, May 24\, LMH Main Room\, 11:45am-12:45pm. \nCome and ask your questions before the annual meeting.
URL:https://www.frsuu.org/event/congregational-conversation-6/
LOCATION:LMH Main Room\, 26 Pleasant St\, Newburyport\, MA\, 01950\, United States
END:VEVENT
BEGIN:VEVENT
DTSTART;TZID=America/New_York:20260614T103000
DTEND;TZID=America/New_York:20260614T113000
DTSTAMP:20260424T205342
CREATED:20250528T193100Z
LAST-MODIFIED:20260421T165337Z
UID:46654-1781433000-1781436600@www.frsuu.org
SUMMARY:Pride Sunday Worship Service
DESCRIPTION:Sunday\, June 14\, Sanctuary\, 10:30-11:30am with livestream on YouTube. \nOur annual Pride worship service will be led by Rev. Laurel\, with music by Nick Place.
URL:https://www.frsuu.org/event/sunday-worship-service-7/
LOCATION:FRS Sanctuary\, 26 Pleasant St\, Newburyport\, MA\, 01950\, United States
CATEGORIES:Worship
END:VEVENT
BEGIN:VEVENT
DTSTART;TZID=America/New_York:20260614T160000
DTEND;TZID=America/New_York:20260614T170000
DTSTAMP:20260424T205342
CREATED:20260422T203727Z
LAST-MODIFIED:20260422T203727Z
UID:50998-1781452800-1781456400@www.frsuu.org
SUMMARY:Private Event
DESCRIPTION:Sunday\, June 14\, Sanctuary\, 4-5pm
URL:https://www.frsuu.org/event/private-event/
LOCATION:FRS Sanctuary\, 26 Pleasant St\, Newburyport\, MA\, 01950\, United States
END:VEVENT
BEGIN:VEVENT
DTSTART;TZID=America/New_York:20260615T153000
DTEND;TZID=America/New_York:20260615T170000
DTSTAMP:20260424T205342
CREATED:20250903T212138Z
LAST-MODIFIED:20260213T155248Z
UID:50082-1781537400-1781542800@www.frsuu.org
SUMMARY:Justice Action Council
DESCRIPTION:Monthly on the third Monday\, LMH Main Room\, 3:30-5pm
URL:https://www.frsuu.org/event/justice-action-council-2/2026-06-15/
LOCATION:LMH Main Room\, 26 Pleasant St\, Newburyport\, MA\, 01950\, United States
END:VEVENT
BEGIN:VEVENT
DTSTART;TZID=America/New_York:20261221T120000
DTEND;TZID=America/New_York:20261221T130000
DTSTAMP:20260424T205342
CREATED:20241104T185723Z
LAST-MODIFIED:20241104T185723Z
UID:43451-1797854400-1797858000@www.frsuu.org
SUMMARY:Reserved for Maker Mondays
DESCRIPTION:The Nursery will be reserved for Maker Mondays on the first and third Monday of each month.
URL:https://www.frsuu.org/event/reserved-for-maker-mondays/2026-12-21/
LOCATION:LMH Nursery/Conf Room
CATEGORIES:Room Reservations
END:VEVENT
BEGIN:VEVENT
DTSTART;TZID=America/New_York:20270104T120000
DTEND;TZID=America/New_York:20270104T130000
DTSTAMP:20260424T205342
CREATED:20241104T185723Z
LAST-MODIFIED:20241104T185723Z
UID:43450-1799064000-1799067600@www.frsuu.org
SUMMARY:Reserved for Maker Mondays
DESCRIPTION:The Nursery will be reserved for Maker Mondays on the first and third Monday of each month.
URL:https://www.frsuu.org/event/reserved-for-maker-mondays/2027-01-04/
LOCATION:LMH Nursery/Conf Room
CATEGORIES:Room Reservations
END:VEVENT
BEGIN:VEVENT
DTSTART;TZID=America/New_York:20270118T120000
DTEND;TZID=America/New_York:20270118T130000
DTSTAMP:20260424T205342
CREATED:20241104T185723Z
LAST-MODIFIED:20241104T185723Z
UID:44252-1800273600-1800277200@www.frsuu.org
SUMMARY:Reserved for Maker Mondays
DESCRIPTION:The Nursery will be reserved for Maker Mondays on the first and third Monday of each month.
URL:https://www.frsuu.org/event/reserved-for-maker-mondays/2027-01-18/
LOCATION:LMH Nursery/Conf Room
CATEGORIES:Room Reservations
END:VEVENT
BEGIN:VEVENT
DTSTART;TZID=America/New_York:20270201T120000
DTEND;TZID=America/New_York:20270201T130000
DTSTAMP:20260424T205342
CREATED:20241104T185723Z
LAST-MODIFIED:20241104T185723Z
UID:44251-1801483200-1801486800@www.frsuu.org
SUMMARY:Reserved for Maker Mondays
DESCRIPTION:The Nursery will be reserved for Maker Mondays on the first and third Monday of each month.
URL:https://www.frsuu.org/event/reserved-for-maker-mondays/2027-02-01/
LOCATION:LMH Nursery/Conf Room
CATEGORIES:Room Reservations
END:VEVENT
BEGIN:VEVENT
DTSTART;TZID=America/New_York:20270215T120000
DTEND;TZID=America/New_York:20270215T130000
DTSTAMP:20260424T205342
CREATED:20241104T185723Z
LAST-MODIFIED:20241104T185723Z
UID:44732-1802692800-1802696400@www.frsuu.org
SUMMARY:Reserved for Maker Mondays
DESCRIPTION:The Nursery will be reserved for Maker Mondays on the first and third Monday of each month.
URL:https://www.frsuu.org/event/reserved-for-maker-mondays/2027-02-15/
LOCATION:LMH Nursery/Conf Room
CATEGORIES:Room Reservations
END:VEVENT
BEGIN:VEVENT
DTSTART;TZID=America/New_York:20270301T120000
DTEND;TZID=America/New_York:20270301T130000
DTSTAMP:20260424T205342
CREATED:20241104T185723Z
LAST-MODIFIED:20241104T185723Z
UID:44731-1803902400-1803906000@www.frsuu.org
SUMMARY:Reserved for Maker Mondays
DESCRIPTION:The Nursery will be reserved for Maker Mondays on the first and third Monday of each month.
URL:https://www.frsuu.org/event/reserved-for-maker-mondays/2027-03-01/
LOCATION:LMH Nursery/Conf Room
CATEGORIES:Room Reservations
END:VEVENT
BEGIN:VEVENT
DTSTART;TZID=America/New_York:20270315T120000
DTEND;TZID=America/New_York:20270315T130000
DTSTAMP:20260424T205342
CREATED:20241104T185723Z
LAST-MODIFIED:20241104T185723Z
UID:45434-1805112000-1805115600@www.frsuu.org
SUMMARY:Reserved for Maker Mondays
DESCRIPTION:The Nursery will be reserved for Maker Mondays on the first and third Monday of each month.
URL:https://www.frsuu.org/event/reserved-for-maker-mondays/2027-03-15/
LOCATION:LMH Nursery/Conf Room
CATEGORIES:Room Reservations
END:VEVENT
BEGIN:VEVENT
DTSTART;TZID=America/New_York:20270405T120000
DTEND;TZID=America/New_York:20270405T130000
DTSTAMP:20260424T205342
CREATED:20241104T185723Z
LAST-MODIFIED:20241104T185723Z
UID:45433-1806926400-1806930000@www.frsuu.org
SUMMARY:Reserved for Maker Mondays
DESCRIPTION:The Nursery will be reserved for Maker Mondays on the first and third Monday of each month.
URL:https://www.frsuu.org/event/reserved-for-maker-mondays/2027-04-05/
LOCATION:LMH Nursery/Conf Room
CATEGORIES:Room Reservations
END:VEVENT
BEGIN:VEVENT
DTSTART;TZID=America/New_York:20270419T120000
DTEND;TZID=America/New_York:20270419T130000
DTSTAMP:20260424T205342
CREATED:20241104T185723Z
LAST-MODIFIED:20241104T185723Z
UID:45929-1808136000-1808139600@www.frsuu.org
SUMMARY:Reserved for Maker Mondays
DESCRIPTION:The Nursery will be reserved for Maker Mondays on the first and third Monday of each month.
URL:https://www.frsuu.org/event/reserved-for-maker-mondays/2027-04-19/
LOCATION:LMH Nursery/Conf Room
CATEGORIES:Room Reservations
END:VEVENT
BEGIN:VEVENT
DTSTART;TZID=America/New_York:20270503T120000
DTEND;TZID=America/New_York:20270503T130000
DTSTAMP:20260424T205342
CREATED:20241104T185723Z
LAST-MODIFIED:20241104T185723Z
UID:45928-1809345600-1809349200@www.frsuu.org
SUMMARY:Reserved for Maker Mondays
DESCRIPTION:The Nursery will be reserved for Maker Mondays on the first and third Monday of each month.
URL:https://www.frsuu.org/event/reserved-for-maker-mondays/2027-05-03/
LOCATION:LMH Nursery/Conf Room
CATEGORIES:Room Reservations
END:VEVENT
BEGIN:VEVENT
DTSTART;TZID=America/New_York:20270517T120000
DTEND;TZID=America/New_York:20270517T130000
DTSTAMP:20260424T205342
CREATED:20241104T185723Z
LAST-MODIFIED:20241104T185723Z
UID:46705-1810555200-1810558800@www.frsuu.org
SUMMARY:Reserved for Maker Mondays
DESCRIPTION:The Nursery will be reserved for Maker Mondays on the first and third Monday of each month.
URL:https://www.frsuu.org/event/reserved-for-maker-mondays/2027-05-17/
LOCATION:LMH Nursery/Conf Room
CATEGORIES:Room Reservations
END:VEVENT
BEGIN:VEVENT
DTSTART;TZID=America/New_York:20270607T120000
DTEND;TZID=America/New_York:20270607T130000
DTSTAMP:20260424T205342
CREATED:20241104T185723Z
LAST-MODIFIED:20241104T185723Z
UID:46704-1812369600-1812373200@www.frsuu.org
SUMMARY:Reserved for Maker Mondays
DESCRIPTION:The Nursery will be reserved for Maker Mondays on the first and third Monday of each month.
URL:https://www.frsuu.org/event/reserved-for-maker-mondays/2027-06-07/
LOCATION:LMH Nursery/Conf Room
CATEGORIES:Room Reservations
END:VEVENT
BEGIN:VEVENT
DTSTART;TZID=America/New_York:20270621T120000
DTEND;TZID=America/New_York:20270621T130000
DTSTAMP:20260424T205342
CREATED:20241104T185723Z
LAST-MODIFIED:20241104T185723Z
UID:46847-1813579200-1813582800@www.frsuu.org
SUMMARY:Reserved for Maker Mondays
DESCRIPTION:The Nursery will be reserved for Maker Mondays on the first and third Monday of each month.
URL:https://www.frsuu.org/event/reserved-for-maker-mondays/2027-06-21/
LOCATION:LMH Nursery/Conf Room
CATEGORIES:Room Reservations
END:VEVENT
BEGIN:VEVENT
DTSTART;TZID=America/New_York:20270705T120000
DTEND;TZID=America/New_York:20270705T130000
DTSTAMP:20260424T205342
CREATED:20241104T185723Z
LAST-MODIFIED:20241104T185723Z
UID:46846-1814788800-1814792400@www.frsuu.org
SUMMARY:Reserved for Maker Mondays
DESCRIPTION:The Nursery will be reserved for Maker Mondays on the first and third Monday of each month.
URL:https://www.frsuu.org/event/reserved-for-maker-mondays/2027-07-05/
LOCATION:LMH Nursery/Conf Room
CATEGORIES:Room Reservations
END:VEVENT
BEGIN:VEVENT
DTSTART;TZID=America/New_York:20270719T120000
DTEND;TZID=America/New_York:20270719T130000
DTSTAMP:20260424T205342
CREATED:20241104T185723Z
LAST-MODIFIED:20241104T185723Z
UID:47009-1815998400-1816002000@www.frsuu.org
SUMMARY:Reserved for Maker Mondays
DESCRIPTION:The Nursery will be reserved for Maker Mondays on the first and third Monday of each month.
URL:https://www.frsuu.org/event/reserved-for-maker-mondays/2027-07-19/
LOCATION:LMH Nursery/Conf Room
CATEGORIES:Room Reservations
END:VEVENT
BEGIN:VEVENT
DTSTART;TZID=America/New_York:20270802T120000
DTEND;TZID=America/New_York:20270802T130000
DTSTAMP:20260424T205342
CREATED:20241104T185723Z
LAST-MODIFIED:20241104T185723Z
UID:47008-1817208000-1817211600@www.frsuu.org
SUMMARY:Reserved for Maker Mondays
DESCRIPTION:The Nursery will be reserved for Maker Mondays on the first and third Monday of each month.
URL:https://www.frsuu.org/event/reserved-for-maker-mondays/2027-08-02/
LOCATION:LMH Nursery/Conf Room
CATEGORIES:Room Reservations
END:VEVENT
BEGIN:VEVENT
DTSTART;TZID=America/New_York:20270816T120000
DTEND;TZID=America/New_York:20270816T130000
DTSTAMP:20260424T205342
CREATED:20241104T185723Z
LAST-MODIFIED:20241104T185723Z
UID:47584-1818417600-1818421200@www.frsuu.org
SUMMARY:Reserved for Maker Mondays
DESCRIPTION:The Nursery will be reserved for Maker Mondays on the first and third Monday of each month.
URL:https://www.frsuu.org/event/reserved-for-maker-mondays/2027-08-16/
LOCATION:LMH Nursery/Conf Room
CATEGORIES:Room Reservations
END:VEVENT
BEGIN:VEVENT
DTSTART;TZID=America/New_York:20270906T120000
DTEND;TZID=America/New_York:20270906T130000
DTSTAMP:20260424T205342
CREATED:20241104T185723Z
LAST-MODIFIED:20241104T185723Z
UID:47583-1820232000-1820235600@www.frsuu.org
SUMMARY:Reserved for Maker Mondays
DESCRIPTION:The Nursery will be reserved for Maker Mondays on the first and third Monday of each month.
URL:https://www.frsuu.org/event/reserved-for-maker-mondays/2027-09-06/
LOCATION:LMH Nursery/Conf Room
CATEGORIES:Room Reservations
END:VEVENT
BEGIN:VEVENT
DTSTART;TZID=America/New_York:20270920T120000
DTEND;TZID=America/New_York:20270920T130000
DTSTAMP:20260424T205342
CREATED:20241104T185723Z
LAST-MODIFIED:20241104T185723Z
UID:48641-1821441600-1821445200@www.frsuu.org
SUMMARY:Reserved for Maker Mondays
DESCRIPTION:The Nursery will be reserved for Maker Mondays on the first and third Monday of each month.
URL:https://www.frsuu.org/event/reserved-for-maker-mondays/2027-09-20/
LOCATION:LMH Nursery/Conf Room
CATEGORIES:Room Reservations
END:VEVENT
BEGIN:VEVENT
DTSTART;TZID=America/New_York:20271004T120000
DTEND;TZID=America/New_York:20271004T130000
DTSTAMP:20260424T205342
CREATED:20241104T185723Z
LAST-MODIFIED:20241104T185723Z
UID:48640-1822651200-1822654800@www.frsuu.org
SUMMARY:Reserved for Maker Mondays
DESCRIPTION:The Nursery will be reserved for Maker Mondays on the first and third Monday of each month.
URL:https://www.frsuu.org/event/reserved-for-maker-mondays/2027-10-04/
LOCATION:LMH Nursery/Conf Room
CATEGORIES:Room Reservations
END:VEVENT
BEGIN:VEVENT
DTSTART;TZID=America/New_York:20271018T120000
DTEND;TZID=America/New_York:20271018T130000
DTSTAMP:20260424T205342
CREATED:20241104T185723Z
LAST-MODIFIED:20241104T185723Z
UID:49199-1823860800-1823864400@www.frsuu.org
SUMMARY:Reserved for Maker Mondays
DESCRIPTION:The Nursery will be reserved for Maker Mondays on the first and third Monday of each month.
URL:https://www.frsuu.org/event/reserved-for-maker-mondays/2027-10-18/
LOCATION:LMH Nursery/Conf Room
CATEGORIES:Room Reservations
END:VEVENT
BEGIN:VEVENT
DTSTART;TZID=America/New_York:20271101T120000
DTEND;TZID=America/New_York:20271101T130000
DTSTAMP:20260424T205342
CREATED:20241104T185723Z
LAST-MODIFIED:20241104T185723Z
UID:49198-1825070400-1825074000@www.frsuu.org
SUMMARY:Reserved for Maker Mondays
DESCRIPTION:The Nursery will be reserved for Maker Mondays on the first and third Monday of each month.
URL:https://www.frsuu.org/event/reserved-for-maker-mondays/2027-11-01/
LOCATION:LMH Nursery/Conf Room
CATEGORIES:Room Reservations
END:VEVENT
END:VCALENDAR