BEGIN:VCALENDAR
VERSION:2.0
PRODID:-//First Religious Society of Newburyport - ECPv6.15.20//NONSGML v1.0//EN
CALSCALE:GREGORIAN
METHOD:PUBLISH
X-WR-CALNAME:First Religious Society of Newburyport
X-ORIGINAL-URL:https://www.frsuu.org
X-WR-CALDESC:Events for First Religious Society of Newburyport
REFRESH-INTERVAL;VALUE=DURATION:PT1H
X-Robots-Tag:noindex
X-PUBLISHED-TTL:PT1H
BEGIN:VTIMEZONE
TZID:America/New_York
BEGIN:DAYLIGHT
TZOFFSETFROM:-0500
TZOFFSETTO:-0400
TZNAME:EDT
DTSTART:20240310T070000
END:DAYLIGHT
BEGIN:STANDARD
TZOFFSETFROM:-0400
TZOFFSETTO:-0500
TZNAME:EST
DTSTART:20241103T060000
END:STANDARD
BEGIN:DAYLIGHT
TZOFFSETFROM:-0500
TZOFFSETTO:-0400
TZNAME:EDT
DTSTART:20250309T070000
END:DAYLIGHT
BEGIN:STANDARD
TZOFFSETFROM:-0400
TZOFFSETTO:-0500
TZNAME:EST
DTSTART:20251102T060000
END:STANDARD
BEGIN:DAYLIGHT
TZOFFSETFROM:-0500
TZOFFSETTO:-0400
TZNAME:EDT
DTSTART:20260308T070000
END:DAYLIGHT
BEGIN:STANDARD
TZOFFSETFROM:-0400
TZOFFSETTO:-0500
TZNAME:EST
DTSTART:20261101T060000
END:STANDARD
BEGIN:DAYLIGHT
TZOFFSETFROM:-0500
TZOFFSETTO:-0400
TZNAME:EDT
DTSTART:20270314T070000
END:DAYLIGHT
BEGIN:STANDARD
TZOFFSETFROM:-0400
TZOFFSETTO:-0500
TZNAME:EST
DTSTART:20271107T060000
END:STANDARD
END:VTIMEZONE
BEGIN:VEVENT
DTSTART;TZID=America/New_York:20260416T093000
DTEND;TZID=America/New_York:20260416T103000
DTSTAMP:20260422T224028
CREATED:20251104T145723Z
LAST-MODIFIED:20251104T145723Z
UID:49216-1776331800-1776335400@www.frsuu.org
SUMMARY:Parish Friends Third Thursdays
DESCRIPTION:Third Thursdays\, LMH Nursery/Conf Room\, 9:30-10:30am. \nA monthly\, somewhat casual Parish Friends morning meeting – bring your own tea or coffee. An opportunity to meet other Parish Friends\, ask questions\, and brainstorm. If interested in simply learning more about Parish Friends\, this would be a great forum. We realize mornings don’t work for everyone. If you are wanting to attend\, but not able to\, let Susan Ricker know at parishfriends@frsuu.org or use her personal contact information in the FRSUU Realm directory.
URL:https://www.frsuu.org/event/parish-friends-third-thursdays/2026-04-16/
LOCATION:LMH Nursery/Conf Room
END:VEVENT
BEGIN:VEVENT
DTSTART;TZID=America/New_York:20260319T093000
DTEND;TZID=America/New_York:20260319T103000
DTSTAMP:20260422T224028
CREATED:20251104T145723Z
LAST-MODIFIED:20251104T145723Z
UID:49215-1773912600-1773916200@www.frsuu.org
SUMMARY:Parish Friends Third Thursdays
DESCRIPTION:Third Thursdays\, LMH Nursery/Conf Room\, 9:30-10:30am. \nA monthly\, somewhat casual Parish Friends morning meeting – bring your own tea or coffee. An opportunity to meet other Parish Friends\, ask questions\, and brainstorm. If interested in simply learning more about Parish Friends\, this would be a great forum. We realize mornings don’t work for everyone. If you are wanting to attend\, but not able to\, let Susan Ricker know at parishfriends@frsuu.org or use her personal contact information in the FRSUU Realm directory.
URL:https://www.frsuu.org/event/parish-friends-third-thursdays/2026-03-19/
LOCATION:LMH Nursery/Conf Room
END:VEVENT
BEGIN:VEVENT
DTSTART;TZID=America/New_York:20260219T093000
DTEND;TZID=America/New_York:20260219T103000
DTSTAMP:20260422T224028
CREATED:20251104T145723Z
LAST-MODIFIED:20251104T145723Z
UID:49214-1771493400-1771497000@www.frsuu.org
SUMMARY:Parish Friends Third Thursdays
DESCRIPTION:Third Thursdays\, LMH Nursery/Conf Room\, 9:30-10:30am. \nA monthly\, somewhat casual Parish Friends morning meeting – bring your own tea or coffee. An opportunity to meet other Parish Friends\, ask questions\, and brainstorm. If interested in simply learning more about Parish Friends\, this would be a great forum. We realize mornings don’t work for everyone. If you are wanting to attend\, but not able to\, let Susan Ricker know at parishfriends@frsuu.org or use her personal contact information in the FRSUU Realm directory.
URL:https://www.frsuu.org/event/parish-friends-third-thursdays/2026-02-19/
LOCATION:LMH Nursery/Conf Room
END:VEVENT
BEGIN:VEVENT
DTSTART;TZID=America/New_York:20260115T093000
DTEND;TZID=America/New_York:20260115T103000
DTSTAMP:20260422T224028
CREATED:20251104T145723Z
LAST-MODIFIED:20251104T145723Z
UID:49213-1768469400-1768473000@www.frsuu.org
SUMMARY:Parish Friends Third Thursdays
DESCRIPTION:Third Thursdays\, LMH Nursery/Conf Room\, 9:30-10:30am. \nA monthly\, somewhat casual Parish Friends morning meeting – bring your own tea or coffee. An opportunity to meet other Parish Friends\, ask questions\, and brainstorm. If interested in simply learning more about Parish Friends\, this would be a great forum. We realize mornings don’t work for everyone. If you are wanting to attend\, but not able to\, let Susan Ricker know at parishfriends@frsuu.org or use her personal contact information in the FRSUU Realm directory.
URL:https://www.frsuu.org/event/parish-friends-third-thursdays/2026-01-15/
LOCATION:LMH Nursery/Conf Room
END:VEVENT
BEGIN:VEVENT
DTSTART;TZID=America/New_York:20251218T093000
DTEND;TZID=America/New_York:20251218T103000
DTSTAMP:20260422T224028
CREATED:20251104T145723Z
LAST-MODIFIED:20251104T145723Z
UID:49212-1766050200-1766053800@www.frsuu.org
SUMMARY:Parish Friends Third Thursdays
DESCRIPTION:Third Thursdays\, LMH Nursery/Conf Room\, 9:30-10:30am. \nA monthly\, somewhat casual Parish Friends morning meeting – bring your own tea or coffee. An opportunity to meet other Parish Friends\, ask questions\, and brainstorm. If interested in simply learning more about Parish Friends\, this would be a great forum. We realize mornings don’t work for everyone. If you are wanting to attend\, but not able to\, let Susan Ricker know at parishfriends@frsuu.org or use her personal contact information in the FRSUU Realm directory.
URL:https://www.frsuu.org/event/parish-friends-third-thursdays/2025-12-18/
LOCATION:LMH Nursery/Conf Room
END:VEVENT
BEGIN:VEVENT
DTSTART;TZID=America/New_York:20251120T093000
DTEND;TZID=America/New_York:20251120T103000
DTSTAMP:20260422T224028
CREATED:20251104T145723Z
LAST-MODIFIED:20251104T145723Z
UID:49211-1763631000-1763634600@www.frsuu.org
SUMMARY:Parish Friends Third Thursdays
DESCRIPTION:Third Thursdays\, LMH Nursery/Conf Room\, 9:30-10:30am. \nA monthly\, somewhat casual Parish Friends morning meeting – bring your own tea or coffee. An opportunity to meet other Parish Friends\, ask questions\, and brainstorm. If interested in simply learning more about Parish Friends\, this would be a great forum. We realize mornings don’t work for everyone. If you are wanting to attend\, but not able to\, let Susan Ricker know at parishfriends@frsuu.org or use her personal contact information in the FRSUU Realm directory.
URL:https://www.frsuu.org/event/parish-friends-third-thursdays/2025-11-20/
LOCATION:LMH Nursery/Conf Room
END:VEVENT
BEGIN:VEVENT
DTSTART;TZID=America/New_York:20251016T093000
DTEND;TZID=America/New_York:20251016T103000
DTSTAMP:20260422T224028
CREATED:20250910T174602Z
LAST-MODIFIED:20250910T174603Z
UID:47714-1760607000-1760610600@www.frsuu.org
SUMMARY:Parish Friends Third Thursday
DESCRIPTION:Thursday\, October 16\, LMH Nursery/Conf Room\, 9:30-10:30am. \nPilot for a possible monthly Parish Friends somewhat casual morning meeting over tea and coffee. An opportunity to meet other Parish Friends\, ask questions\, and brainstorm. If interested in simply learning more about Parish Friends\, this would be a great forum. We realize mornings don’t work for everyone. If you are wanting to attend\, but not able to\, or have questions\, contact Susan Ricker at parishfriends@frsuu.org or use her personal contact information in the FRSUU Realm directory. We also have our fall meeting on Tuesday evening\, October 14\, at 6:30 pm.
URL:https://www.frsuu.org/event/parish-friends-third-thursday/
LOCATION:LMH Nursery/Conf Room
CATEGORIES:Volunteer
END:VEVENT
BEGIN:VEVENT
DTSTART;TZID=America/New_York:20251014T180000
DTEND;TZID=America/New_York:20251014T203000
DTSTAMP:20260422T224028
CREATED:20250909T164528Z
LAST-MODIFIED:20250911T132630Z
UID:47672-1760464800-1760473800@www.frsuu.org
SUMMARY:Parish Friends Fall Meeting
DESCRIPTION:Tuesday\, October 14\, Parish Hall 1st Floor\, 6:30-8pm. \nFall meeting of Parish Friends for all current and curious. New members welcome and encouraged. We can especially use more drivers. To newcomers – we offer support to the church community – rides\, meals\, errands\, chores. An agenda will be mailed to current Parish Friends and others who request one. If interested but unable to attend\, let me know. Susan Ricker\, parishfriends@frsuu.org\, or use my personal contact info listed in the Realm directory. \nInternal: This meeting has setup instructions.
URL:https://www.frsuu.org/event/parish-friends-fall-meeting/
LOCATION:Parish Hall 1st Floor
CATEGORIES:Volunteer
END:VEVENT
BEGIN:VEVENT
DTSTART;TZID=America/New_York:20250717T160000
DTEND;TZID=America/New_York:20250717T173000
DTSTAMP:20260422T224028
CREATED:20250626T144024Z
LAST-MODIFIED:20250626T144024Z
UID:46805-1752768000-1752773400@www.frsuu.org
SUMMARY:Pastoral Care Associates
DESCRIPTION:Thursday\, July 17\, LMH Room A\, 4-5:30pm. Monthly meeting.
URL:https://www.frsuu.org/event/pastoral-care-associates-4/
LOCATION:LMH Room A\, 26 Pleasant St\, Newburyport\, MA\, 01950\, United States
END:VEVENT
END:VCALENDAR