BEGIN:VCALENDAR
VERSION:2.0
PRODID:-//First Religious Society of Newburyport - ECPv6.15.20//NONSGML v1.0//EN
CALSCALE:GREGORIAN
METHOD:PUBLISH
X-ORIGINAL-URL:https://www.frsuu.org
X-WR-CALDESC:Events for First Religious Society of Newburyport
REFRESH-INTERVAL;VALUE=DURATION:PT1H
X-Robots-Tag:noindex
X-PUBLISHED-TTL:PT1H
BEGIN:VTIMEZONE
TZID:America/New_York
BEGIN:DAYLIGHT
TZOFFSETFROM:-0500
TZOFFSETTO:-0400
TZNAME:EDT
DTSTART:20230312T070000
END:DAYLIGHT
BEGIN:STANDARD
TZOFFSETFROM:-0400
TZOFFSETTO:-0500
TZNAME:EST
DTSTART:20231105T060000
END:STANDARD
BEGIN:DAYLIGHT
TZOFFSETFROM:-0500
TZOFFSETTO:-0400
TZNAME:EDT
DTSTART:20240310T070000
END:DAYLIGHT
BEGIN:STANDARD
TZOFFSETFROM:-0400
TZOFFSETTO:-0500
TZNAME:EST
DTSTART:20241103T060000
END:STANDARD
BEGIN:DAYLIGHT
TZOFFSETFROM:-0500
TZOFFSETTO:-0400
TZNAME:EDT
DTSTART:20250309T070000
END:DAYLIGHT
BEGIN:STANDARD
TZOFFSETFROM:-0400
TZOFFSETTO:-0500
TZNAME:EST
DTSTART:20251102T060000
END:STANDARD
END:VTIMEZONE
BEGIN:VEVENT
DTSTART;TZID=America/New_York:20240717T180000
DTEND;TZID=America/New_York:20240717T200000
DTSTAMP:20260422T225704
CREATED:20240614T153800Z
LAST-MODIFIED:20240918T215008Z
UID:41228-1721239200-1721246400@www.frsuu.org
SUMMARY:Parish Board Meeting (Hybrid)
DESCRIPTION:The Parish Board meets monthly on the third Wednesday in LMH Main Room.
URL:https://www.frsuu.org/event/parish-board-meeting/2024-07-17/
LOCATION:LMH Main Room\, 26 Pleasant St\, Newburyport\, MA\, 01950\, United States
CATEGORIES:Board Meeting
END:VEVENT
BEGIN:VEVENT
DTSTART;TZID=America/New_York:20240619T180000
DTEND;TZID=America/New_York:20240619T200000
DTSTAMP:20260422T225704
CREATED:20240614T153800Z
LAST-MODIFIED:20240918T215007Z
UID:38842-1718820000-1718827200@www.frsuu.org
SUMMARY:Parish Board Meeting (Hybrid)
DESCRIPTION:The Parish Board meets monthly on the third Wednesday in LMH Main Room.
URL:https://www.frsuu.org/event/parish-board-meeting/2024-06-19/
LOCATION:LMH Main Room\, 26 Pleasant St\, Newburyport\, MA\, 01950\, United States
CATEGORIES:Board Meeting
END:VEVENT
END:VCALENDAR