BEGIN:VCALENDAR
VERSION:2.0
PRODID:-//First Religious Society of Newburyport - ECPv6.15.20//NONSGML v1.0//EN
CALSCALE:GREGORIAN
METHOD:PUBLISH
X-WR-CALNAME:First Religious Society of Newburyport
X-ORIGINAL-URL:https://www.frsuu.org
X-WR-CALDESC:Events for First Religious Society of Newburyport
REFRESH-INTERVAL;VALUE=DURATION:PT1H
X-Robots-Tag:noindex
X-PUBLISHED-TTL:PT1H
BEGIN:VTIMEZONE
TZID:America/New_York
BEGIN:DAYLIGHT
TZOFFSETFROM:-0500
TZOFFSETTO:-0400
TZNAME:EDT
DTSTART:20230312T070000
END:DAYLIGHT
BEGIN:STANDARD
TZOFFSETFROM:-0400
TZOFFSETTO:-0500
TZNAME:EST
DTSTART:20231105T060000
END:STANDARD
BEGIN:DAYLIGHT
TZOFFSETFROM:-0500
TZOFFSETTO:-0400
TZNAME:EDT
DTSTART:20240310T070000
END:DAYLIGHT
BEGIN:STANDARD
TZOFFSETFROM:-0400
TZOFFSETTO:-0500
TZNAME:EST
DTSTART:20241103T060000
END:STANDARD
BEGIN:DAYLIGHT
TZOFFSETFROM:-0500
TZOFFSETTO:-0400
TZNAME:EDT
DTSTART:20250309T070000
END:DAYLIGHT
BEGIN:STANDARD
TZOFFSETFROM:-0400
TZOFFSETTO:-0500
TZNAME:EST
DTSTART:20251102T060000
END:STANDARD
BEGIN:DAYLIGHT
TZOFFSETFROM:-0500
TZOFFSETTO:-0400
TZNAME:EDT
DTSTART:20260308T070000
END:DAYLIGHT
BEGIN:STANDARD
TZOFFSETFROM:-0400
TZOFFSETTO:-0500
TZNAME:EST
DTSTART:20261101T060000
END:STANDARD
END:VTIMEZONE
BEGIN:VEVENT
DTSTART;TZID=America/New_York:20251219T080000
DTEND;TZID=America/New_York:20251219T093000
DTSTAMP:20260419T095946
CREATED:20251104T185515Z
LAST-MODIFIED:20251104T185515Z
UID:49233-1766131200-1766136600@www.frsuu.org
SUMMARY:Capital Campaign Meeting (hybrid)
DESCRIPTION:Fridays starting October 31\, LMH Room A\, 8-9:30am
URL:https://www.frsuu.org/event/capital-campaign-meeting-hybrid/2025-12-19/
LOCATION:LMH Room A\, 26 Pleasant St\, Newburyport\, MA\, 01950\, United States
END:VEVENT
BEGIN:VEVENT
DTSTART;TZID=America/New_York:20251212T080000
DTEND;TZID=America/New_York:20251212T093000
DTSTAMP:20260419T095946
CREATED:20251104T185515Z
LAST-MODIFIED:20251104T185515Z
UID:49232-1765526400-1765531800@www.frsuu.org
SUMMARY:Capital Campaign Meeting (hybrid)
DESCRIPTION:Fridays starting October 31\, LMH Room A\, 8-9:30am
URL:https://www.frsuu.org/event/capital-campaign-meeting-hybrid/2025-12-12/
LOCATION:LMH Room A\, 26 Pleasant St\, Newburyport\, MA\, 01950\, United States
END:VEVENT
BEGIN:VEVENT
DTSTART;TZID=America/New_York:20251205T080000
DTEND;TZID=America/New_York:20251205T093000
DTSTAMP:20260419T095946
CREATED:20251104T185515Z
LAST-MODIFIED:20251104T185515Z
UID:49231-1764921600-1764927000@www.frsuu.org
SUMMARY:Capital Campaign Meeting (hybrid)
DESCRIPTION:Fridays starting October 31\, LMH Room A\, 8-9:30am
URL:https://www.frsuu.org/event/capital-campaign-meeting-hybrid/2025-12-05/
LOCATION:LMH Room A\, 26 Pleasant St\, Newburyport\, MA\, 01950\, United States
END:VEVENT
BEGIN:VEVENT
DTSTART;TZID=America/New_York:20251128T080000
DTEND;TZID=America/New_York:20251128T093000
DTSTAMP:20260419T095946
CREATED:20251104T185515Z
LAST-MODIFIED:20251104T185515Z
UID:49230-1764316800-1764322200@www.frsuu.org
SUMMARY:Capital Campaign Meeting (hybrid)
DESCRIPTION:Fridays starting October 31\, LMH Room A\, 8-9:30am
URL:https://www.frsuu.org/event/capital-campaign-meeting-hybrid/2025-11-28/
LOCATION:LMH Room A\, 26 Pleasant St\, Newburyport\, MA\, 01950\, United States
END:VEVENT
BEGIN:VEVENT
DTSTART;TZID=America/New_York:20251121T080000
DTEND;TZID=America/New_York:20251121T093000
DTSTAMP:20260419T095946
CREATED:20251104T185515Z
LAST-MODIFIED:20251104T185515Z
UID:49229-1763712000-1763717400@www.frsuu.org
SUMMARY:Capital Campaign Meeting (hybrid)
DESCRIPTION:Fridays starting October 31\, LMH Room A\, 8-9:30am
URL:https://www.frsuu.org/event/capital-campaign-meeting-hybrid/2025-11-21/
LOCATION:LMH Room A\, 26 Pleasant St\, Newburyport\, MA\, 01950\, United States
END:VEVENT
BEGIN:VEVENT
DTSTART;TZID=America/New_York:20251114T080000
DTEND;TZID=America/New_York:20251114T093000
DTSTAMP:20260419T095946
CREATED:20251104T185515Z
LAST-MODIFIED:20251104T185515Z
UID:49228-1763107200-1763112600@www.frsuu.org
SUMMARY:Capital Campaign Meeting (hybrid)
DESCRIPTION:Fridays starting October 31\, LMH Room A\, 8-9:30am
URL:https://www.frsuu.org/event/capital-campaign-meeting-hybrid/2025-11-14/
LOCATION:LMH Room A\, 26 Pleasant St\, Newburyport\, MA\, 01950\, United States
END:VEVENT
BEGIN:VEVENT
DTSTART;TZID=America/New_York:20251107T080000
DTEND;TZID=America/New_York:20251107T093000
DTSTAMP:20260419T095946
CREATED:20251104T185515Z
LAST-MODIFIED:20251104T185515Z
UID:49227-1762502400-1762507800@www.frsuu.org
SUMMARY:Capital Campaign Meeting (hybrid)
DESCRIPTION:Fridays starting October 31\, LMH Room A\, 8-9:30am
URL:https://www.frsuu.org/event/capital-campaign-meeting-hybrid/2025-11-07/
LOCATION:LMH Room A\, 26 Pleasant St\, Newburyport\, MA\, 01950\, United States
END:VEVENT
BEGIN:VEVENT
DTSTART;TZID=America/New_York:20251031T080000
DTEND;TZID=America/New_York:20251031T093000
DTSTAMP:20260419T095946
CREATED:20251104T185515Z
LAST-MODIFIED:20251104T185515Z
UID:49226-1761897600-1761903000@www.frsuu.org
SUMMARY:Capital Campaign Meeting (hybrid)
DESCRIPTION:Fridays starting October 31\, LMH Room A\, 8-9:30am
URL:https://www.frsuu.org/event/capital-campaign-meeting-hybrid/2025-10-31/
LOCATION:LMH Room A\, 26 Pleasant St\, Newburyport\, MA\, 01950\, United States
END:VEVENT
BEGIN:VEVENT
DTSTART;TZID=America/New_York:20251024T080000
DTEND;TZID=America/New_York:20251024T090000
DTSTAMP:20260419T095946
CREATED:20250625T192350Z
LAST-MODIFIED:20251104T185833Z
UID:47193-1761292800-1761296400@www.frsuu.org
SUMMARY:Capital Campaign Meeting (Zoom)
DESCRIPTION:Fridays\, Alternating weeks beginning August 1; Zoom
URL:https://www.frsuu.org/event/capital-campaign-meeting-zoom/2025-10-24/
LOCATION:Zoom
END:VEVENT
BEGIN:VEVENT
DTSTART;TZID=America/New_York:20251010T080000
DTEND;TZID=America/New_York:20251010T090000
DTSTAMP:20260419T095946
CREATED:20250625T192350Z
LAST-MODIFIED:20251104T185831Z
UID:47192-1760083200-1760086800@www.frsuu.org
SUMMARY:Capital Campaign Meeting (Zoom)
DESCRIPTION:Fridays\, Alternating weeks beginning August 1; Zoom
URL:https://www.frsuu.org/event/capital-campaign-meeting-zoom/2025-10-10/
LOCATION:Zoom
END:VEVENT
BEGIN:VEVENT
DTSTART;TZID=America/New_York:20251003T090000
DTEND;TZID=America/New_York:20251003T100000
DTSTAMP:20260419T095946
CREATED:20251002T201410Z
LAST-MODIFIED:20251002T201410Z
UID:48591-1759482000-1759485600@www.frsuu.org
SUMMARY:Capital Campaign Meeting
DESCRIPTION:Friday\, October 3\, Parish Hall 1st Floor\, 9-10am
URL:https://www.frsuu.org/event/capital-campaign-meeting-5/
LOCATION:Parish Hall 1st Floor
END:VEVENT
BEGIN:VEVENT
DTSTART;TZID=America/New_York:20250926T080000
DTEND;TZID=America/New_York:20250926T090000
DTSTAMP:20260419T095946
CREATED:20250625T192350Z
LAST-MODIFIED:20251104T185829Z
UID:47191-1758873600-1758877200@www.frsuu.org
SUMMARY:Capital Campaign Meeting (Zoom)
DESCRIPTION:Fridays\, Alternating weeks beginning August 1; Zoom
URL:https://www.frsuu.org/event/capital-campaign-meeting-zoom/2025-09-26/
LOCATION:Zoom
END:VEVENT
BEGIN:VEVENT
DTSTART;TZID=America/New_York:20250829T080000
DTEND;TZID=America/New_York:20250829T090000
DTSTAMP:20260419T095946
CREATED:20250625T192350Z
LAST-MODIFIED:20251104T185827Z
UID:46798-1756454400-1756458000@www.frsuu.org
SUMMARY:Capital Campaign Meeting (Zoom)
DESCRIPTION:Fridays\, Alternating weeks beginning August 1; Zoom
URL:https://www.frsuu.org/event/capital-campaign-meeting-zoom/2025-08-29/
LOCATION:Zoom
END:VEVENT
BEGIN:VEVENT
DTSTART;TZID=America/New_York:20250815T080000
DTEND;TZID=America/New_York:20250815T090000
DTSTAMP:20260419T095946
CREATED:20250625T192350Z
LAST-MODIFIED:20251104T185827Z
UID:46797-1755244800-1755248400@www.frsuu.org
SUMMARY:Capital Campaign Meeting (Zoom)
DESCRIPTION:Fridays\, Alternating weeks beginning August 1; Zoom
URL:https://www.frsuu.org/event/capital-campaign-meeting-zoom/2025-08-15/
LOCATION:Zoom
END:VEVENT
BEGIN:VEVENT
DTSTART;TZID=America/New_York:20250801T080000
DTEND;TZID=America/New_York:20250801T090000
DTSTAMP:20260419T095946
CREATED:20250625T192350Z
LAST-MODIFIED:20251104T185826Z
UID:46796-1754035200-1754038800@www.frsuu.org
SUMMARY:Capital Campaign Meeting (Zoom)
DESCRIPTION:Fridays\, Alternating weeks beginning August 1; Zoom
URL:https://www.frsuu.org/event/capital-campaign-meeting-zoom/2025-08-01/
LOCATION:Zoom
END:VEVENT
BEGIN:VEVENT
DTSTART;TZID=America/New_York:20250718T080000
DTEND;TZID=America/New_York:20250718T090000
DTSTAMP:20260419T095946
CREATED:20250625T192350Z
LAST-MODIFIED:20251104T185818Z
UID:46795-1752825600-1752829200@www.frsuu.org
SUMMARY:Capital Campaign Meeting (Zoom)
DESCRIPTION:Fridays\, Alternating weeks beginning August 1; Zoom
URL:https://www.frsuu.org/event/capital-campaign-meeting-zoom/2025-07-18/
LOCATION:Zoom
END:VEVENT
BEGIN:VEVENT
DTSTART;TZID=America/New_York:20250702T160000
DTEND;TZID=America/New_York:20250702T170000
DTSTAMP:20260419T095946
CREATED:20250625T192514Z
LAST-MODIFIED:20250625T192514Z
UID:46800-1751472000-1751475600@www.frsuu.org
SUMMARY:Capital Campaign Meeting (Zoom)
DESCRIPTION:Wednesday\, July 2; Fridays\, July 18\, August 1\, August 15\, August 29; Zoom
URL:https://www.frsuu.org/event/capital-campaign-meeting-zoom-2/
LOCATION:Zoom
END:VEVENT
BEGIN:VEVENT
DTSTART;TZID=America/New_York:20250111T080000
DTEND;TZID=America/New_York:20250111T100000
DTSTAMP:20260419T095946
CREATED:20240910T173628Z
LAST-MODIFIED:20250103T235924Z
UID:40943-1736582400-1736589600@www.frsuu.org
SUMMARY:Men's Group Auction Breakfast Celebrating Women
DESCRIPTION:On Saturday\, January 11 from 8–10am The FRS Men’s Group will be cooking a deluxe breakfast honoring women as an FRSUU auction item. We hope to sell 100 tickets to this event. All women are welcome regardless of payment. The suggested donation is $20/person and children under 12 are free. You can arrive any time to enjoy your breakfast\, on your schedule. \n\nThe deluxe breakfast includes made-to-order omelets\, fruit\, freshly baked pastries\, pancakes\, breakfast meats\, and beverages.  There will also be gluten-free options. If you signed up for the breakfast at the auction\, the payments were not collected at the time and we need you to re-confirm your interest in the breakfast. \n\n\nLook for the sign-up table in the vestibule after church or sign-up on-line here. \n\n\nThe Snow date is January 25.
URL:https://www.frsuu.org/event/mens-group-auction-breakfast-celebrating-women/
LOCATION:Parish Hall 1st Floor
END:VEVENT
BEGIN:VEVENT
DTSTART;TZID=America/New_York:20241004T180000
DTEND;TZID=America/New_York:20241004T220000
DTSTAMP:20260419T095946
CREATED:20240912T141638Z
LAST-MODIFIED:20240912T142453Z
UID:41196-1728064800-1728079200@www.frsuu.org
SUMMARY:FRSUU Auction: “Be the Light in the World”
DESCRIPTION:Friday\, October 4\, 2024\, 6-10pm at the Newburyport Community Center\n\n\nFor all event details and to purchase a ticket please visit: https://www.frsuu.org/2024-auction/
URL:https://www.frsuu.org/event/frsuu-auction-be-the-light-in-the-world/
LOCATION:Newburyport Community Center\, 331 High St\, Newburyport\, MA\, 01950\, United States
CATEGORIES:Community Events,Fundraising
END:VEVENT
END:VCALENDAR