BEGIN:VCALENDAR
VERSION:2.0
PRODID:-//First Religious Society of Newburyport - ECPv6.15.20//NONSGML v1.0//EN
CALSCALE:GREGORIAN
METHOD:PUBLISH
X-WR-CALNAME:First Religious Society of Newburyport
X-ORIGINAL-URL:https://www.frsuu.org
X-WR-CALDESC:Events for First Religious Society of Newburyport
REFRESH-INTERVAL;VALUE=DURATION:PT1H
X-Robots-Tag:noindex
X-PUBLISHED-TTL:PT1H
BEGIN:VTIMEZONE
TZID:America/New_York
BEGIN:DAYLIGHT
TZOFFSETFROM:-0500
TZOFFSETTO:-0400
TZNAME:EDT
DTSTART:20240310T070000
END:DAYLIGHT
BEGIN:STANDARD
TZOFFSETFROM:-0400
TZOFFSETTO:-0500
TZNAME:EST
DTSTART:20241103T060000
END:STANDARD
BEGIN:DAYLIGHT
TZOFFSETFROM:-0500
TZOFFSETTO:-0400
TZNAME:EDT
DTSTART:20250309T070000
END:DAYLIGHT
BEGIN:STANDARD
TZOFFSETFROM:-0400
TZOFFSETTO:-0500
TZNAME:EST
DTSTART:20251102T060000
END:STANDARD
BEGIN:DAYLIGHT
TZOFFSETFROM:-0500
TZOFFSETTO:-0400
TZNAME:EDT
DTSTART:20260308T070000
END:DAYLIGHT
BEGIN:STANDARD
TZOFFSETFROM:-0400
TZOFFSETTO:-0500
TZNAME:EST
DTSTART:20261101T060000
END:STANDARD
END:VTIMEZONE
BEGIN:VEVENT
DTSTART;TZID=America/New_York:20250709T120000
DTEND;TZID=America/New_York:20250709T133000
DTSTAMP:20260423T121711
CREATED:20250630T160554Z
LAST-MODIFIED:20250630T160555Z
UID:46829-1752062400-1752067800@www.frsuu.org
SUMMARY:Retired Old Men Eating Out (ROMEO)
DESCRIPTION:Wednesday\, July 9\, Barking Dog Grill\, noon. \nThe next meeting of ROMEO is at the Barking Dog Grill\, 21 Friend St\, Amesbury\, MA 01913\, https://www.barkingdoggrill.com. Our Officer of the Day is Chuck Kennedy who can be reached at chuckanzie@gmail.com. Please feel free to contact Chuck if you have any questions or concerns. No reservations are required\, but $$$ to pay your share of the tab is needed.
URL:https://www.frsuu.org/event/retired-old-men-eating-out-romeo-11/
LOCATION:Barking Dog Grill\, 21 Friend St\, Amesbury\, MA\, 01913\, United States
ORGANIZER;CN="Ed Budelmann":MAILTO:edbudelmann@gmail.com
END:VEVENT
END:VCALENDAR