BEGIN:VCALENDAR
VERSION:2.0
PRODID:-//First Religious Society of Newburyport - ECPv6.15.20//NONSGML v1.0//EN
CALSCALE:GREGORIAN
METHOD:PUBLISH
X-ORIGINAL-URL:https://www.frsuu.org
X-WR-CALDESC:Events for First Religious Society of Newburyport
REFRESH-INTERVAL;VALUE=DURATION:PT1H
X-Robots-Tag:noindex
X-PUBLISHED-TTL:PT1H
BEGIN:VTIMEZONE
TZID:America/New_York
BEGIN:DAYLIGHT
TZOFFSETFROM:-0500
TZOFFSETTO:-0400
TZNAME:EDT
DTSTART:20230312T070000
END:DAYLIGHT
BEGIN:STANDARD
TZOFFSETFROM:-0400
TZOFFSETTO:-0500
TZNAME:EST
DTSTART:20231105T060000
END:STANDARD
BEGIN:DAYLIGHT
TZOFFSETFROM:-0500
TZOFFSETTO:-0400
TZNAME:EDT
DTSTART:20240310T070000
END:DAYLIGHT
BEGIN:STANDARD
TZOFFSETFROM:-0400
TZOFFSETTO:-0500
TZNAME:EST
DTSTART:20241103T060000
END:STANDARD
BEGIN:DAYLIGHT
TZOFFSETFROM:-0500
TZOFFSETTO:-0400
TZNAME:EDT
DTSTART:20250309T070000
END:DAYLIGHT
BEGIN:STANDARD
TZOFFSETFROM:-0400
TZOFFSETTO:-0500
TZNAME:EST
DTSTART:20251102T060000
END:STANDARD
BEGIN:DAYLIGHT
TZOFFSETFROM:-0500
TZOFFSETTO:-0400
TZNAME:EDT
DTSTART:20260308T070000
END:DAYLIGHT
BEGIN:STANDARD
TZOFFSETFROM:-0400
TZOFFSETTO:-0500
TZNAME:EST
DTSTART:20261101T060000
END:STANDARD
END:VTIMEZONE
BEGIN:VEVENT
DTSTART;TZID=America/New_York:20250813T120000
DTEND;TZID=America/New_York:20250813T133000
DTSTAMP:20260424T195821
CREATED:20250717T192127Z
LAST-MODIFIED:20250717T192154Z
UID:46908-1755086400-1755091800@www.frsuu.org
SUMMARY:Retired Old Men Eating Out (ROMEO)
DESCRIPTION:Wednesday\, August 13\, Brown Sugar by the Sea\, noon. \nThe next meeting of ROMEO is at the Brown Sugar by the Sea\, August 13 at 12pm. The address is 75 Water St\, Newburyport\, MA 01950. Our Officer of the Day is Mark Hodgson who can be reached at markohodgson@icloud.com. Please feel free to contact Mark if you have any questions or concerns. No reservations are required\, but $$$ to pay your share of the tab is needed.
URL:https://www.frsuu.org/event/retired-old-men-eating-out-romeo-12/
LOCATION:Brown Sugar by the Sea\, 75 Water St\, Newburyport\, MA\, 01950\, United States
ORGANIZER;CN="Ed Budelmann":MAILTO:edbudelmann@gmail.com
END:VEVENT
BEGIN:VEVENT
DTSTART;TZID=America/New_York:20241009T120000
DTEND;TZID=America/New_York:20241009T133000
DTSTAMP:20260424T195821
CREATED:20240927T152420Z
LAST-MODIFIED:20240927T152420Z
UID:41694-1728475200-1728480600@www.frsuu.org
SUMMARY:Retired Old Men Eating Out (ROMEO)
DESCRIPTION:The next meeting of ROMEO is at Brown Sugar on Wednesday\, October 9\, at noon. Reservations are not required. Please bring small bills to cover your share of the check.
URL:https://www.frsuu.org/event/retired-old-men-eating-out-romeo-3/
LOCATION:Brown Sugar by the Sea\, 75 Water St\, Newburyport\, MA\, 01950\, United States
ORGANIZER;CN="Ed Budelmann":MAILTO:edbudelmann@gmail.com
END:VEVENT
END:VCALENDAR