BEGIN:VCALENDAR
VERSION:2.0
PRODID:-//First Religious Society of Newburyport - ECPv6.15.20//NONSGML v1.0//EN
CALSCALE:GREGORIAN
METHOD:PUBLISH
X-WR-CALNAME:First Religious Society of Newburyport
X-ORIGINAL-URL:https://www.frsuu.org
X-WR-CALDESC:Events for First Religious Society of Newburyport
REFRESH-INTERVAL;VALUE=DURATION:PT1H
X-Robots-Tag:noindex
X-PUBLISHED-TTL:PT1H
BEGIN:VTIMEZONE
TZID:America/New_York
BEGIN:DAYLIGHT
TZOFFSETFROM:-0500
TZOFFSETTO:-0400
TZNAME:EDT
DTSTART:20230312T070000
END:DAYLIGHT
BEGIN:STANDARD
TZOFFSETFROM:-0400
TZOFFSETTO:-0500
TZNAME:EST
DTSTART:20231105T060000
END:STANDARD
BEGIN:DAYLIGHT
TZOFFSETFROM:-0500
TZOFFSETTO:-0400
TZNAME:EDT
DTSTART:20240310T070000
END:DAYLIGHT
BEGIN:STANDARD
TZOFFSETFROM:-0400
TZOFFSETTO:-0500
TZNAME:EST
DTSTART:20241103T060000
END:STANDARD
BEGIN:DAYLIGHT
TZOFFSETFROM:-0500
TZOFFSETTO:-0400
TZNAME:EDT
DTSTART:20250309T070000
END:DAYLIGHT
BEGIN:STANDARD
TZOFFSETFROM:-0400
TZOFFSETTO:-0500
TZNAME:EST
DTSTART:20251102T060000
END:STANDARD
BEGIN:DAYLIGHT
TZOFFSETFROM:-0500
TZOFFSETTO:-0400
TZNAME:EDT
DTSTART:20260308T070000
END:DAYLIGHT
BEGIN:STANDARD
TZOFFSETFROM:-0400
TZOFFSETTO:-0500
TZNAME:EST
DTSTART:20261101T060000
END:STANDARD
END:VTIMEZONE
BEGIN:VEVENT
DTSTART;TZID=America/New_York:20250824T101500
DTEND;TZID=America/New_York:20250824T111500
DTSTAMP:20260423T150405
CREATED:20250507T212351Z
LAST-MODIFIED:20250805T194840Z
UID:45977-1756030500-1756034100@www.frsuu.org
SUMMARY:Sunday Worship Service-Hampton Falls
DESCRIPTION:Sunday\, August 24\, First Congregational Society Unitarian\, Hampton Falls\, NH\, 10:15am. Join Rev. Rebecca for our annual service in Hampton Falls.
URL:https://www.frsuu.org/event/sunday-worship-service-hampton-falls/
LOCATION:First Congregational Society Unitarian Church\, 143 Exeter Rd\, Hampton Falls\, NH\, 03844\, United States
CATEGORIES:Worship
END:VEVENT
BEGIN:VEVENT
DTSTART;TZID=America/New_York:20240825T100000
DTEND;TZID=America/New_York:20240825T110000
DTSTAMP:20260423T150405
CREATED:20240731T200859Z
LAST-MODIFIED:20240731T200859Z
UID:39095-1724580000-1724583600@www.frsuu.org
SUMMARY:Hampton Falls Worship with Rev. Rebecca
DESCRIPTION:Rev. Rebecca continues the long tradition of preaching at First Congregational Society Unitarian Church Hampton Falls on the last Sunday of August. This is a special more intimate gathering you won’t want to miss. Service will be at 10am and the address is 143 Exeter Road in Hampton Falls New Hampshire.
URL:https://www.frsuu.org/event/hampton-falls-worship-with-rev-rebecca/
LOCATION:First Congregational Society Unitarian Church\, 143 Exeter Rd\, Hampton Falls\, NH\, 03844\, United States
END:VEVENT
END:VCALENDAR