BEGIN:VCALENDAR
VERSION:2.0
PRODID:-//First Religious Society of Newburyport - ECPv6.15.20//NONSGML v1.0//EN
CALSCALE:GREGORIAN
METHOD:PUBLISH
X-WR-CALNAME:First Religious Society of Newburyport
X-ORIGINAL-URL:https://www.frsuu.org
X-WR-CALDESC:Events for First Religious Society of Newburyport
REFRESH-INTERVAL;VALUE=DURATION:PT1H
X-Robots-Tag:noindex
X-PUBLISHED-TTL:PT1H
BEGIN:VTIMEZONE
TZID:America/New_York
BEGIN:DAYLIGHT
TZOFFSETFROM:-0500
TZOFFSETTO:-0400
TZNAME:EDT
DTSTART:20240310T070000
END:DAYLIGHT
BEGIN:STANDARD
TZOFFSETFROM:-0400
TZOFFSETTO:-0500
TZNAME:EST
DTSTART:20241103T060000
END:STANDARD
BEGIN:DAYLIGHT
TZOFFSETFROM:-0500
TZOFFSETTO:-0400
TZNAME:EDT
DTSTART:20250309T070000
END:DAYLIGHT
BEGIN:STANDARD
TZOFFSETFROM:-0400
TZOFFSETTO:-0500
TZNAME:EST
DTSTART:20251102T060000
END:STANDARD
BEGIN:DAYLIGHT
TZOFFSETFROM:-0500
TZOFFSETTO:-0400
TZNAME:EDT
DTSTART:20260308T070000
END:DAYLIGHT
BEGIN:STANDARD
TZOFFSETFROM:-0400
TZOFFSETTO:-0500
TZNAME:EST
DTSTART:20261101T060000
END:STANDARD
BEGIN:DAYLIGHT
TZOFFSETFROM:-0500
TZOFFSETTO:-0400
TZNAME:EDT
DTSTART:20270314T070000
END:DAYLIGHT
BEGIN:STANDARD
TZOFFSETFROM:-0400
TZOFFSETTO:-0500
TZNAME:EST
DTSTART:20271107T060000
END:STANDARD
END:VTIMEZONE
BEGIN:VEVENT
DTSTART;TZID=America/New_York:20260215T103000
DTEND;TZID=America/New_York:20260215T113000
DTSTAMP:20260422T205557
CREATED:20250520T205919Z
LAST-MODIFIED:20260407T154212Z
UID:46157-1771151400-1771155000@www.frsuu.org
SUMMARY:Sunday Worship Service
DESCRIPTION:Sundays\, Sanctuary\, 10:30-11:30am with livestream on YouTube. \nJoin us for worship from the Sunday after Labor Day through late spring. Experience elements of the world religions\, including our Christian roots and humanism. Find inspiration in choral and instrumental music (including organ)\, congregational singing\, a time for children\, readings\, an offering\, and meditative silence. Hear a sermon on social justice\, spirituality\, dealing with life’s challenges\, or other issues. We may celebrate a holiday\, act out a skit\, or hold a coming-of-age ceremony. Services are usually followed by a 30-minute fellowship gathering or a monthly Justice Sunday program.
URL:https://www.frsuu.org/event/sunday-worship-service-3/2026-02-15/
LOCATION:FRS Sanctuary\, 26 Pleasant St\, Newburyport\, MA\, 01950\, United States
CATEGORIES:Music,Worship
END:VEVENT
BEGIN:VEVENT
DTSTART;TZID=America/New_York:20260208T103000
DTEND;TZID=America/New_York:20260208T113000
DTSTAMP:20260422T205557
CREATED:20250520T205919Z
LAST-MODIFIED:20260407T154212Z
UID:46156-1770546600-1770550200@www.frsuu.org
SUMMARY:Sunday Worship Service
DESCRIPTION:Sundays\, Sanctuary\, 10:30-11:30am with livestream on YouTube. \nJoin us for worship from the Sunday after Labor Day through late spring. Experience elements of the world religions\, including our Christian roots and humanism. Find inspiration in choral and instrumental music (including organ)\, congregational singing\, a time for children\, readings\, an offering\, and meditative silence. Hear a sermon on social justice\, spirituality\, dealing with life’s challenges\, or other issues. We may celebrate a holiday\, act out a skit\, or hold a coming-of-age ceremony. Services are usually followed by a 30-minute fellowship gathering or a monthly Justice Sunday program.
URL:https://www.frsuu.org/event/sunday-worship-service-3/2026-02-08/
LOCATION:FRS Sanctuary\, 26 Pleasant St\, Newburyport\, MA\, 01950\, United States
CATEGORIES:Music,Worship
END:VEVENT
BEGIN:VEVENT
DTSTART;TZID=America/New_York:20260203T190000
DTEND;TZID=America/New_York:20260203T200000
DTSTAMP:20260422T205557
CREATED:20260202T143338Z
LAST-MODIFIED:20260202T143340Z
UID:50189-1770145200-1770148800@www.frsuu.org
SUMMARY:Cancelled: Contemplative Service
DESCRIPTION:There will not be a Contemplative Service on February 3 as previously scheduled. The ICE Out Vigil on January 27 was held in place of the February 3 Contemplative Service. \nYou can join Rev. Rebecca and Nick Place for Poetry and Music on the third Tuesday evening of this month\, February 17. Contemplative Services will resume on the first Tuesday in March.
URL:https://www.frsuu.org/event/cancelled-contemplative-service/
LOCATION:FRS Sanctuary\, 26 Pleasant St\, Newburyport\, MA\, 01950\, United States
END:VEVENT
BEGIN:VEVENT
DTSTART;TZID=America/New_York:20260201T160000
DTEND;TZID=America/New_York:20260201T170000
DTSTAMP:20260422T205557
CREATED:20250716T153752Z
LAST-MODIFIED:20260107T193823Z
UID:46902-1769961600-1769965200@www.frsuu.org
SUMMARY:2026 Wilson Series Concert: Palaver Strings
DESCRIPTION:Sunday\, February 1\, Sanctuary\, 4pm. Streamed on YouTube. (Sanctuary and LMH Room A reserved from 2:30-6pm). \nPalaver Strings: Based out of Portland\, Maine\, the Grammy-nominated\, musician-led and nonprofit organization Palaver Strings seeks to strengthen and inspire community through music. Committed to performance\, education\, and creative collaboration\, Palaver specializes in programming underrepresented voices. The term “palaver” comes from the term “palaver hut\,” a traditional place for discussion and conflict resolution in Liberia and other West African countries. \nPurchase advance tickets to all concerts here: https://bit.ly/2026WilsonSeriesTickets
URL:https://www.frsuu.org/event/palaver-strings/
LOCATION:FRS Sanctuary\, 26 Pleasant St\, Newburyport\, MA\, 01950\, United States
CATEGORIES:Music
END:VEVENT
BEGIN:VEVENT
DTSTART;TZID=America/New_York:20260201T103000
DTEND;TZID=America/New_York:20260201T113000
DTSTAMP:20260422T205557
CREATED:20250520T205919Z
LAST-MODIFIED:20260407T154211Z
UID:46155-1769941800-1769945400@www.frsuu.org
SUMMARY:Sunday Worship Service
DESCRIPTION:Sundays\, Sanctuary\, 10:30-11:30am with livestream on YouTube. \nJoin us for worship from the Sunday after Labor Day through late spring. Experience elements of the world religions\, including our Christian roots and humanism. Find inspiration in choral and instrumental music (including organ)\, congregational singing\, a time for children\, readings\, an offering\, and meditative silence. Hear a sermon on social justice\, spirituality\, dealing with life’s challenges\, or other issues. We may celebrate a holiday\, act out a skit\, or hold a coming-of-age ceremony. Services are usually followed by a 30-minute fellowship gathering or a monthly Justice Sunday program.
URL:https://www.frsuu.org/event/sunday-worship-service-3/2026-02-01/
LOCATION:FRS Sanctuary\, 26 Pleasant St\, Newburyport\, MA\, 01950\, United States
CATEGORIES:Music,Worship
END:VEVENT
BEGIN:VEVENT
DTSTART;TZID=America/New_York:20260127T190000
DTEND;TZID=America/New_York:20260127T200000
DTSTAMP:20260422T205557
CREATED:20260126T194848Z
LAST-MODIFIED:20260126T194849Z
UID:50165-1769540400-1769544000@www.frsuu.org
SUMMARY:Worship Service: Our Call to Action and Love
DESCRIPTION:Tuesday\, January 27\, Sanctuary and YouTube\, 7-8pm. \nThe ongoing violence and death of Alex Pretti are reprehensible and unacceptable. ICE Out is real and critically important for restoration of justice. \nAt this special service Rev. Rebecca will speak to what is happening and offer a faithful reflection on how we move through this. The service will be an essential time to come together to restore ourselves\, rooted in love\, and reflect upon faithful responses\, attitudes\, and actions. Nick Place will offer music and Joanna Fernandes will help us lead the service. \nAttend the service on YouTube HERE.
URL:https://www.frsuu.org/event/worship-service-our-call-to-action-and-love/
LOCATION:FRS Sanctuary\, 26 Pleasant St\, Newburyport\, MA\, 01950\, United States
CATEGORIES:Worship
END:VEVENT
BEGIN:VEVENT
DTSTART;TZID=America/New_York:20260125T103000
DTEND;TZID=America/New_York:20260125T113000
DTSTAMP:20260422T205557
CREATED:20250520T205919Z
LAST-MODIFIED:20260407T154210Z
UID:46154-1769337000-1769340600@www.frsuu.org
SUMMARY:Sunday Worship Service
DESCRIPTION:Sundays\, Sanctuary\, 10:30-11:30am with livestream on YouTube. \nJoin us for worship from the Sunday after Labor Day through late spring. Experience elements of the world religions\, including our Christian roots and humanism. Find inspiration in choral and instrumental music (including organ)\, congregational singing\, a time for children\, readings\, an offering\, and meditative silence. Hear a sermon on social justice\, spirituality\, dealing with life’s challenges\, or other issues. We may celebrate a holiday\, act out a skit\, or hold a coming-of-age ceremony. Services are usually followed by a 30-minute fellowship gathering or a monthly Justice Sunday program.
URL:https://www.frsuu.org/event/sunday-worship-service-3/2026-01-25/
LOCATION:FRS Sanctuary\, 26 Pleasant St\, Newburyport\, MA\, 01950\, United States
CATEGORIES:Music,Worship
END:VEVENT
BEGIN:VEVENT
DTSTART;TZID=America/New_York:20260123T120000
DTEND;TZID=America/New_York:20260123T160000
DTSTAMP:20260422T205557
CREATED:20260121T154948Z
LAST-MODIFIED:20260121T154948Z
UID:50125-1769169600-1769184000@www.frsuu.org
SUMMARY:Chris Plante recording session
DESCRIPTION:Friday\, Jan 23; 12-4pm; Sanctuary
URL:https://www.frsuu.org/event/chris-plante-recording-session/
LOCATION:FRS Sanctuary\, 26 Pleasant St\, Newburyport\, MA\, 01950\, United States
END:VEVENT
BEGIN:VEVENT
DTSTART;TZID=America/New_York:20260120T190000
DTEND;TZID=America/New_York:20260120T200000
DTSTAMP:20260422T205557
CREATED:20250528T144109Z
LAST-MODIFIED:20260407T162719Z
UID:46290-1768935600-1768939200@www.frsuu.org
SUMMARY:Poetry & Music Service
DESCRIPTION:Third Tuesdays beginning September 16\, Sanctuary\, 7-8pm. Led by Rev. Rebecca and Nick Place.
URL:https://www.frsuu.org/event/poetry-music-service/2026-01-20/
LOCATION:FRS Sanctuary\, 26 Pleasant St\, Newburyport\, MA\, 01950\, United States
CATEGORIES:Music,Worship
END:VEVENT
BEGIN:VEVENT
DTSTART;TZID=America/New_York:20260118T103000
DTEND;TZID=America/New_York:20260118T113000
DTSTAMP:20260422T205557
CREATED:20250520T205919Z
LAST-MODIFIED:20260407T154209Z
UID:46153-1768732200-1768735800@www.frsuu.org
SUMMARY:Sunday Worship Service
DESCRIPTION:Sundays\, Sanctuary\, 10:30-11:30am with livestream on YouTube. \nJoin us for worship from the Sunday after Labor Day through late spring. Experience elements of the world religions\, including our Christian roots and humanism. Find inspiration in choral and instrumental music (including organ)\, congregational singing\, a time for children\, readings\, an offering\, and meditative silence. Hear a sermon on social justice\, spirituality\, dealing with life’s challenges\, or other issues. We may celebrate a holiday\, act out a skit\, or hold a coming-of-age ceremony. Services are usually followed by a 30-minute fellowship gathering or a monthly Justice Sunday program.
URL:https://www.frsuu.org/event/sunday-worship-service-3/2026-01-18/
LOCATION:FRS Sanctuary\, 26 Pleasant St\, Newburyport\, MA\, 01950\, United States
CATEGORIES:Music,Worship
END:VEVENT
BEGIN:VEVENT
DTSTART;TZID=America/New_York:20260117T140000
DTEND;TZID=America/New_York:20260117T153000
DTSTAMP:20260422T205557
CREATED:20251126T221027Z
LAST-MODIFIED:20251126T221027Z
UID:49642-1768658400-1768663800@www.frsuu.org
SUMMARY:Reserved for Baby Blessing
DESCRIPTION:Sunday\, January 17\, Sanctuary\, reserved 2-3:30pm
URL:https://www.frsuu.org/event/reserved-for-baby-blessing-2/
LOCATION:FRS Sanctuary\, 26 Pleasant St\, Newburyport\, MA\, 01950\, United States
END:VEVENT
BEGIN:VEVENT
DTSTART;TZID=America/New_York:20260111T103000
DTEND;TZID=America/New_York:20260111T113000
DTSTAMP:20260422T205557
CREATED:20250520T205919Z
LAST-MODIFIED:20260407T154159Z
UID:46152-1768127400-1768131000@www.frsuu.org
SUMMARY:Sunday Worship Service
DESCRIPTION:Sundays\, Sanctuary\, 10:30-11:30am with livestream on YouTube. \nJoin us for worship from the Sunday after Labor Day through late spring. Experience elements of the world religions\, including our Christian roots and humanism. Find inspiration in choral and instrumental music (including organ)\, congregational singing\, a time for children\, readings\, an offering\, and meditative silence. Hear a sermon on social justice\, spirituality\, dealing with life’s challenges\, or other issues. We may celebrate a holiday\, act out a skit\, or hold a coming-of-age ceremony. Services are usually followed by a 30-minute fellowship gathering or a monthly Justice Sunday program.
URL:https://www.frsuu.org/event/sunday-worship-service-3/2026-01-11/
LOCATION:FRS Sanctuary\, 26 Pleasant St\, Newburyport\, MA\, 01950\, United States
CATEGORIES:Music,Worship
END:VEVENT
BEGIN:VEVENT
DTSTART;TZID=America/New_York:20260106T190000
DTEND;TZID=America/New_York:20260106T200000
DTSTAMP:20260422T205557
CREATED:20251126T205413Z
LAST-MODIFIED:20260317T154329Z
UID:49498-1767726000-1767729600@www.frsuu.org
SUMMARY:Contemplative Service
DESCRIPTION:First Tuesdays\, starting January 6\, Sanctuary\, 7-8pm. \nLed by the community of FRSUU.
URL:https://www.frsuu.org/event/contemplative-service-2/2026-01-06/
LOCATION:FRS Sanctuary\, 26 Pleasant St\, Newburyport\, MA\, 01950\, United States
END:VEVENT
BEGIN:VEVENT
DTSTART;TZID=America/New_York:20260104T103000
DTEND;TZID=America/New_York:20260104T113000
DTSTAMP:20260422T205557
CREATED:20250520T205919Z
LAST-MODIFIED:20260407T154159Z
UID:46151-1767522600-1767526200@www.frsuu.org
SUMMARY:Sunday Worship Service
DESCRIPTION:Sundays\, Sanctuary\, 10:30-11:30am with livestream on YouTube. \nJoin us for worship from the Sunday after Labor Day through late spring. Experience elements of the world religions\, including our Christian roots and humanism. Find inspiration in choral and instrumental music (including organ)\, congregational singing\, a time for children\, readings\, an offering\, and meditative silence. Hear a sermon on social justice\, spirituality\, dealing with life’s challenges\, or other issues. We may celebrate a holiday\, act out a skit\, or hold a coming-of-age ceremony. Services are usually followed by a 30-minute fellowship gathering or a monthly Justice Sunday program.
URL:https://www.frsuu.org/event/sunday-worship-service-3/2026-01-04/
LOCATION:FRS Sanctuary\, 26 Pleasant St\, Newburyport\, MA\, 01950\, United States
CATEGORIES:Music,Worship
END:VEVENT
BEGIN:VEVENT
DTSTART;TZID=America/New_York:20251228T103000
DTEND;TZID=America/New_York:20251228T113000
DTSTAMP:20260422T205557
CREATED:20251126T222818Z
LAST-MODIFIED:20251126T222823Z
UID:49645-1766917800-1766921400@www.frsuu.org
SUMMARY:Sunday Worship Service
DESCRIPTION:Sunday\, December 28\, Sanctuary\, 10:30-11:30am with livestream on YouTube
URL:https://www.frsuu.org/event/sunday-worship-service-9/
LOCATION:FRS Sanctuary\, 26 Pleasant St\, Newburyport\, MA\, 01950\, United States
END:VEVENT
BEGIN:VEVENT
DTSTART;TZID=America/New_York:20251224T173000
DTEND;TZID=America/New_York:20251224T183000
DTSTAMP:20260422T205557
CREATED:20250520T214218Z
LAST-MODIFIED:20251217T215219Z
UID:46220-1766597400-1766601000@www.frsuu.org
SUMMARY:Christmas Eve Service
DESCRIPTION:Wednesday\, December 24\, Sanctuary\, 5:30-6:30pm with livestream on YouTube. \nOur traditional Christmas Eve service will include the Christmas Story\, carols\, and “Silent Night” sung by candlelight. Rev. Rebecca will lead worship\, with Danny Harrington on saxophone. Join in festive caroling outside the church after worship. All are welcome!
URL:https://www.frsuu.org/event/christmas-eve-service-2/
LOCATION:FRS Sanctuary\, 26 Pleasant St\, Newburyport\, MA\, 01950\, United States
CATEGORIES:Music,Worship
END:VEVENT
BEGIN:VEVENT
DTSTART;TZID=America/New_York:20251223T120000
DTEND;TZID=America/New_York:20251223T130000
DTSTAMP:20260422T205557
CREATED:20250502T190329Z
LAST-MODIFIED:20251217T215547Z
UID:45839-1766491200-1766494800@www.frsuu.org
SUMMARY:Serenity in the Sanctuary
DESCRIPTION:Friday\, December 19\, Monday\, December 22\, Tuesday\, December 23\, Sanctuary\, noon. \nPeace can be found within. Join us for one-hour programs of poetry\, guided meditation\, silent meditation\, and blessing. \nDecember 19: “Listen Inside” with Rev. Rebecca and Nick Place \nDecember 22: “Anticipating with Hope” with Rev. Laurel \nDecember 23: “Many Meanings of the Season” with Rev. Jane and Joanna Fernandes
URL:https://www.frsuu.org/event/serenity-in-the-sanctuary-3/2025-12-23/
LOCATION:FRS Sanctuary\, 26 Pleasant St\, Newburyport\, MA\, 01950\, United States
CATEGORIES:Spiritual Development
END:VEVENT
BEGIN:VEVENT
DTSTART;TZID=America/New_York:20251222T120000
DTEND;TZID=America/New_York:20251222T130000
DTSTAMP:20260422T205557
CREATED:20250502T190329Z
LAST-MODIFIED:20251217T215546Z
UID:45838-1766404800-1766408400@www.frsuu.org
SUMMARY:Serenity in the Sanctuary
DESCRIPTION:Friday\, December 19\, Monday\, December 22\, Tuesday\, December 23\, Sanctuary\, noon. \nPeace can be found within. Join us for one-hour programs of poetry\, guided meditation\, silent meditation\, and blessing. \nDecember 19: “Listen Inside” with Rev. Rebecca and Nick Place \nDecember 22: “Anticipating with Hope” with Rev. Laurel \nDecember 23: “Many Meanings of the Season” with Rev. Jane and Joanna Fernandes
URL:https://www.frsuu.org/event/serenity-in-the-sanctuary-3/2025-12-22/
LOCATION:FRS Sanctuary\, 26 Pleasant St\, Newburyport\, MA\, 01950\, United States
CATEGORIES:Spiritual Development
END:VEVENT
BEGIN:VEVENT
DTSTART;TZID=America/New_York:20251221T190000
DTEND;TZID=America/New_York:20251221T200000
DTSTAMP:20260422T205557
CREATED:20250520T213739Z
LAST-MODIFIED:20251217T214847Z
UID:46214-1766343600-1766347200@www.frsuu.org
SUMMARY:Annual Candlelight Service
DESCRIPTION:Sunday\, December 21\, Sanctuary\, 7pm. \nJoin us for our 100th Anniversary Candlelight service\, a Newburyport tradition since 1925. Anthems and carols will be augmented by readings which celebrate the season. Music performed by the Portsmouth Brass Quintet\, vocalist Abi Levis\, and the Candlelight Chorale.
URL:https://www.frsuu.org/event/annual-candlelight-service-2/
LOCATION:FRS Sanctuary\, 26 Pleasant St\, Newburyport\, MA\, 01950\, United States
CATEGORIES:Community Events,Music,Worship
END:VEVENT
BEGIN:VEVENT
DTSTART;TZID=America/New_York:20251220T130000
DTEND;TZID=America/New_York:20251220T150000
DTSTAMP:20260422T205557
CREATED:20251111T161416Z
LAST-MODIFIED:20251111T161416Z
UID:49271-1766235600-1766242800@www.frsuu.org
SUMMARY:Candlelight Dress Rehearsal
DESCRIPTION:Saturday\, December 20\, Sanctuary\, 1-3pm
URL:https://www.frsuu.org/event/candlelight-dress-rehearsal/
LOCATION:FRS Sanctuary\, 26 Pleasant St\, Newburyport\, MA\, 01950\, United States
END:VEVENT
BEGIN:VEVENT
DTSTART;TZID=America/New_York:20251220T090000
DTEND;TZID=America/New_York:20251220T120000
DTSTAMP:20260422T205557
CREATED:20251120T215231Z
LAST-MODIFIED:20251120T215231Z
UID:49450-1766221200-1766232000@www.frsuu.org
SUMMARY:Organ Practice - Candlelight
DESCRIPTION:Sat\, Dec 20 – 9am-12pm – Sanctuary
URL:https://www.frsuu.org/event/organ-practice-candlelight-2/
LOCATION:FRS Sanctuary\, 26 Pleasant St\, Newburyport\, MA\, 01950\, United States
END:VEVENT
BEGIN:VEVENT
DTSTART;TZID=America/New_York:20251219T170000
DTEND;TZID=America/New_York:20251219T200000
DTSTAMP:20260422T205557
CREATED:20250923T162934Z
LAST-MODIFIED:20250923T162934Z
UID:48213-1766163600-1766174400@www.frsuu.org
SUMMARY:Gina McKeown - Student Recital
DESCRIPTION:Friday\, December 19\, Sanctuary and LMH Main Room\, reserved 5-8pm.
URL:https://www.frsuu.org/event/gina-mckeown-student-recital-2/
LOCATION:FRS Sanctuary\, 26 Pleasant St\, Newburyport\, MA\, 01950\, United States
END:VEVENT
BEGIN:VEVENT
DTSTART;TZID=America/New_York:20251219T120000
DTEND;TZID=America/New_York:20251219T130000
DTSTAMP:20260422T205557
CREATED:20250502T190329Z
LAST-MODIFIED:20251217T215545Z
UID:45835-1766145600-1766149200@www.frsuu.org
SUMMARY:Serenity in the Sanctuary
DESCRIPTION:Friday\, December 19\, Monday\, December 22\, Tuesday\, December 23\, Sanctuary\, noon. \nPeace can be found within. Join us for one-hour programs of poetry\, guided meditation\, silent meditation\, and blessing. \nDecember 19: “Listen Inside” with Rev. Rebecca and Nick Place \nDecember 22: “Anticipating with Hope” with Rev. Laurel \nDecember 23: “Many Meanings of the Season” with Rev. Jane and Joanna Fernandes
URL:https://www.frsuu.org/event/serenity-in-the-sanctuary-3/2025-12-19/
LOCATION:FRS Sanctuary\, 26 Pleasant St\, Newburyport\, MA\, 01950\, United States
CATEGORIES:Spiritual Development
END:VEVENT
BEGIN:VEVENT
DTSTART;TZID=America/New_York:20251217T130000
DTEND;TZID=America/New_York:20251217T170000
DTSTAMP:20260422T205557
CREATED:20251120T215130Z
LAST-MODIFIED:20251120T215130Z
UID:49448-1765976400-1765990800@www.frsuu.org
SUMMARY:Organ Practice - Candlelight
DESCRIPTION:Wed\, Dec 17 – 1-5pm – Sanctuary
URL:https://www.frsuu.org/event/organ-practice-candlelight/
LOCATION:FRS Sanctuary\, 26 Pleasant St\, Newburyport\, MA\, 01950\, United States
END:VEVENT
BEGIN:VEVENT
DTSTART;TZID=America/New_York:20251216T190000
DTEND;TZID=America/New_York:20251216T200000
DTSTAMP:20260422T205557
CREATED:20250528T144109Z
LAST-MODIFIED:20260407T162719Z
UID:46289-1765911600-1765915200@www.frsuu.org
SUMMARY:Poetry & Music Service
DESCRIPTION:Third Tuesdays beginning September 16\, Sanctuary\, 7-8pm. Led by Rev. Rebecca and Nick Place.
URL:https://www.frsuu.org/event/poetry-music-service/2025-12-16/
LOCATION:FRS Sanctuary\, 26 Pleasant St\, Newburyport\, MA\, 01950\, United States
CATEGORIES:Music,Worship
END:VEVENT
BEGIN:VEVENT
DTSTART;TZID=America/New_York:20251214T103000
DTEND;TZID=America/New_York:20251214T113000
DTSTAMP:20260422T205557
CREATED:20250520T214513Z
LAST-MODIFIED:20251208T143439Z
UID:46222-1765708200-1765711800@www.frsuu.org
SUMMARY:Pageant for All Ages
DESCRIPTION:Sunday\, December 14\, Sanctuary\, 10:30-11:30am with livestream on YouTube. \n \nJoin us on Sunday for this lively multigenerational service\, as we playfully retell the nativity story and enjoy singing cherished carols and hymns! After the service\, all are invited to join us for “Coffee and Cocoa Hour” next door in Parish Hall!
URL:https://www.frsuu.org/event/pageant-for-all-ages-2/
LOCATION:FRS Sanctuary\, 26 Pleasant St\, Newburyport\, MA\, 01950\, United States
CATEGORIES:Music,Worship,Young Church
END:VEVENT
BEGIN:VEVENT
DTSTART;TZID=America/New_York:20251207T120000
DTEND;TZID=America/New_York:20251207T130000
DTSTAMP:20260422T205557
CREATED:20250613T193849Z
LAST-MODIFIED:20251120T201519Z
UID:46752-1765108800-1765112400@www.frsuu.org
SUMMARY:Rev. Liz Walker Book Talk & Signing
DESCRIPTION:Sunday\, December 7\, Sanctuary\, 12-1pm. \nRev. Walker is a former WBZ news anchor and Pastor Emerita of the Roxbury Presbyterian Church\, where the “Can We Talk…” program was developed in response to gun violence that directly and deeply affected families in the church. “Can We Talk …” is the focus of Rev. Walker’s book\, No One Left Alone. \nCopies of the book will be available for sale at the event\, courtesy of Jabberwocky Bookshop. \nRev. Liz will also be our guest preacher for FRSUU Sunday worship on December 7 at 10:30am.
URL:https://www.frsuu.org/event/rev-liz-walker-book-talk-and-signing/
LOCATION:FRS Sanctuary\, 26 Pleasant St\, Newburyport\, MA\, 01950\, United States
CATEGORIES:Community Events,Justice Action MInistry
END:VEVENT
BEGIN:VEVENT
DTSTART;TZID=America/New_York:20251207T103000
DTEND;TZID=America/New_York:20251207T113000
DTSTAMP:20260422T205557
CREATED:20250520T205919Z
LAST-MODIFIED:20260407T154158Z
UID:46147-1765103400-1765107000@www.frsuu.org
SUMMARY:Sunday Worship Service
DESCRIPTION:Sundays\, Sanctuary\, 10:30-11:30am with livestream on YouTube. \nJoin us for worship from the Sunday after Labor Day through late spring. Experience elements of the world religions\, including our Christian roots and humanism. Find inspiration in choral and instrumental music (including organ)\, congregational singing\, a time for children\, readings\, an offering\, and meditative silence. Hear a sermon on social justice\, spirituality\, dealing with life’s challenges\, or other issues. We may celebrate a holiday\, act out a skit\, or hold a coming-of-age ceremony. Services are usually followed by a 30-minute fellowship gathering or a monthly Justice Sunday program.
URL:https://www.frsuu.org/event/sunday-worship-service-3/2025-12-07/
LOCATION:FRS Sanctuary\, 26 Pleasant St\, Newburyport\, MA\, 01950\, United States
CATEGORIES:Music,Worship
END:VEVENT
BEGIN:VEVENT
DTSTART;TZID=America/New_York:20251205T183000
DTEND;TZID=America/New_York:20251205T200000
DTSTAMP:20260422T205557
CREATED:20251008T202559Z
LAST-MODIFIED:20251203T181614Z
UID:48886-1764959400-1764964800@www.frsuu.org
SUMMARY:CANCELED: SingOut: All I Want For Christmas Is You
DESCRIPTION:We regretfully announce that the SingOut scheduled for this Friday\, December 5 in the FRSUU Sanctuary has been canceled due to illness. We look forward to singing with you again soon! \nCANCELED: Friday – December 5 – 6:30-8pm – Sanctuary
URL:https://www.frsuu.org/event/singout-all-i-want-for-christmas-is-you/
LOCATION:FRS Sanctuary\, 26 Pleasant St\, Newburyport\, MA\, 01950\, United States
END:VEVENT
BEGIN:VEVENT
DTSTART;TZID=America/New_York:20251202T190000
DTEND;TZID=America/New_York:20251202T200000
DTSTAMP:20260422T205557
CREATED:20250528T143640Z
LAST-MODIFIED:20250528T143640Z
UID:49655-1764702000-1764705600@www.frsuu.org
SUMMARY:Contemplative Meditation Service
DESCRIPTION:First Tuesdays beginning October 7\, Sanctuary\, 7-8pm. Led by Rev. Alan Seale.
URL:https://www.frsuu.org/event/contemplative-meditation-service/2025-12-02/
LOCATION:FRS Sanctuary\, 26 Pleasant St\, Newburyport\, MA\, 01950\, United States
CATEGORIES:Worship
END:VEVENT
END:VCALENDAR