BEGIN:VCALENDAR
VERSION:2.0
PRODID:-//First Religious Society of Newburyport - ECPv6.15.20//NONSGML v1.0//EN
CALSCALE:GREGORIAN
METHOD:PUBLISH
X-WR-CALNAME:First Religious Society of Newburyport
X-ORIGINAL-URL:https://www.frsuu.org
X-WR-CALDESC:Events for First Religious Society of Newburyport
REFRESH-INTERVAL;VALUE=DURATION:PT1H
X-Robots-Tag:noindex
X-PUBLISHED-TTL:PT1H
BEGIN:VTIMEZONE
TZID:America/New_York
BEGIN:DAYLIGHT
TZOFFSETFROM:-0500
TZOFFSETTO:-0400
TZNAME:EDT
DTSTART:20250309T070000
END:DAYLIGHT
BEGIN:STANDARD
TZOFFSETFROM:-0400
TZOFFSETTO:-0500
TZNAME:EST
DTSTART:20251102T060000
END:STANDARD
BEGIN:DAYLIGHT
TZOFFSETFROM:-0500
TZOFFSETTO:-0400
TZNAME:EDT
DTSTART:20260308T070000
END:DAYLIGHT
BEGIN:STANDARD
TZOFFSETFROM:-0400
TZOFFSETTO:-0500
TZNAME:EST
DTSTART:20261101T060000
END:STANDARD
BEGIN:DAYLIGHT
TZOFFSETFROM:-0500
TZOFFSETTO:-0400
TZNAME:EDT
DTSTART:20270314T070000
END:DAYLIGHT
BEGIN:STANDARD
TZOFFSETFROM:-0400
TZOFFSETTO:-0500
TZNAME:EST
DTSTART:20271107T060000
END:STANDARD
BEGIN:DAYLIGHT
TZOFFSETFROM:-0500
TZOFFSETTO:-0400
TZNAME:EDT
DTSTART:20280312T070000
END:DAYLIGHT
BEGIN:STANDARD
TZOFFSETFROM:-0400
TZOFFSETTO:-0500
TZNAME:EST
DTSTART:20281105T060000
END:STANDARD
END:VTIMEZONE
BEGIN:VEVENT
DTSTART;TZID=America/New_York:20261030T180000
DTEND;TZID=America/New_York:20261030T193000
DTSTAMP:20260423T062950
CREATED:20240906T220128Z
LAST-MODIFIED:20240906T220128Z
UID:42394-1793383200-1793388600@www.frsuu.org
SUMMARY:SMART Recovery (Contact: 678-378-0786)
DESCRIPTION:Meets weekly on Friday
URL:https://www.frsuu.org/event/smart-recovery-contact-678-378-0786-3/2026-10-30/
LOCATION:Hayward Room\, 26 Pleasant St\, Newburyport\, MA\, 01950\, United States
CATEGORIES:Recovery
END:VEVENT
BEGIN:VEVENT
DTSTART;TZID=America/New_York:20261102T184500
DTEND;TZID=America/New_York:20261102T200000
DTSTAMP:20260423T062950
CREATED:20240614T153123Z
LAST-MODIFIED:20240614T153123Z
UID:42414-1793645100-1793649600@www.frsuu.org
SUMMARY:Adult Children of Alcoholics
DESCRIPTION:Meets in the Hayward Room
URL:https://www.frsuu.org/event/adult-children-of-alcoholics-3/2026-11-02/
LOCATION:Hayward Room\, 26 Pleasant St\, Newburyport\, MA\, 01950\, United States
CATEGORIES:Recovery
END:VEVENT
BEGIN:VEVENT
DTSTART;TZID=America/New_York:20261106T180000
DTEND;TZID=America/New_York:20261106T193000
DTSTAMP:20260423T062950
CREATED:20240906T220128Z
LAST-MODIFIED:20240906T220128Z
UID:42684-1793988000-1793993400@www.frsuu.org
SUMMARY:SMART Recovery (Contact: 678-378-0786)
DESCRIPTION:Meets weekly on Friday
URL:https://www.frsuu.org/event/smart-recovery-contact-678-378-0786-3/2026-11-06/
LOCATION:Hayward Room\, 26 Pleasant St\, Newburyport\, MA\, 01950\, United States
CATEGORIES:Recovery
END:VEVENT
BEGIN:VEVENT
DTSTART;TZID=America/New_York:20261109T184500
DTEND;TZID=America/New_York:20261109T200000
DTSTAMP:20260423T062950
CREATED:20240614T153123Z
LAST-MODIFIED:20240614T153123Z
UID:42707-1794249900-1794254400@www.frsuu.org
SUMMARY:Adult Children of Alcoholics
DESCRIPTION:Meets in the Hayward Room
URL:https://www.frsuu.org/event/adult-children-of-alcoholics-3/2026-11-09/
LOCATION:Hayward Room\, 26 Pleasant St\, Newburyport\, MA\, 01950\, United States
CATEGORIES:Recovery
END:VEVENT
BEGIN:VEVENT
DTSTART;TZID=America/New_York:20261113T180000
DTEND;TZID=America/New_York:20261113T193000
DTSTAMP:20260423T062950
CREATED:20240906T220128Z
LAST-MODIFIED:20240906T220128Z
UID:42781-1794592800-1794598200@www.frsuu.org
SUMMARY:SMART Recovery (Contact: 678-378-0786)
DESCRIPTION:Meets weekly on Friday
URL:https://www.frsuu.org/event/smart-recovery-contact-678-378-0786-3/2026-11-13/
LOCATION:Hayward Room\, 26 Pleasant St\, Newburyport\, MA\, 01950\, United States
CATEGORIES:Recovery
END:VEVENT
BEGIN:VEVENT
DTSTART;TZID=America/New_York:20261116T184500
DTEND;TZID=America/New_York:20261116T200000
DTSTAMP:20260423T062950
CREATED:20240614T153123Z
LAST-MODIFIED:20240614T153123Z
UID:42798-1794854700-1794859200@www.frsuu.org
SUMMARY:Adult Children of Alcoholics
DESCRIPTION:Meets in the Hayward Room
URL:https://www.frsuu.org/event/adult-children-of-alcoholics-3/2026-11-16/
LOCATION:Hayward Room\, 26 Pleasant St\, Newburyport\, MA\, 01950\, United States
CATEGORIES:Recovery
END:VEVENT
BEGIN:VEVENT
DTSTART;TZID=America/New_York:20261120T180000
DTEND;TZID=America/New_York:20261120T193000
DTSTAMP:20260423T062950
CREATED:20240906T220128Z
LAST-MODIFIED:20240906T220128Z
UID:42834-1795197600-1795203000@www.frsuu.org
SUMMARY:SMART Recovery (Contact: 678-378-0786)
DESCRIPTION:Meets weekly on Friday
URL:https://www.frsuu.org/event/smart-recovery-contact-678-378-0786-3/2026-11-20/
LOCATION:Hayward Room\, 26 Pleasant St\, Newburyport\, MA\, 01950\, United States
CATEGORIES:Recovery
END:VEVENT
BEGIN:VEVENT
DTSTART;TZID=America/New_York:20261123T184500
DTEND;TZID=America/New_York:20261123T200000
DTSTAMP:20260423T062950
CREATED:20240614T153123Z
LAST-MODIFIED:20240614T153123Z
UID:42919-1795459500-1795464000@www.frsuu.org
SUMMARY:Adult Children of Alcoholics
DESCRIPTION:Meets in the Hayward Room
URL:https://www.frsuu.org/event/adult-children-of-alcoholics-3/2026-11-23/
LOCATION:Hayward Room\, 26 Pleasant St\, Newburyport\, MA\, 01950\, United States
CATEGORIES:Recovery
END:VEVENT
BEGIN:VEVENT
DTSTART;TZID=America/New_York:20261127T180000
DTEND;TZID=America/New_York:20261127T193000
DTSTAMP:20260423T062950
CREATED:20240906T220128Z
LAST-MODIFIED:20240906T220128Z
UID:42962-1795802400-1795807800@www.frsuu.org
SUMMARY:SMART Recovery (Contact: 678-378-0786)
DESCRIPTION:Meets weekly on Friday
URL:https://www.frsuu.org/event/smart-recovery-contact-678-378-0786-3/2026-11-27/
LOCATION:Hayward Room\, 26 Pleasant St\, Newburyport\, MA\, 01950\, United States
CATEGORIES:Recovery
END:VEVENT
BEGIN:VEVENT
DTSTART;TZID=America/New_York:20261130T184500
DTEND;TZID=America/New_York:20261130T200000
DTSTAMP:20260423T062950
CREATED:20240614T153123Z
LAST-MODIFIED:20240614T153123Z
UID:42963-1796064300-1796068800@www.frsuu.org
SUMMARY:Adult Children of Alcoholics
DESCRIPTION:Meets in the Hayward Room
URL:https://www.frsuu.org/event/adult-children-of-alcoholics-3/2026-11-30/
LOCATION:Hayward Room\, 26 Pleasant St\, Newburyport\, MA\, 01950\, United States
CATEGORIES:Recovery
END:VEVENT
BEGIN:VEVENT
DTSTART;TZID=America/New_York:20261204T180000
DTEND;TZID=America/New_York:20261204T193000
DTSTAMP:20260423T062950
CREATED:20240906T220128Z
LAST-MODIFIED:20240906T220128Z
UID:43070-1796407200-1796412600@www.frsuu.org
SUMMARY:SMART Recovery (Contact: 678-378-0786)
DESCRIPTION:Meets weekly on Friday
URL:https://www.frsuu.org/event/smart-recovery-contact-678-378-0786-3/2026-12-04/
LOCATION:Hayward Room\, 26 Pleasant St\, Newburyport\, MA\, 01950\, United States
CATEGORIES:Recovery
END:VEVENT
BEGIN:VEVENT
DTSTART;TZID=America/New_York:20261207T184500
DTEND;TZID=America/New_York:20261207T200000
DTSTAMP:20260423T062950
CREATED:20240614T153123Z
LAST-MODIFIED:20240614T153123Z
UID:43089-1796669100-1796673600@www.frsuu.org
SUMMARY:Adult Children of Alcoholics
DESCRIPTION:Meets in the Hayward Room
URL:https://www.frsuu.org/event/adult-children-of-alcoholics-3/2026-12-07/
LOCATION:Hayward Room\, 26 Pleasant St\, Newburyport\, MA\, 01950\, United States
CATEGORIES:Recovery
END:VEVENT
BEGIN:VEVENT
DTSTART;TZID=America/New_York:20261211T180000
DTEND;TZID=America/New_York:20261211T193000
DTSTAMP:20260423T062950
CREATED:20240906T220128Z
LAST-MODIFIED:20240906T220128Z
UID:43131-1797012000-1797017400@www.frsuu.org
SUMMARY:SMART Recovery (Contact: 678-378-0786)
DESCRIPTION:Meets weekly on Friday
URL:https://www.frsuu.org/event/smart-recovery-contact-678-378-0786-3/2026-12-11/
LOCATION:Hayward Room\, 26 Pleasant St\, Newburyport\, MA\, 01950\, United States
CATEGORIES:Recovery
END:VEVENT
BEGIN:VEVENT
DTSTART;TZID=America/New_York:20261214T184500
DTEND;TZID=America/New_York:20261214T200000
DTSTAMP:20260423T062950
CREATED:20240614T153123Z
LAST-MODIFIED:20240614T153123Z
UID:43146-1797273900-1797278400@www.frsuu.org
SUMMARY:Adult Children of Alcoholics
DESCRIPTION:Meets in the Hayward Room
URL:https://www.frsuu.org/event/adult-children-of-alcoholics-3/2026-12-14/
LOCATION:Hayward Room\, 26 Pleasant St\, Newburyport\, MA\, 01950\, United States
CATEGORIES:Recovery
END:VEVENT
BEGIN:VEVENT
DTSTART;TZID=America/New_York:20261218T180000
DTEND;TZID=America/New_York:20261218T193000
DTSTAMP:20260423T062950
CREATED:20240906T220128Z
LAST-MODIFIED:20240906T220128Z
UID:43334-1797616800-1797622200@www.frsuu.org
SUMMARY:SMART Recovery (Contact: 678-378-0786)
DESCRIPTION:Meets weekly on Friday
URL:https://www.frsuu.org/event/smart-recovery-contact-678-378-0786-3/2026-12-18/
LOCATION:Hayward Room\, 26 Pleasant St\, Newburyport\, MA\, 01950\, United States
CATEGORIES:Recovery
END:VEVENT
BEGIN:VEVENT
DTSTART;TZID=America/New_York:20261221T184500
DTEND;TZID=America/New_York:20261221T200000
DTSTAMP:20260423T062950
CREATED:20240614T153123Z
LAST-MODIFIED:20240614T153123Z
UID:43356-1797878700-1797883200@www.frsuu.org
SUMMARY:Adult Children of Alcoholics
DESCRIPTION:Meets in the Hayward Room
URL:https://www.frsuu.org/event/adult-children-of-alcoholics-3/2026-12-21/
LOCATION:Hayward Room\, 26 Pleasant St\, Newburyport\, MA\, 01950\, United States
CATEGORIES:Recovery
END:VEVENT
BEGIN:VEVENT
DTSTART;TZID=America/New_York:20261225T180000
DTEND;TZID=America/New_York:20261225T193000
DTSTAMP:20260423T062950
CREATED:20240906T220128Z
LAST-MODIFIED:20240906T220128Z
UID:43376-1798221600-1798227000@www.frsuu.org
SUMMARY:SMART Recovery (Contact: 678-378-0786)
DESCRIPTION:Meets weekly on Friday
URL:https://www.frsuu.org/event/smart-recovery-contact-678-378-0786-3/2026-12-25/
LOCATION:Hayward Room\, 26 Pleasant St\, Newburyport\, MA\, 01950\, United States
CATEGORIES:Recovery
END:VEVENT
BEGIN:VEVENT
DTSTART;TZID=America/New_York:20261228T184500
DTEND;TZID=America/New_York:20261228T200000
DTSTAMP:20260423T062950
CREATED:20240614T153123Z
LAST-MODIFIED:20240614T153123Z
UID:43380-1798483500-1798488000@www.frsuu.org
SUMMARY:Adult Children of Alcoholics
DESCRIPTION:Meets in the Hayward Room
URL:https://www.frsuu.org/event/adult-children-of-alcoholics-3/2026-12-28/
LOCATION:Hayward Room\, 26 Pleasant St\, Newburyport\, MA\, 01950\, United States
CATEGORIES:Recovery
END:VEVENT
BEGIN:VEVENT
DTSTART;TZID=America/New_York:20270101T180000
DTEND;TZID=America/New_York:20270101T193000
DTSTAMP:20260423T062950
CREATED:20240906T220128Z
LAST-MODIFIED:20240906T220128Z
UID:43402-1798826400-1798831800@www.frsuu.org
SUMMARY:SMART Recovery (Contact: 678-378-0786)
DESCRIPTION:Meets weekly on Friday
URL:https://www.frsuu.org/event/smart-recovery-contact-678-378-0786-3/2027-01-01/
LOCATION:Hayward Room\, 26 Pleasant St\, Newburyport\, MA\, 01950\, United States
CATEGORIES:Recovery
END:VEVENT
BEGIN:VEVENT
DTSTART;TZID=America/New_York:20270104T184500
DTEND;TZID=America/New_York:20270104T200000
DTSTAMP:20260423T062950
CREATED:20240614T153123Z
LAST-MODIFIED:20240614T153123Z
UID:43449-1799088300-1799092800@www.frsuu.org
SUMMARY:Adult Children of Alcoholics
DESCRIPTION:Meets in the Hayward Room
URL:https://www.frsuu.org/event/adult-children-of-alcoholics-3/2027-01-04/
LOCATION:Hayward Room\, 26 Pleasant St\, Newburyport\, MA\, 01950\, United States
CATEGORIES:Recovery
END:VEVENT
BEGIN:VEVENT
DTSTART;TZID=America/New_York:20270108T180000
DTEND;TZID=America/New_York:20270108T193000
DTSTAMP:20260423T062950
CREATED:20240906T220128Z
LAST-MODIFIED:20240906T220128Z
UID:43512-1799431200-1799436600@www.frsuu.org
SUMMARY:SMART Recovery (Contact: 678-378-0786)
DESCRIPTION:Meets weekly on Friday
URL:https://www.frsuu.org/event/smart-recovery-contact-678-378-0786-3/2027-01-08/
LOCATION:Hayward Room\, 26 Pleasant St\, Newburyport\, MA\, 01950\, United States
CATEGORIES:Recovery
END:VEVENT
BEGIN:VEVENT
DTSTART;TZID=America/New_York:20270111T184500
DTEND;TZID=America/New_York:20270111T200000
DTSTAMP:20260423T062950
CREATED:20240614T153123Z
LAST-MODIFIED:20240614T153123Z
UID:43556-1799693100-1799697600@www.frsuu.org
SUMMARY:Adult Children of Alcoholics
DESCRIPTION:Meets in the Hayward Room
URL:https://www.frsuu.org/event/adult-children-of-alcoholics-3/2027-01-11/
LOCATION:Hayward Room\, 26 Pleasant St\, Newburyport\, MA\, 01950\, United States
CATEGORIES:Recovery
END:VEVENT
BEGIN:VEVENT
DTSTART;TZID=America/New_York:20270115T180000
DTEND;TZID=America/New_York:20270115T193000
DTSTAMP:20260423T062950
CREATED:20240906T220128Z
LAST-MODIFIED:20240906T220128Z
UID:43702-1800036000-1800041400@www.frsuu.org
SUMMARY:SMART Recovery (Contact: 678-378-0786)
DESCRIPTION:Meets weekly on Friday
URL:https://www.frsuu.org/event/smart-recovery-contact-678-378-0786-3/2027-01-15/
LOCATION:Hayward Room\, 26 Pleasant St\, Newburyport\, MA\, 01950\, United States
CATEGORIES:Recovery
END:VEVENT
BEGIN:VEVENT
DTSTART;TZID=America/New_York:20270118T184500
DTEND;TZID=America/New_York:20270118T200000
DTSTAMP:20260423T062950
CREATED:20240614T153123Z
LAST-MODIFIED:20240614T153123Z
UID:43815-1800297900-1800302400@www.frsuu.org
SUMMARY:Adult Children of Alcoholics
DESCRIPTION:Meets in the Hayward Room
URL:https://www.frsuu.org/event/adult-children-of-alcoholics-3/2027-01-18/
LOCATION:Hayward Room\, 26 Pleasant St\, Newburyport\, MA\, 01950\, United States
CATEGORIES:Recovery
END:VEVENT
BEGIN:VEVENT
DTSTART;TZID=America/New_York:20270122T180000
DTEND;TZID=America/New_York:20270122T193000
DTSTAMP:20260423T062950
CREATED:20240906T220128Z
LAST-MODIFIED:20240906T220128Z
UID:43935-1800640800-1800646200@www.frsuu.org
SUMMARY:SMART Recovery (Contact: 678-378-0786)
DESCRIPTION:Meets weekly on Friday
URL:https://www.frsuu.org/event/smart-recovery-contact-678-378-0786-3/2027-01-22/
LOCATION:Hayward Room\, 26 Pleasant St\, Newburyport\, MA\, 01950\, United States
CATEGORIES:Recovery
END:VEVENT
BEGIN:VEVENT
DTSTART;TZID=America/New_York:20270125T184500
DTEND;TZID=America/New_York:20270125T200000
DTSTAMP:20260423T062950
CREATED:20240614T153123Z
LAST-MODIFIED:20240614T153123Z
UID:44038-1800902700-1800907200@www.frsuu.org
SUMMARY:Adult Children of Alcoholics
DESCRIPTION:Meets in the Hayward Room
URL:https://www.frsuu.org/event/adult-children-of-alcoholics-3/2027-01-25/
LOCATION:Hayward Room\, 26 Pleasant St\, Newburyport\, MA\, 01950\, United States
CATEGORIES:Recovery
END:VEVENT
BEGIN:VEVENT
DTSTART;TZID=America/New_York:20270129T180000
DTEND;TZID=America/New_York:20270129T193000
DTSTAMP:20260423T062950
CREATED:20240906T220128Z
LAST-MODIFIED:20240906T220128Z
UID:44169-1801245600-1801251000@www.frsuu.org
SUMMARY:SMART Recovery (Contact: 678-378-0786)
DESCRIPTION:Meets weekly on Friday
URL:https://www.frsuu.org/event/smart-recovery-contact-678-378-0786-3/2027-01-29/
LOCATION:Hayward Room\, 26 Pleasant St\, Newburyport\, MA\, 01950\, United States
CATEGORIES:Recovery
END:VEVENT
BEGIN:VEVENT
DTSTART;TZID=America/New_York:20270201T184500
DTEND;TZID=America/New_York:20270201T200000
DTSTAMP:20260423T062950
CREATED:20240614T153123Z
LAST-MODIFIED:20240614T153123Z
UID:44250-1801507500-1801512000@www.frsuu.org
SUMMARY:Adult Children of Alcoholics
DESCRIPTION:Meets in the Hayward Room
URL:https://www.frsuu.org/event/adult-children-of-alcoholics-3/2027-02-01/
LOCATION:Hayward Room\, 26 Pleasant St\, Newburyport\, MA\, 01950\, United States
CATEGORIES:Recovery
END:VEVENT
BEGIN:VEVENT
DTSTART;TZID=America/New_York:20270205T180000
DTEND;TZID=America/New_York:20270205T193000
DTSTAMP:20260423T062950
CREATED:20240906T220128Z
LAST-MODIFIED:20240906T220128Z
UID:44384-1801850400-1801855800@www.frsuu.org
SUMMARY:SMART Recovery (Contact: 678-378-0786)
DESCRIPTION:Meets weekly on Friday
URL:https://www.frsuu.org/event/smart-recovery-contact-678-378-0786-3/2027-02-05/
LOCATION:Hayward Room\, 26 Pleasant St\, Newburyport\, MA\, 01950\, United States
CATEGORIES:Recovery
END:VEVENT
BEGIN:VEVENT
DTSTART;TZID=America/New_York:20270208T184500
DTEND;TZID=America/New_York:20270208T200000
DTSTAMP:20260423T062950
CREATED:20240614T153123Z
LAST-MODIFIED:20240614T153123Z
UID:44416-1802112300-1802116800@www.frsuu.org
SUMMARY:Adult Children of Alcoholics
DESCRIPTION:Meets in the Hayward Room
URL:https://www.frsuu.org/event/adult-children-of-alcoholics-3/2027-02-08/
LOCATION:Hayward Room\, 26 Pleasant St\, Newburyport\, MA\, 01950\, United States
CATEGORIES:Recovery
END:VEVENT
END:VCALENDAR