BEGIN:VCALENDAR
VERSION:2.0
PRODID:-//First Religious Society of Newburyport - ECPv6.15.20//NONSGML v1.0//EN
CALSCALE:GREGORIAN
METHOD:PUBLISH
X-WR-CALNAME:First Religious Society of Newburyport
X-ORIGINAL-URL:https://www.frsuu.org
X-WR-CALDESC:Events for First Religious Society of Newburyport
REFRESH-INTERVAL;VALUE=DURATION:PT1H
X-Robots-Tag:noindex
X-PUBLISHED-TTL:PT1H
BEGIN:VTIMEZONE
TZID:America/New_York
BEGIN:DAYLIGHT
TZOFFSETFROM:-0500
TZOFFSETTO:-0400
TZNAME:EDT
DTSTART:20250309T070000
END:DAYLIGHT
BEGIN:STANDARD
TZOFFSETFROM:-0400
TZOFFSETTO:-0500
TZNAME:EST
DTSTART:20251102T060000
END:STANDARD
BEGIN:DAYLIGHT
TZOFFSETFROM:-0500
TZOFFSETTO:-0400
TZNAME:EDT
DTSTART:20260308T070000
END:DAYLIGHT
BEGIN:STANDARD
TZOFFSETFROM:-0400
TZOFFSETTO:-0500
TZNAME:EST
DTSTART:20261101T060000
END:STANDARD
BEGIN:DAYLIGHT
TZOFFSETFROM:-0500
TZOFFSETTO:-0400
TZNAME:EDT
DTSTART:20270314T070000
END:DAYLIGHT
BEGIN:STANDARD
TZOFFSETFROM:-0400
TZOFFSETTO:-0500
TZNAME:EST
DTSTART:20271107T060000
END:STANDARD
END:VTIMEZONE
BEGIN:VEVENT
DTSTART;TZID=America/New_York:20260305T190000
DTEND;TZID=America/New_York:20260305T203000
DTSTAMP:20260423T184755
CREATED:20250124T200119Z
LAST-MODIFIED:20260417T150607Z
UID:44025-1772737200-1772742600@www.frsuu.org
SUMMARY:Adult Choir
DESCRIPTION:Thursdays\, LMH Main Room\, 7-8:30pm.
URL:https://www.frsuu.org/event/adult-choir-2/2026-03-05/
LOCATION:LMH Main Room\, 26 Pleasant St\, Newburyport\, MA\, 01950\, United States
END:VEVENT
BEGIN:VEVENT
DTSTART;TZID=America/New_York:20260305T153000
DTEND;TZID=America/New_York:20260305T170000
DTSTAMP:20260423T184755
CREATED:20260219T214534Z
LAST-MODIFIED:20260303T200212Z
UID:50466-1772724600-1772730000@www.frsuu.org
SUMMARY:Merrimack Valley Project
DESCRIPTION:Thursday\, March 5\, LMH Main Room\, 3:30-5pm
URL:https://www.frsuu.org/event/merrimack-valley-project/
LOCATION:LMH Main Room\, 26 Pleasant St\, Newburyport\, MA\, 01950\, United States
END:VEVENT
BEGIN:VEVENT
DTSTART;TZID=America/New_York:20260304T180000
DTEND;TZID=America/New_York:20260304T193000
DTSTAMP:20260423T184755
CREATED:20260129T154519Z
LAST-MODIFIED:20260304T170150Z
UID:50180-1772647200-1772652600@www.frsuu.org
SUMMARY:RESCHEDULED: Journey of Faith Workshop
DESCRIPTION:This Journey of Faith class has been rescheduled to March 11. \nWednesday\, March 4\, LMH Main Room\, 6-7:30pm. \nWe will spend this final session sharing our spiritual maps and having a closing ritual.
URL:https://www.frsuu.org/event/journey-of-faith-workshop-2/
LOCATION:LMH Main Room\, 26 Pleasant St\, Newburyport\, MA\, 01950\, United States
END:VEVENT
BEGIN:VEVENT
DTSTART;TZID=America/New_York:20260304T103000
DTEND;TZID=America/New_York:20260304T120000
DTSTAMP:20260423T184755
CREATED:20250825T144308Z
LAST-MODIFIED:20250825T144308Z
UID:47224-1772620200-1772625600@www.frsuu.org
SUMMARY:Staff Meeting
DESCRIPTION:1st and 3rd Wednesdays\, LMH Main Room\, 10:30am-noon
URL:https://www.frsuu.org/event/staff-meeting-9/2026-03-04/
LOCATION:LMH Main Room\, 26 Pleasant St\, Newburyport\, MA\, 01950\, United States
END:VEVENT
BEGIN:VEVENT
DTSTART;TZID=America/New_York:20260304T093000
DTEND;TZID=America/New_York:20260304T103000
DTSTAMP:20260423T184755
CREATED:20260211T213747Z
LAST-MODIFIED:20260211T213747Z
UID:50312-1772616600-1772620200@www.frsuu.org
SUMMARY:Worship Planning Meeting
DESCRIPTION:Wednesday\, March 4\, LMH Main Room\, 9:30-10:30am
URL:https://www.frsuu.org/event/worship-planning-meeting-5/
LOCATION:LMH Main Room\, 26 Pleasant St\, Newburyport\, MA\, 01950\, United States
END:VEVENT
BEGIN:VEVENT
DTSTART;TZID=America/New_York:20260301T103000
DTEND;TZID=America/New_York:20260301T113000
DTSTAMP:20260423T184755
CREATED:20250922T163733Z
LAST-MODIFIED:20260403T151727Z
UID:48118-1772361000-1772364600@www.frsuu.org
SUMMARY:Young Church
DESCRIPTION:Sundays\, from September 14\, 2025 until May 17\, 2026\, LMH Main Room and Nursery/Conf Room\, 10:30-11:30am
URL:https://www.frsuu.org/event/young-church-3/2026-03-01/
LOCATION:LMH Main Room\, 26 Pleasant St\, Newburyport\, MA\, 01950\, United States
CATEGORIES:Young Church
ORGANIZER;CN="Mara Flynn":MAILTO:mara.flynn@frsuu.org
END:VEVENT
BEGIN:VEVENT
DTSTART;TZID=America/New_York:20260226T190000
DTEND;TZID=America/New_York:20260226T203000
DTSTAMP:20260423T184755
CREATED:20250124T200119Z
LAST-MODIFIED:20260417T150604Z
UID:44024-1772132400-1772137800@www.frsuu.org
SUMMARY:Adult Choir
DESCRIPTION:Thursdays\, LMH Main Room\, 7-8:30pm.
URL:https://www.frsuu.org/event/adult-choir-2/2026-02-26/
LOCATION:LMH Main Room\, 26 Pleasant St\, Newburyport\, MA\, 01950\, United States
END:VEVENT
BEGIN:VEVENT
DTSTART;TZID=America/New_York:20260225T180000
DTEND;TZID=America/New_York:20260225T200000
DTSTAMP:20260423T184755
CREATED:20260106T180120Z
LAST-MODIFIED:20260106T180137Z
UID:49927-1772042400-1772049600@www.frsuu.org
SUMMARY:FRSUU Green Team Potluck & Screening of Common Ground
DESCRIPTION:Wednesday\, February 25\, LMH Main Room\, potluck & screening at 6pm. Reservation 5:30-8:30pm. \nThe FRSUU Green Team will host a potluck supper and screening of Common Ground. This inspiring film is about regenerative agriculture\, a practice that grows healthy food while at the same time protecting soil health and water resources and avoiding pesticides and herbicides. Please join us!
URL:https://www.frsuu.org/event/frsuu-green-team-potluck-screening-of-common-ground/
LOCATION:LMH Main Room\, 26 Pleasant St\, Newburyport\, MA\, 01950\, United States
CATEGORIES:Community Events,Green Team
ORGANIZER;CN="Annie Madden":MAILTO:madden.anne.b@gmail.com
END:VEVENT
BEGIN:VEVENT
DTSTART;TZID=America/New_York:20260223T153000
DTEND;TZID=America/New_York:20260223T170000
DTSTAMP:20260423T184755
CREATED:20260213T155439Z
LAST-MODIFIED:20260213T155439Z
UID:50328-1771860600-1771866000@www.frsuu.org
SUMMARY:Justice Action Council
DESCRIPTION:Monday\, February 23\, LMH Main Room\, 3:30-5pm
URL:https://www.frsuu.org/event/justice-action-council-3/
LOCATION:LMH Main Room\, 26 Pleasant St\, Newburyport\, MA\, 01950\, United States
END:VEVENT
BEGIN:VEVENT
DTSTART;TZID=America/New_York:20260222T103000
DTEND;TZID=America/New_York:20260222T113000
DTSTAMP:20260423T184755
CREATED:20250922T163733Z
LAST-MODIFIED:20260403T151724Z
UID:48117-1771756200-1771759800@www.frsuu.org
SUMMARY:Young Church
DESCRIPTION:Sundays\, from September 14\, 2025 until May 17\, 2026\, LMH Main Room and Nursery/Conf Room\, 10:30-11:30am
URL:https://www.frsuu.org/event/young-church-3/2026-02-22/
LOCATION:LMH Main Room\, 26 Pleasant St\, Newburyport\, MA\, 01950\, United States
CATEGORIES:Young Church
ORGANIZER;CN="Mara Flynn":MAILTO:mara.flynn@frsuu.org
END:VEVENT
BEGIN:VEVENT
DTSTART;TZID=America/New_York:20260219T190000
DTEND;TZID=America/New_York:20260219T203000
DTSTAMP:20260423T184755
CREATED:20250124T200119Z
LAST-MODIFIED:20260417T150600Z
UID:44023-1771527600-1771533000@www.frsuu.org
SUMMARY:Adult Choir
DESCRIPTION:Thursdays\, LMH Main Room\, 7-8:30pm.
URL:https://www.frsuu.org/event/adult-choir-2/2026-02-19/
LOCATION:LMH Main Room\, 26 Pleasant St\, Newburyport\, MA\, 01950\, United States
END:VEVENT
BEGIN:VEVENT
DTSTART;TZID=America/New_York:20260219T130000
DTEND;TZID=America/New_York:20260219T143000
DTSTAMP:20260423T184755
CREATED:20250926T134951Z
LAST-MODIFIED:20260210T195656Z
UID:48325-1771506000-1771511400@www.frsuu.org
SUMMARY:Exploring Elderhood Together: Nutritional Needs as We Age
DESCRIPTION:Thursday\, February 19\, LMH Main Room\, 1-2:30pm. \nWhat we eat is under our control. Nutritionist Nina Caron will talk about protein\, carbohydrates\, fats\, vitamins\, and minerals\, and the ways requirements and recommendations change for older adults. Nina has been involved professionally in the fitness/wellness industry for over 25 years. She is a nutritionist\, an ACSM (American College of Sports Medicine) certified personal trainer\, a competitive runner/marathoner\, and has earned a certification in Yoga for Back Health as well as a certification as a CDC-endorsed Diabetes Lifestyle Prevention Coach. Nina is the sole proprietor of The Fit Dimensions in Andover.
URL:https://www.frsuu.org/event/exploring-elderhood-together-nutritional-needs-as-we-age/
LOCATION:LMH Main Room\, 26 Pleasant St\, Newburyport\, MA\, 01950\, United States
END:VEVENT
BEGIN:VEVENT
DTSTART;TZID=America/New_York:20260218T180000
DTEND;TZID=America/New_York:20260218T200000
DTSTAMP:20260423T184755
CREATED:20250829T144048Z
LAST-MODIFIED:20250829T144048Z
UID:47375-1771437600-1771444800@www.frsuu.org
SUMMARY:Parish Board Meeting
DESCRIPTION:Third Wednesdays\, LMH Main Room\, 6-8pm\, hybrid
URL:https://www.frsuu.org/event/parish-board-meeting-2/2026-02-18/
LOCATION:LMH Main Room\, 26 Pleasant St\, Newburyport\, MA\, 01950\, United States
END:VEVENT
BEGIN:VEVENT
DTSTART;TZID=America/New_York:20260218T103000
DTEND;TZID=America/New_York:20260218T120000
DTSTAMP:20260423T184755
CREATED:20250825T144514Z
LAST-MODIFIED:20251118T162836Z
UID:47234-1771410600-1771416000@www.frsuu.org
SUMMARY:Staff Meeting
DESCRIPTION:1st and 3rd Wednesdays\, LMH Main Room\, 10:30am-noon
URL:https://www.frsuu.org/event/staff-meeting-10/2026-02-18/
LOCATION:LMH Main Room\, 26 Pleasant St\, Newburyport\, MA\, 01950\, United States
END:VEVENT
BEGIN:VEVENT
DTSTART;TZID=America/New_York:20260215T103000
DTEND;TZID=America/New_York:20260215T113000
DTSTAMP:20260423T184755
CREATED:20250922T163733Z
LAST-MODIFIED:20260403T151630Z
UID:48116-1771151400-1771155000@www.frsuu.org
SUMMARY:Young Church
DESCRIPTION:Sundays\, from September 14\, 2025 until May 17\, 2026\, LMH Main Room and Nursery/Conf Room\, 10:30-11:30am
URL:https://www.frsuu.org/event/young-church-3/2026-02-15/
LOCATION:LMH Main Room\, 26 Pleasant St\, Newburyport\, MA\, 01950\, United States
CATEGORIES:Young Church
ORGANIZER;CN="Mara Flynn":MAILTO:mara.flynn@frsuu.org
END:VEVENT
BEGIN:VEVENT
DTSTART;TZID=America/New_York:20260214T160000
DTEND;TZID=America/New_York:20260214T190000
DTSTAMP:20260423T184755
CREATED:20240814T232151Z
LAST-MODIFIED:20260403T152257Z
UID:43984-1771084800-1771095600@www.frsuu.org
SUMMARY:Renaissance New England
DESCRIPTION:Meets Saturdays every other month\, Lower Meetinghouse Main Room\, 4pm.
URL:https://www.frsuu.org/event/renaissance-new-england/2026-02-14/
LOCATION:LMH Main Room\, 26 Pleasant St\, Newburyport\, MA\, 01950\, United States
END:VEVENT
BEGIN:VEVENT
DTSTART;TZID=America/New_York:20260214T080000
DTEND;TZID=America/New_York:20260214T110000
DTSTAMP:20260423T184755
CREATED:20240814T231956Z
LAST-MODIFIED:20240814T231956Z
UID:43960-1771056000-1771066800@www.frsuu.org
SUMMARY:Merrimack Valley Ship Model Club (MVSMC)
DESCRIPTION:Second Saturdays\, Lower Meetinghouse Main Room\, 8-11am.
URL:https://www.frsuu.org/event/merrimack-valley-ship-model-club-mvsmc/2026-02-14/
LOCATION:LMH Main Room\, 26 Pleasant St\, Newburyport\, MA\, 01950\, United States
END:VEVENT
BEGIN:VEVENT
DTSTART;TZID=America/New_York:20260212T190000
DTEND;TZID=America/New_York:20260212T203000
DTSTAMP:20260423T184755
CREATED:20250124T200119Z
LAST-MODIFIED:20260417T150600Z
UID:44022-1770922800-1770928200@www.frsuu.org
SUMMARY:Adult Choir
DESCRIPTION:Thursdays\, LMH Main Room\, 7-8:30pm.
URL:https://www.frsuu.org/event/adult-choir-2/2026-02-12/
LOCATION:LMH Main Room\, 26 Pleasant St\, Newburyport\, MA\, 01950\, United States
END:VEVENT
BEGIN:VEVENT
DTSTART;TZID=America/New_York:20260211T180000
DTEND;TZID=America/New_York:20260211T193000
DTSTAMP:20260423T184755
CREATED:20251217T213856Z
LAST-MODIFIED:20260107T182047Z
UID:49834-1770832800-1770838200@www.frsuu.org
SUMMARY:Journey of Faith Workshop
DESCRIPTION:Wednesdays\, January 14 and 28\, February 11\, LMH Main Room\, 6-7:30pm. The nursery/conference room and Room A will be used as breakout rooms. \nAre you interested in exploring your spiritual journey through writing and reflection? Reverend Rebecca and the Worship Associates are leading a three-session Journey of Faith workshop. We will guide participants through a process of exploring your spiritual journey from childhood until today. Each session will offer time for creative exploration and optional sharing. There will be writing prompts to work on between sessions. This is a wonderful way to begin the new year by focusing on your spiritual journey and deepening your connection with FRS members. \nThe class series will be limited to 20 participants. Contact Rev. Rebecca Bryan at revrebecca.bryan@frsuu.org if you would like to sign up. \nWe will be looking for a few participants who are willing to share their Journey of Faith with the congregation this spring. (Sharing with congregation is wonderful\, but optional.)
URL:https://www.frsuu.org/event/journey-of-faith-workshop/2026-02-11/
LOCATION:LMH Main Room\, 26 Pleasant St\, Newburyport\, MA\, 01950\, United States
END:VEVENT
BEGIN:VEVENT
DTSTART;TZID=America/New_York:20260211T103000
DTEND;TZID=America/New_York:20260211T120000
DTSTAMP:20260423T184755
CREATED:20250825T144941Z
LAST-MODIFIED:20250825T144941Z
UID:47244-1770805800-1770811200@www.frsuu.org
SUMMARY:Worship Planning Meeting
DESCRIPTION:2nd and 4th Wednesdays\, LMH Main Room\, 10:30am-noon
URL:https://www.frsuu.org/event/worship-planning-meeting-3/2026-02-11/
LOCATION:LMH Main Room\, 26 Pleasant St\, Newburyport\, MA\, 01950\, United States
END:VEVENT
BEGIN:VEVENT
DTSTART;TZID=America/New_York:20260210T183000
DTEND;TZID=America/New_York:20260210T200000
DTSTAMP:20260423T184755
CREATED:20260115T151121Z
LAST-MODIFIED:20260115T151143Z
UID:50100-1770748200-1770753600@www.frsuu.org
SUMMARY:Court Watch Training
DESCRIPTION:Tuesday\, February 10\, LMH Main Room\, 6:30-8pm. \nJoin us for a training session on how to support immigrants when they are in court hearings.
URL:https://www.frsuu.org/event/court-watch-training/
LOCATION:LMH Main Room\, 26 Pleasant St\, Newburyport\, MA\, 01950\, United States
END:VEVENT
BEGIN:VEVENT
DTSTART;TZID=America/New_York:20260208T103000
DTEND;TZID=America/New_York:20260208T113000
DTSTAMP:20260423T184755
CREATED:20250922T163733Z
LAST-MODIFIED:20260403T151625Z
UID:48115-1770546600-1770550200@www.frsuu.org
SUMMARY:Young Church
DESCRIPTION:Sundays\, from September 14\, 2025 until May 17\, 2026\, LMH Main Room and Nursery/Conf Room\, 10:30-11:30am
URL:https://www.frsuu.org/event/young-church-3/2026-02-08/
LOCATION:LMH Main Room\, 26 Pleasant St\, Newburyport\, MA\, 01950\, United States
CATEGORIES:Young Church
ORGANIZER;CN="Mara Flynn":MAILTO:mara.flynn@frsuu.org
END:VEVENT
BEGIN:VEVENT
DTSTART;TZID=America/New_York:20260205T190000
DTEND;TZID=America/New_York:20260205T203000
DTSTAMP:20260423T184755
CREATED:20250124T200119Z
LAST-MODIFIED:20260417T150559Z
UID:44021-1770318000-1770323400@www.frsuu.org
SUMMARY:Adult Choir
DESCRIPTION:Thursdays\, LMH Main Room\, 7-8:30pm.
URL:https://www.frsuu.org/event/adult-choir-2/2026-02-05/
LOCATION:LMH Main Room\, 26 Pleasant St\, Newburyport\, MA\, 01950\, United States
END:VEVENT
BEGIN:VEVENT
DTSTART;TZID=America/New_York:20260204T103000
DTEND;TZID=America/New_York:20260204T120000
DTSTAMP:20260423T184755
CREATED:20250825T144308Z
LAST-MODIFIED:20250825T144308Z
UID:47223-1770201000-1770206400@www.frsuu.org
SUMMARY:Staff Meeting
DESCRIPTION:1st and 3rd Wednesdays\, LMH Main Room\, 10:30am-noon
URL:https://www.frsuu.org/event/staff-meeting-9/2026-02-04/
LOCATION:LMH Main Room\, 26 Pleasant St\, Newburyport\, MA\, 01950\, United States
END:VEVENT
BEGIN:VEVENT
DTSTART;TZID=America/New_York:20260201T103000
DTEND;TZID=America/New_York:20260201T113000
DTSTAMP:20260423T184755
CREATED:20250922T163733Z
LAST-MODIFIED:20260403T151624Z
UID:48114-1769941800-1769945400@www.frsuu.org
SUMMARY:Young Church
DESCRIPTION:Sundays\, from September 14\, 2025 until May 17\, 2026\, LMH Main Room and Nursery/Conf Room\, 10:30-11:30am
URL:https://www.frsuu.org/event/young-church-3/2026-02-01/
LOCATION:LMH Main Room\, 26 Pleasant St\, Newburyport\, MA\, 01950\, United States
CATEGORIES:Young Church
ORGANIZER;CN="Mara Flynn":MAILTO:mara.flynn@frsuu.org
END:VEVENT
BEGIN:VEVENT
DTSTART;TZID=America/New_York:20260129T190000
DTEND;TZID=America/New_York:20260129T203000
DTSTAMP:20260423T184755
CREATED:20250124T200119Z
LAST-MODIFIED:20260417T150558Z
UID:44020-1769713200-1769718600@www.frsuu.org
SUMMARY:Adult Choir
DESCRIPTION:Thursdays\, LMH Main Room\, 7-8:30pm.
URL:https://www.frsuu.org/event/adult-choir-2/2026-01-29/
LOCATION:LMH Main Room\, 26 Pleasant St\, Newburyport\, MA\, 01950\, United States
END:VEVENT
BEGIN:VEVENT
DTSTART;TZID=America/New_York:20260128T180000
DTEND;TZID=America/New_York:20260128T193000
DTSTAMP:20260423T184755
CREATED:20251217T213856Z
LAST-MODIFIED:20260107T182046Z
UID:49833-1769623200-1769628600@www.frsuu.org
SUMMARY:Journey of Faith Workshop
DESCRIPTION:Wednesdays\, January 14 and 28\, February 11\, LMH Main Room\, 6-7:30pm. The nursery/conference room and Room A will be used as breakout rooms. \nAre you interested in exploring your spiritual journey through writing and reflection? Reverend Rebecca and the Worship Associates are leading a three-session Journey of Faith workshop. We will guide participants through a process of exploring your spiritual journey from childhood until today. Each session will offer time for creative exploration and optional sharing. There will be writing prompts to work on between sessions. This is a wonderful way to begin the new year by focusing on your spiritual journey and deepening your connection with FRS members. \nThe class series will be limited to 20 participants. Contact Rev. Rebecca Bryan at revrebecca.bryan@frsuu.org if you would like to sign up. \nWe will be looking for a few participants who are willing to share their Journey of Faith with the congregation this spring. (Sharing with congregation is wonderful\, but optional.)
URL:https://www.frsuu.org/event/journey-of-faith-workshop/2026-01-28/
LOCATION:LMH Main Room\, 26 Pleasant St\, Newburyport\, MA\, 01950\, United States
END:VEVENT
BEGIN:VEVENT
DTSTART;TZID=America/New_York:20260128T103000
DTEND;TZID=America/New_York:20260128T120000
DTSTAMP:20260423T184755
CREATED:20250825T145120Z
LAST-MODIFIED:20260323T201049Z
UID:47253-1769596200-1769601600@www.frsuu.org
SUMMARY:Worship Planning Meeting
DESCRIPTION:2nd and 4th Wednesdays\, LMH Main Room\, 10:30am-noon
URL:https://www.frsuu.org/event/worship-planning-meeting-4/2026-01-28/
LOCATION:LMH Main Room\, 26 Pleasant St\, Newburyport\, MA\, 01950\, United States
END:VEVENT
BEGIN:VEVENT
DTSTART;TZID=America/New_York:20260125T113000
DTEND;TZID=America/New_York:20260125T123000
DTSTAMP:20260423T184755
CREATED:20250502T185129Z
LAST-MODIFIED:20250502T185129Z
UID:45721-1769340600-1769344200@www.frsuu.org
SUMMARY:Parish Board-Congregational Meeting
DESCRIPTION:Sunday\, January 25\, LMH Main Room\, 11:30am-12:30pm
URL:https://www.frsuu.org/event/parish-board-congregational-meeting-4/
LOCATION:LMH Main Room\, 26 Pleasant St\, Newburyport\, MA\, 01950\, United States
END:VEVENT
BEGIN:VEVENT
DTSTART;TZID=America/New_York:20260125T103000
DTEND;TZID=America/New_York:20260125T113000
DTSTAMP:20260423T184755
CREATED:20250922T163733Z
LAST-MODIFIED:20260403T151624Z
UID:48113-1769337000-1769340600@www.frsuu.org
SUMMARY:Young Church
DESCRIPTION:Sundays\, from September 14\, 2025 until May 17\, 2026\, LMH Main Room and Nursery/Conf Room\, 10:30-11:30am
URL:https://www.frsuu.org/event/young-church-3/2026-01-25/
LOCATION:LMH Main Room\, 26 Pleasant St\, Newburyport\, MA\, 01950\, United States
CATEGORIES:Young Church
ORGANIZER;CN="Mara Flynn":MAILTO:mara.flynn@frsuu.org
END:VEVENT
END:VCALENDAR