BEGIN:VCALENDAR
VERSION:2.0
PRODID:-//First Religious Society of Newburyport - ECPv6.15.20//NONSGML v1.0//EN
CALSCALE:GREGORIAN
METHOD:PUBLISH
X-ORIGINAL-URL:https://www.frsuu.org
X-WR-CALDESC:Events for First Religious Society of Newburyport
REFRESH-INTERVAL;VALUE=DURATION:PT1H
X-Robots-Tag:noindex
X-PUBLISHED-TTL:PT1H
BEGIN:VTIMEZONE
TZID:America/New_York
BEGIN:DAYLIGHT
TZOFFSETFROM:-0500
TZOFFSETTO:-0400
TZNAME:EDT
DTSTART:20230312T070000
END:DAYLIGHT
BEGIN:STANDARD
TZOFFSETFROM:-0400
TZOFFSETTO:-0500
TZNAME:EST
DTSTART:20231105T060000
END:STANDARD
BEGIN:DAYLIGHT
TZOFFSETFROM:-0500
TZOFFSETTO:-0400
TZNAME:EDT
DTSTART:20240310T070000
END:DAYLIGHT
BEGIN:STANDARD
TZOFFSETFROM:-0400
TZOFFSETTO:-0500
TZNAME:EST
DTSTART:20241103T060000
END:STANDARD
BEGIN:DAYLIGHT
TZOFFSETFROM:-0500
TZOFFSETTO:-0400
TZNAME:EDT
DTSTART:20250309T070000
END:DAYLIGHT
BEGIN:STANDARD
TZOFFSETFROM:-0400
TZOFFSETTO:-0500
TZNAME:EST
DTSTART:20251102T060000
END:STANDARD
BEGIN:DAYLIGHT
TZOFFSETFROM:-0500
TZOFFSETTO:-0400
TZNAME:EDT
DTSTART:20260308T070000
END:DAYLIGHT
BEGIN:STANDARD
TZOFFSETFROM:-0400
TZOFFSETTO:-0500
TZNAME:EST
DTSTART:20261101T060000
END:STANDARD
BEGIN:DAYLIGHT
TZOFFSETFROM:-0500
TZOFFSETTO:-0400
TZNAME:EDT
DTSTART:20270314T070000
END:DAYLIGHT
BEGIN:STANDARD
TZOFFSETFROM:-0400
TZOFFSETTO:-0500
TZNAME:EST
DTSTART:20271107T060000
END:STANDARD
END:VTIMEZONE
BEGIN:VEVENT
DTSTART;TZID=America/New_York:20260304T120000
DTEND;TZID=America/New_York:20260304T133000
DTSTAMP:20260423T053036
CREATED:20260224T193052Z
LAST-MODIFIED:20260224T193054Z
UID:50516-1772625600-1772631000@www.frsuu.org
SUMMARY:Ladies Who Lunch
DESCRIPTION:Wednesday\, March 4\, Michael’s Harborside\, 12pm. \nJoin us for our March gathering. Please text Nancy or Annie if you plan on coming.
URL:https://www.frsuu.org/event/ladies-who-lunch-10/
LOCATION:Michael’s Harborside Restaurant & Bar\, 1 Tournament Wharft\, Newburyport\, MA\, 01950\, United States
END:VEVENT
BEGIN:VEVENT
DTSTART;TZID=America/New_York:20260204T120000
DTEND;TZID=America/New_York:20260204T133000
DTSTAMP:20260423T053036
CREATED:20260121T172917Z
LAST-MODIFIED:20260121T172918Z
UID:50131-1770206400-1770211800@www.frsuu.org
SUMMARY:Ladies Who Lunch
DESCRIPTION:Wednesday\, February 4\, Michael’s Harborside\, 12pm. \nIf you plan to join us\, please text Nancy or Annie. If we encounter bad weather\, we will post a cancelation on Facebook and will text those who let us know they were planning to attend.
URL:https://www.frsuu.org/event/ladies-who-lunch-9/
LOCATION:Michael’s Harborside Restaurant & Bar\, 1 Tournament Wharft\, Newburyport\, MA\, 01950\, United States
END:VEVENT
BEGIN:VEVENT
DTSTART;TZID=America/New_York:20251203T120000
DTEND;TZID=America/New_York:20251203T130000
DTSTAMP:20260423T053036
CREATED:20251126T211928Z
LAST-MODIFIED:20251126T211929Z
UID:49512-1764763200-1764766800@www.frsuu.org
SUMMARY:Ladies Who Lunch
DESCRIPTION:Wednesday\, December 3\, Michael’s Harborside\, noon. \nJoin us at Michael’s for good food and conversation. If you plan on attending\, call or text Nancy at 978-973-6208 or Annie at 978-872-5244.
URL:https://www.frsuu.org/event/ladies-who-lunch-8/
LOCATION:Michael’s Harborside Restaurant & Bar\, 1 Tournament Wharft\, Newburyport\, MA\, 01950\, United States
END:VEVENT
BEGIN:VEVENT
DTSTART;TZID=America/New_York:20250604T120000
DTEND;TZID=America/New_York:20250604T130000
DTSTAMP:20260423T053037
CREATED:20250528T143131Z
LAST-MODIFIED:20250528T143132Z
UID:46264-1749038400-1749042000@www.frsuu.org
SUMMARY:Ladies Who Lunch
DESCRIPTION:Wednesday\, June 4\, Michael’s Harborside\, noon. \nJoin us for good food and conversation. This will be our last lunch together this church year. Text or call Nancy or Annie if you plan to join us.
URL:https://www.frsuu.org/event/ladies-who-lunch-6/
LOCATION:Michael’s Harborside Restaurant & Bar\, 1 Tournament Wharft\, Newburyport\, MA\, 01950\, United States
END:VEVENT
BEGIN:VEVENT
DTSTART;TZID=America/New_York:20250514T120000
DTEND;TZID=America/New_York:20250514T133000
DTSTAMP:20260423T053037
CREATED:20250424T205219Z
LAST-MODIFIED:20250424T205220Z
UID:45647-1747224000-1747229400@www.frsuu.org
SUMMARY:Retired Old Men Eating Out (ROMEO)
DESCRIPTION:Wednesday\, May 14\, Michael’s Harborside\, noon. \nPlease join us for the next meeting of ROMEO. Our Officer of the Day is Rich Comeau who can be reached at  glideride@verizon.net. \nPlease feel free to contact Rich if you have any questions or concerns. No reservations are required\, but $$$ to pay your share of the tab is needed.
URL:https://www.frsuu.org/event/retired-old-men-eating-out-romeo-9/
LOCATION:Michael’s Harborside Restaurant & Bar\, 1 Tournament Wharft\, Newburyport\, MA\, 01950\, United States
ORGANIZER;CN="Ed Budelmann":MAILTO:edbudelmann@gmail.com
END:VEVENT
BEGIN:VEVENT
DTSTART;TZID=America/New_York:20250402T120000
DTEND;TZID=America/New_York:20250402T133000
DTSTAMP:20260423T053037
CREATED:20250321T145318Z
LAST-MODIFIED:20250321T145318Z
UID:45209-1743595200-1743600600@www.frsuu.org
SUMMARY:Ladies Who Lunch
DESCRIPTION:Wednesday\, April 2\, Michael’s Harborside\, noon-1:30pm. \nJoin us at our monthly gathering for good food and conversation. Contact phone Annie Maurer if you plan to attend.
URL:https://www.frsuu.org/event/ladies-who-lunch-4/
LOCATION:Michael’s Harborside Restaurant & Bar\, 1 Tournament Wharft\, Newburyport\, MA\, 01950\, United States
END:VEVENT
BEGIN:VEVENT
DTSTART;TZID=America/New_York:20250305T120000
DTEND;TZID=America/New_York:20250305T130000
DTSTAMP:20260423T053037
CREATED:20250304T170324Z
LAST-MODIFIED:20250305T142833Z
UID:44744-1741176000-1741179600@www.frsuu.org
SUMMARY:Ladies Who Lunch
DESCRIPTION:Ladies Who Lunch will meet at Michael’s Harborside at noon for a good meal and conversation. Text or call Nancy or Annie if you plan to attend.
URL:https://www.frsuu.org/event/ladies-who-lunch-3/
LOCATION:Michael’s Harborside Restaurant & Bar\, 1 Tournament Wharft\, Newburyport\, MA\, 01950\, United States
END:VEVENT
BEGIN:VEVENT
DTSTART;TZID=America/New_York:20250108T120000
DTEND;TZID=America/New_York:20250108T133000
DTSTAMP:20260423T053037
CREATED:20241223T215537Z
LAST-MODIFIED:20241223T215537Z
UID:43372-1736337600-1736343000@www.frsuu.org
SUMMARY:Ladies Who Lunch
DESCRIPTION:Wednesday\, January 8\, Michael’s Harborside\, 12-1:30pm. Monthly gathering for women from FRSUU to share a meal and conversation.
URL:https://www.frsuu.org/event/ladies-who-lunch-2/
LOCATION:Michael’s Harborside Restaurant & Bar\, 1 Tournament Wharft\, Newburyport\, MA\, 01950\, United States
END:VEVENT
BEGIN:VEVENT
DTSTART;TZID=America/New_York:20241106T120000
DTEND;TZID=America/New_York:20241106T133000
DTSTAMP:20260423T053037
CREATED:20241017T210745Z
LAST-MODIFIED:20241017T211041Z
UID:42183-1730894400-1730899800@www.frsuu.org
SUMMARY:Ladies Who Lunch
DESCRIPTION:Wednesday\, November 6\, Michael’s Harborside\, noon. \nThe Ladies Who Lunch meet monthly at a local restaurant. Please join us if you can. Call or email the church office if you can attend. Hope to see you there! \nSave the date: We will be meeting December 4 at Loretta. \n  \n 
URL:https://www.frsuu.org/event/ladies-who-lunch/
LOCATION:Michael’s Harborside Restaurant & Bar\, 1 Tournament Wharft\, Newburyport\, MA\, 01950\, United States
END:VEVENT
END:VCALENDAR