BEGIN:VCALENDAR
VERSION:2.0
PRODID:-//First Religious Society of Newburyport - ECPv6.15.20//NONSGML v1.0//EN
CALSCALE:GREGORIAN
METHOD:PUBLISH
X-WR-CALNAME:First Religious Society of Newburyport
X-ORIGINAL-URL:https://www.frsuu.org
X-WR-CALDESC:Events for First Religious Society of Newburyport
REFRESH-INTERVAL;VALUE=DURATION:PT1H
X-Robots-Tag:noindex
X-PUBLISHED-TTL:PT1H
BEGIN:VTIMEZONE
TZID:America/New_York
BEGIN:DAYLIGHT
TZOFFSETFROM:-0500
TZOFFSETTO:-0400
TZNAME:EDT
DTSTART:20250309T070000
END:DAYLIGHT
BEGIN:STANDARD
TZOFFSETFROM:-0400
TZOFFSETTO:-0500
TZNAME:EST
DTSTART:20251102T060000
END:STANDARD
BEGIN:DAYLIGHT
TZOFFSETFROM:-0500
TZOFFSETTO:-0400
TZNAME:EDT
DTSTART:20260308T070000
END:DAYLIGHT
BEGIN:STANDARD
TZOFFSETFROM:-0400
TZOFFSETTO:-0500
TZNAME:EST
DTSTART:20261101T060000
END:STANDARD
BEGIN:DAYLIGHT
TZOFFSETFROM:-0500
TZOFFSETTO:-0400
TZNAME:EDT
DTSTART:20270314T070000
END:DAYLIGHT
BEGIN:STANDARD
TZOFFSETFROM:-0400
TZOFFSETTO:-0500
TZNAME:EST
DTSTART:20271107T060000
END:STANDARD
END:VTIMEZONE
BEGIN:VEVENT
DTSTART;TZID=America/New_York:20260406T090000
DTEND;TZID=America/New_York:20260406T130000
DTSTAMP:20260423T013947
CREATED:20260303T200821Z
LAST-MODIFIED:20260304T150834Z
UID:50552-1775466000-1775480400@www.frsuu.org
SUMMARY:Rummage Sale Item Dropoff
DESCRIPTION:Monday\, April 6-Wednesday\, April 8\, Parish Hall 1st Floor\, 9am-1pm. \nOnly clothing and accessories will be accepted for the rummage sale.
URL:https://www.frsuu.org/event/rummage-sale-item-dropoff/2026-04-06/
LOCATION:Parish Hall 1st Floor
ORGANIZER;CN="Jenn Day":MAILTO:jennd42003@yahoo.com
END:VEVENT
BEGIN:VEVENT
DTSTART;TZID=America/New_York:20260331T190000
DTEND;TZID=America/New_York:20260331T203000
DTSTAMP:20260423T013947
CREATED:20240614T153418Z
LAST-MODIFIED:20251007T183847Z
UID:40535-1774983600-1774989000@www.frsuu.org
SUMMARY:Alcoholic Anonymous Step Sisters
DESCRIPTION:Contact 508-215-9469; meets in the Parish Hall as of 10/7/25.
URL:https://www.frsuu.org/event/alcoholic-anonymous-step-sisters/2026-03-31/
LOCATION:Parish Hall 1st Floor
CATEGORIES:Recovery
END:VEVENT
BEGIN:VEVENT
DTSTART;TZID=America/New_York:20260329T113000
DTEND;TZID=America/New_York:20260329T130000
DTSTAMP:20260423T013947
CREATED:20260211T213451Z
LAST-MODIFIED:20260211T213452Z
UID:50309-1774783800-1774789200@www.frsuu.org
SUMMARY:Intergenerational Fellowship
DESCRIPTION:Sunday\, March 29\, Parish Hall 1st Floor\, 11:30am-1pm
URL:https://www.frsuu.org/event/intergenerational-fellowship-2/
LOCATION:Parish Hall 1st Floor
ORGANIZER;CN="Mara Flynn":MAILTO:mara.flynn@frsuu.org
END:VEVENT
BEGIN:VEVENT
DTSTART;TZID=America/New_York:20260324T190000
DTEND;TZID=America/New_York:20260324T203000
DTSTAMP:20260423T013947
CREATED:20240614T153418Z
LAST-MODIFIED:20251007T183845Z
UID:40534-1774378800-1774384200@www.frsuu.org
SUMMARY:Alcoholic Anonymous Step Sisters
DESCRIPTION:Contact 508-215-9469; meets in the Parish Hall as of 10/7/25.
URL:https://www.frsuu.org/event/alcoholic-anonymous-step-sisters/2026-03-24/
LOCATION:Parish Hall 1st Floor
CATEGORIES:Recovery
END:VEVENT
BEGIN:VEVENT
DTSTART;TZID=America/New_York:20260317T190000
DTEND;TZID=America/New_York:20260317T203000
DTSTAMP:20260423T013947
CREATED:20240614T153418Z
LAST-MODIFIED:20251007T183844Z
UID:40533-1773774000-1773779400@www.frsuu.org
SUMMARY:Alcoholic Anonymous Step Sisters
DESCRIPTION:Contact 508-215-9469; meets in the Parish Hall as of 10/7/25.
URL:https://www.frsuu.org/event/alcoholic-anonymous-step-sisters/2026-03-17/
LOCATION:Parish Hall 1st Floor
CATEGORIES:Recovery
END:VEVENT
BEGIN:VEVENT
DTSTART;TZID=America/New_York:20260310T190000
DTEND;TZID=America/New_York:20260310T203000
DTSTAMP:20260423T013947
CREATED:20240614T153418Z
LAST-MODIFIED:20251007T183842Z
UID:40532-1773169200-1773174600@www.frsuu.org
SUMMARY:Alcoholic Anonymous Step Sisters
DESCRIPTION:Contact 508-215-9469; meets in the Parish Hall as of 10/7/25.
URL:https://www.frsuu.org/event/alcoholic-anonymous-step-sisters/2026-03-10/
LOCATION:Parish Hall 1st Floor
CATEGORIES:Recovery
END:VEVENT
BEGIN:VEVENT
DTSTART;TZID=America/New_York:20260308T113000
DTEND;TZID=America/New_York:20260308T123000
DTSTAMP:20260423T013947
CREATED:20260217T192658Z
LAST-MODIFIED:20260217T192700Z
UID:50424-1772969400-1772973000@www.frsuu.org
SUMMARY:Annual Giving Campaign Ice Cream Social
DESCRIPTION:Sunday\, March 8\, Parish Hall 1st Floor\, following worship. \nJoin us for ice cream and fellowship following our Annual Giving Campaign Kickoff Sunday service.
URL:https://www.frsuu.org/event/annual-giving-campaign-ice-cream-social/
LOCATION:Parish Hall 1st Floor
END:VEVENT
BEGIN:VEVENT
DTSTART;TZID=America/New_York:20260307T170000
DTEND;TZID=America/New_York:20260307T220000
DTSTAMP:20260423T013947
CREATED:20251121T173022Z
LAST-MODIFIED:20251121T173022Z
UID:49452-1772902800-1772920800@www.frsuu.org
SUMMARY:Bluebird
DESCRIPTION:Sat\, March 7 – 5-10pm – PH1
URL:https://www.frsuu.org/event/bluebird/
LOCATION:Parish Hall 1st Floor
END:VEVENT
BEGIN:VEVENT
DTSTART;TZID=America/New_York:20260307T153000
DTEND;TZID=America/New_York:20260307T170000
DTSTAMP:20260423T013947
CREATED:20260227T172044Z
LAST-MODIFIED:20260227T172044Z
UID:50523-1772897400-1772902800@www.frsuu.org
SUMMARY:Music in Action - Melissa Lugo
DESCRIPTION:Saturday\, March 7 – 3:30-5pm – Parish Hall 1
URL:https://www.frsuu.org/event/music-in-action-melissa-lugo/
LOCATION:Parish Hall 1st Floor
END:VEVENT
BEGIN:VEVENT
DTSTART;TZID=America/New_York:20260306T170000
DTEND;TZID=America/New_York:20260306T190000
DTSTAMP:20260423T013947
CREATED:20260120T221603Z
LAST-MODIFIED:20260209T210910Z
UID:50120-1772816400-1772823600@www.frsuu.org
SUMMARY:Major Donor Event
DESCRIPTION:Friday\, March 6\, Parish Hall 1st Floor\, 5-7pm
URL:https://www.frsuu.org/event/major-donor-event/
LOCATION:Parish Hall 1st Floor
END:VEVENT
BEGIN:VEVENT
DTSTART;TZID=America/New_York:20260303T190000
DTEND;TZID=America/New_York:20260303T203000
DTSTAMP:20260423T013947
CREATED:20240614T153418Z
LAST-MODIFIED:20251007T183841Z
UID:40531-1772564400-1772569800@www.frsuu.org
SUMMARY:Alcoholic Anonymous Step Sisters
DESCRIPTION:Contact 508-215-9469; meets in the Parish Hall as of 10/7/25.
URL:https://www.frsuu.org/event/alcoholic-anonymous-step-sisters/2026-03-03/
LOCATION:Parish Hall 1st Floor
CATEGORIES:Recovery
END:VEVENT
BEGIN:VEVENT
DTSTART;TZID=America/New_York:20260224T190000
DTEND;TZID=America/New_York:20260224T203000
DTSTAMP:20260423T013947
CREATED:20240614T153418Z
LAST-MODIFIED:20251007T183839Z
UID:40530-1771959600-1771965000@www.frsuu.org
SUMMARY:Alcoholic Anonymous Step Sisters
DESCRIPTION:Contact 508-215-9469; meets in the Parish Hall as of 10/7/25.
URL:https://www.frsuu.org/event/alcoholic-anonymous-step-sisters/2026-02-24/
LOCATION:Parish Hall 1st Floor
CATEGORIES:Recovery
END:VEVENT
BEGIN:VEVENT
DTSTART;TZID=America/New_York:20260222T120000
DTEND;TZID=America/New_York:20260222T130000
DTSTAMP:20260423T013947
CREATED:20250528T175355Z
LAST-MODIFIED:20260203T160719Z
UID:46309-1771761600-1771765200@www.frsuu.org
SUMMARY:Justice Sunday: FRSUU Shelter Team
DESCRIPTION:Sunday\, February 22\, Parish Hall\, 12pm. \nJoin the FRSUU Shelter Team for an informative session on homelessness in Massachusetts and local initiatives supporting unhoused individuals. \nFeatured speakers include Al Hansom\, CEO\, and Leslie Lawrence\, Executive VP\, of Emmaus\, Inc.\, a leading housing resource for the North Shore. Major Jessica Berkhouldt and volunteers from the newly established Emergency Overnight Shelter at the Salvation Army in Newburyport will also share insights on collaborative efforts with area congregations and agencies. \nTo bring bring soup or salad to support this event\, sign up HERE!
URL:https://www.frsuu.org/event/justice-sunday-frsuu-shelter-team/
LOCATION:Parish Hall 1st Floor
CATEGORIES:Justice Action MInistry
END:VEVENT
BEGIN:VEVENT
DTSTART;TZID=America/New_York:20260221T160000
DTEND;TZID=America/New_York:20260221T180000
DTSTAMP:20260423T013947
CREATED:20260127T140847Z
LAST-MODIFIED:20260209T202152Z
UID:50168-1771689600-1771696800@www.frsuu.org
SUMMARY:Stewards Kick-off Party
DESCRIPTION:Saturday\, February 21\, Parish Hall 1st Floor\, 4-6pm
URL:https://www.frsuu.org/event/stewards-kick-off-party/
LOCATION:Parish Hall 1st Floor
END:VEVENT
BEGIN:VEVENT
DTSTART;TZID=America/New_York:20260220T100000
DTEND;TZID=America/New_York:20260220T140000
DTSTAMP:20260423T013947
CREATED:20260115T160412Z
LAST-MODIFIED:20260115T160412Z
UID:50105-1771581600-1771596000@www.frsuu.org
SUMMARY:Reserved for Memorial Reception
DESCRIPTION:Friday\, February 20\, Parish Hall 1st Floor\, 10am-2pm
URL:https://www.frsuu.org/event/reserved-for-memorial-reception-2/
LOCATION:Parish Hall 1st Floor
END:VEVENT
BEGIN:VEVENT
DTSTART;TZID=America/New_York:20260220T100000
DTEND;TZID=America/New_York:20260220T123000
DTSTAMP:20260423T013947
CREATED:20260115T160228Z
LAST-MODIFIED:20260115T160228Z
UID:50103-1771581600-1771590600@www.frsuu.org
SUMMARY:Reserved for Memorial Service
DESCRIPTION:Friday\, February 20\, Sanctuary & LMH Main Room\, 10am-12:30pm. Service starts at 11am.
URL:https://www.frsuu.org/event/reserved-for-memorial-service-5/
LOCATION:FRS Sanctuary\, 26 Pleasant St\, Newburyport\, MA\, 01950\, United States
END:VEVENT
BEGIN:VEVENT
DTSTART;TZID=America/New_York:20260217T190000
DTEND;TZID=America/New_York:20260217T203000
DTSTAMP:20260423T013947
CREATED:20240614T153418Z
LAST-MODIFIED:20251007T183837Z
UID:40529-1771354800-1771360200@www.frsuu.org
SUMMARY:Alcoholic Anonymous Step Sisters
DESCRIPTION:Contact 508-215-9469; meets in the Parish Hall as of 10/7/25.
URL:https://www.frsuu.org/event/alcoholic-anonymous-step-sisters/2026-02-17/
LOCATION:Parish Hall 1st Floor
CATEGORIES:Recovery
END:VEVENT
BEGIN:VEVENT
DTSTART;TZID=America/New_York:20260211T190000
DTEND;TZID=America/New_York:20260211T203000
DTSTAMP:20260423T013947
CREATED:20260205T192641Z
LAST-MODIFIED:20260205T192642Z
UID:50245-1770836400-1770841800@www.frsuu.org
SUMMARY:Democracy Strong
DESCRIPTION:Wednesday\, February 11\, Parish Hall 1st Floor\, 7pm. Cookies\, cider\, and socializing/connecting at 6:30pm. \nDemocracy Strong is a local chapter of Indivisible RISE\, the national group which has been sponsoring demonstrations in support of immigrant rights\, our shared constitutional rights\, and in defense of democracy. Their mission is to raise awareness\, educate\, and offer options for citizens who are ready to take action in defense of our constitution and our democracy. \nWe are coordinating with LUCE Immigrant Justice Network\, the Greater Newburyport Democratic Committee\, and others moving to action. This is not an official FRSUU group but is aligned with UU principles. \nFor more information\, email Reverend Jane at janetuohy@frsuu.org.
URL:https://www.frsuu.org/event/democracy-strong-2/
LOCATION:Parish Hall 1st Floor
END:VEVENT
BEGIN:VEVENT
DTSTART;TZID=America/New_York:20260210T190000
DTEND;TZID=America/New_York:20260210T203000
DTSTAMP:20260423T013947
CREATED:20240614T153418Z
LAST-MODIFIED:20251007T183835Z
UID:40528-1770750000-1770755400@www.frsuu.org
SUMMARY:Alcoholic Anonymous Step Sisters
DESCRIPTION:Contact 508-215-9469; meets in the Parish Hall as of 10/7/25.
URL:https://www.frsuu.org/event/alcoholic-anonymous-step-sisters/2026-02-10/
LOCATION:Parish Hall 1st Floor
CATEGORIES:Recovery
END:VEVENT
BEGIN:VEVENT
DTSTART;TZID=America/New_York:20260203T190000
DTEND;TZID=America/New_York:20260203T203000
DTSTAMP:20260423T013947
CREATED:20240614T153418Z
LAST-MODIFIED:20251007T183834Z
UID:40527-1770145200-1770150600@www.frsuu.org
SUMMARY:Alcoholic Anonymous Step Sisters
DESCRIPTION:Contact 508-215-9469; meets in the Parish Hall as of 10/7/25.
URL:https://www.frsuu.org/event/alcoholic-anonymous-step-sisters/2026-02-03/
LOCATION:Parish Hall 1st Floor
CATEGORIES:Recovery
END:VEVENT
BEGIN:VEVENT
DTSTART;TZID=America/New_York:20260131T113000
DTEND;TZID=America/New_York:20260131T133000
DTSTAMP:20260423T013947
CREATED:20260126T145315Z
LAST-MODIFIED:20260126T145315Z
UID:50151-1769859000-1769866200@www.frsuu.org
SUMMARY:Reserved
DESCRIPTION:Saturday\, January 31\, Parish Hall 1st Floor\, 11:30am-1:30pm
URL:https://www.frsuu.org/event/reserved-29/
LOCATION:Parish Hall 1st Floor
END:VEVENT
BEGIN:VEVENT
DTSTART;TZID=America/New_York:20260127T190000
DTEND;TZID=America/New_York:20260127T203000
DTSTAMP:20260423T013947
CREATED:20240614T153418Z
LAST-MODIFIED:20251007T183832Z
UID:40526-1769540400-1769545800@www.frsuu.org
SUMMARY:Alcoholic Anonymous Step Sisters
DESCRIPTION:Contact 508-215-9469; meets in the Parish Hall as of 10/7/25.
URL:https://www.frsuu.org/event/alcoholic-anonymous-step-sisters/2026-01-27/
LOCATION:Parish Hall 1st Floor
CATEGORIES:Recovery
END:VEVENT
BEGIN:VEVENT
DTSTART;TZID=America/New_York:20260120T190000
DTEND;TZID=America/New_York:20260120T203000
DTSTAMP:20260423T013947
CREATED:20240614T153418Z
LAST-MODIFIED:20251007T183831Z
UID:40525-1768935600-1768941000@www.frsuu.org
SUMMARY:Alcoholic Anonymous Step Sisters
DESCRIPTION:Contact 508-215-9469; meets in the Parish Hall as of 10/7/25.
URL:https://www.frsuu.org/event/alcoholic-anonymous-step-sisters/2026-01-20/
LOCATION:Parish Hall 1st Floor
CATEGORIES:Recovery
END:VEVENT
BEGIN:VEVENT
DTSTART;TZID=America/New_York:20260118T120000
DTEND;TZID=America/New_York:20260118T130000
DTSTAMP:20260423T013947
CREATED:20250528T175304Z
LAST-MODIFIED:20260108T160803Z
UID:46307-1768737600-1768741200@www.frsuu.org
SUMMARY:Justice Sunday: Anti-Racism Team
DESCRIPTION:Sunday\, January 18\, Parish Hall\, noon \nJoin the Anti-Racism Initiative Team for Justice Sunday for a fun\, interactive activity titled American Legacy – Know Your History focused on Black history in the U.S. Enjoy this opportunity to learn together while enjoying delicious soups and salads! \nWe also encourage you to attend the YWCA Greater Newburyport Dr. Martin Luther King\, Jr. Commemoration & Day of Service on Monday\, January 19. Tickets are selling fast at $20 each\, and must be purchased in advance! The link to purchase tickets can be found here. If cost is a barrier to attending this event\, complimentary tickets are available from Rev. Rebecca\, RevRebecca.Bryan@frsuu.org.
URL:https://www.frsuu.org/event/justice-sunday-anti-racism/
LOCATION:Parish Hall 1st Floor
CATEGORIES:Justice Action MInistry
END:VEVENT
BEGIN:VEVENT
DTSTART;TZID=America/New_York:20260117T180000
DTEND;TZID=America/New_York:20260117T210000
DTSTAMP:20260423T013947
CREATED:20251008T200053Z
LAST-MODIFIED:20251008T200053Z
UID:48884-1768672800-1768683600@www.frsuu.org
SUMMARY:Bluebird Concert
DESCRIPTION:Saturday – PH1 – Jan 17 – 6-9pm (7pm Concert)
URL:https://www.frsuu.org/event/bluebird-concert/
LOCATION:Parish Hall 1st Floor
END:VEVENT
BEGIN:VEVENT
DTSTART;TZID=America/New_York:20260117T080000
DTEND;TZID=America/New_York:20260117T140000
DTSTAMP:20260423T013947
CREATED:20251023T164903Z
LAST-MODIFIED:20251104T171245Z
UID:49113-1768636800-1768658400@www.frsuu.org
SUMMARY:Women's Breakfast
DESCRIPTION:Saturday\, January 17\, Parish Hall 1st Floor\, reserved 8am-2pm.
URL:https://www.frsuu.org/event/womens-breakfast/
LOCATION:Parish Hall 1st Floor
CATEGORIES:Community Events
END:VEVENT
BEGIN:VEVENT
DTSTART;TZID=America/New_York:20260116T170000
DTEND;TZID=America/New_York:20260116T200000
DTSTAMP:20260423T013947
CREATED:20251023T165025Z
LAST-MODIFIED:20251104T171107Z
UID:49115-1768582800-1768593600@www.frsuu.org
SUMMARY:Women's Breakfast Setup
DESCRIPTION:Friday\, January 16\, Parish Hall 1st Floor\, 5-8pm
URL:https://www.frsuu.org/event/womens-breakfast-set-up/
LOCATION:Parish Hall 1st Floor
END:VEVENT
BEGIN:VEVENT
DTSTART;TZID=America/New_York:20260114T190000
DTEND;TZID=America/New_York:20260114T203000
DTSTAMP:20260423T013947
CREATED:20251217T213026Z
LAST-MODIFIED:20260205T192704Z
UID:49827-1768417200-1768422600@www.frsuu.org
SUMMARY:Democracy Strong
DESCRIPTION:Second Wednesdays\, 7-8:30pm. The January 14 and February 11 meetings will be in the Parish Hall. \nA newly forming Indivisible Democracy Defense Community Team is being organized to promote resistance to rising authoritarianism and threats to our democracy. Indivisible is the nationwide organization that has been a key organizer of the No Kings and Good Trouble resistance marches. This is an action-oriented group. Now\, Indivisible leaders are encouraging the formation of community-based teams to engage in non-cooperation with the rise of authoritarianism in this country through non-violent resistance. Organizers for this community gathering are Barbara Dowd\, Nicole Whelan\, and Rev. Jane Tuohy. Individuals who are interested should contact Rev. Jane at jane.tuohy@frsuu.org.
URL:https://www.frsuu.org/event/democracy-strong/2026-01-14/
LOCATION:Parish Hall 1st Floor
CATEGORIES:Community Events
END:VEVENT
BEGIN:VEVENT
DTSTART;TZID=America/New_York:20260113T190000
DTEND;TZID=America/New_York:20260113T203000
DTSTAMP:20260423T013947
CREATED:20240614T153418Z
LAST-MODIFIED:20251007T183830Z
UID:40524-1768330800-1768336200@www.frsuu.org
SUMMARY:Alcoholic Anonymous Step Sisters
DESCRIPTION:Contact 508-215-9469; meets in the Parish Hall as of 10/7/25.
URL:https://www.frsuu.org/event/alcoholic-anonymous-step-sisters/2026-01-13/
LOCATION:Parish Hall 1st Floor
CATEGORIES:Recovery
END:VEVENT
BEGIN:VEVENT
DTSTART;TZID=America/New_York:20260111T120000
DTEND;TZID=America/New_York:20260111T130000
DTSTAMP:20260423T013947
CREATED:20260106T180719Z
LAST-MODIFIED:20260106T180720Z
UID:49929-1768132800-1768136400@www.frsuu.org
SUMMARY:Addictions Ministry Post-Service Discussion
DESCRIPTION:Sunday\, January 11\, Parish Hall\, noon. \nJoin our Addictions Ministry Team\, along with special guests Tim and Kat\, who will share some of their experience\, strength\, and hope and then open the floor for questions and discussion.
URL:https://www.frsuu.org/event/addictions-ministry-post-service-discussion/
LOCATION:Parish Hall 1st Floor
END:VEVENT
END:VCALENDAR