BEGIN:VCALENDAR
VERSION:2.0
PRODID:-//First Religious Society of Newburyport - ECPv6.15.20//NONSGML v1.0//EN
CALSCALE:GREGORIAN
METHOD:PUBLISH
X-WR-CALNAME:First Religious Society of Newburyport
X-ORIGINAL-URL:https://www.frsuu.org
X-WR-CALDESC:Events for First Religious Society of Newburyport
REFRESH-INTERVAL;VALUE=DURATION:PT1H
X-Robots-Tag:noindex
X-PUBLISHED-TTL:PT1H
BEGIN:VTIMEZONE
TZID:America/New_York
BEGIN:DAYLIGHT
TZOFFSETFROM:-0500
TZOFFSETTO:-0400
TZNAME:EDT
DTSTART:20250309T070000
END:DAYLIGHT
BEGIN:STANDARD
TZOFFSETFROM:-0400
TZOFFSETTO:-0500
TZNAME:EST
DTSTART:20251102T060000
END:STANDARD
BEGIN:DAYLIGHT
TZOFFSETFROM:-0500
TZOFFSETTO:-0400
TZNAME:EDT
DTSTART:20260308T070000
END:DAYLIGHT
BEGIN:STANDARD
TZOFFSETFROM:-0400
TZOFFSETTO:-0500
TZNAME:EST
DTSTART:20261101T060000
END:STANDARD
BEGIN:DAYLIGHT
TZOFFSETFROM:-0500
TZOFFSETTO:-0400
TZNAME:EDT
DTSTART:20270314T070000
END:DAYLIGHT
BEGIN:STANDARD
TZOFFSETFROM:-0400
TZOFFSETTO:-0500
TZNAME:EST
DTSTART:20271107T060000
END:STANDARD
END:VTIMEZONE
BEGIN:VEVENT
DTSTART;TZID=America/New_York:20260504T180000
DTEND;TZID=America/New_York:20260504T193000
DTSTAMP:20260419T105330
CREATED:20260219T203643Z
LAST-MODIFIED:20260219T203643Z
UID:50445-1777917600-1777923000@www.frsuu.org
SUMMARY:Council of Chairs (formerly Program Council) Meeting
DESCRIPTION:Monday\, May 4\, Parish Hall 1st Floor\, 6-7:30pm
URL:https://www.frsuu.org/event/council-of-chairs-formerly-program-council-meeting/
LOCATION:Parish Hall 1st Floor
END:VEVENT
BEGIN:VEVENT
DTSTART;TZID=America/New_York:20260505T190000
DTEND;TZID=America/New_York:20260505T203000
DTSTAMP:20260419T105330
CREATED:20240614T153418Z
LAST-MODIFIED:20251007T183853Z
UID:40540-1778007600-1778013000@www.frsuu.org
SUMMARY:Alcoholic Anonymous Step Sisters
DESCRIPTION:Contact 508-215-9469; meets in the Parish Hall as of 10/7/25.
URL:https://www.frsuu.org/event/alcoholic-anonymous-step-sisters/2026-05-05/
LOCATION:Parish Hall 1st Floor
CATEGORIES:Recovery
END:VEVENT
BEGIN:VEVENT
DTSTART;TZID=America/New_York:20260507T183000
DTEND;TZID=America/New_York:20260507T193000
DTSTAMP:20260419T105330
CREATED:20260416T174550Z
LAST-MODIFIED:20260416T174551Z
UID:50910-1778178600-1778182200@www.frsuu.org
SUMMARY:Community Organizing 101
DESCRIPTION:Thursday\, May 7\, Parish Hall 1st Floor\, 6:30pm. \nFRSUU and other faith-based\, labor\, and social justice groups in the Newburyport area are working with the Merrimack Valley Project to form a coalition to protect the rights of everyone who lives here. The Merrimack Valley Project works to unite groups to work toward social\, racial\, and economic justice\, especially for immigrant and other marginalized communities. We are facing unprecedented threats to our immigrant neighbors and friends. How can we work together to ensure that our community is safe for them? Join us for a workshop on how to strengthen communities through organizing\, and to start the conversation on what we can do to protect our neighbors and prepare for the challenges of the future. \nSign up to join us here!
URL:https://www.frsuu.org/event/community-organizing-101/
LOCATION:Parish Hall 1st Floor
END:VEVENT
BEGIN:VEVENT
DTSTART;TZID=America/New_York:20260509T170000
DTEND;TZID=America/New_York:20260509T210000
DTSTAMP:20260419T105330
CREATED:20260121T164542Z
LAST-MODIFIED:20260305T202918Z
UID:50128-1778346000-1778360400@www.frsuu.org
SUMMARY:Bluebird Concert
DESCRIPTION:Saturday\, May 9; Parish Hall 1st Floor; 5-9pm
URL:https://www.frsuu.org/event/hold-for-bluebird-2/
LOCATION:Parish Hall 1st Floor
END:VEVENT
BEGIN:VEVENT
DTSTART;TZID=America/New_York:20260512T190000
DTEND;TZID=America/New_York:20260512T203000
DTSTAMP:20260419T105330
CREATED:20240614T153418Z
LAST-MODIFIED:20251007T183855Z
UID:40541-1778612400-1778617800@www.frsuu.org
SUMMARY:Alcoholic Anonymous Step Sisters
DESCRIPTION:Contact 508-215-9469; meets in the Parish Hall as of 10/7/25.
URL:https://www.frsuu.org/event/alcoholic-anonymous-step-sisters/2026-05-12/
LOCATION:Parish Hall 1st Floor
CATEGORIES:Recovery
END:VEVENT
BEGIN:VEVENT
DTSTART;TZID=America/New_York:20260516T130000
DTEND;TZID=America/New_York:20260516T143000
DTSTAMP:20260419T105330
CREATED:20260220T163917Z
LAST-MODIFIED:20260220T163917Z
UID:50485-1778936400-1778941800@www.frsuu.org
SUMMARY:Newburyport Preservation Trust: "Ask an Old House Expert"
DESCRIPTION:Saturday\, May 16\, Parish Hall 1st Floor\, 1-2:30pm
URL:https://www.frsuu.org/event/newburyport-preservation-trust-ask-an-old-house-expert/
LOCATION:Parish Hall 1st Floor
END:VEVENT
BEGIN:VEVENT
DTSTART;TZID=America/New_York:20260517T113000
DTEND;TZID=America/New_York:20260517T130000
DTSTAMP:20260419T105330
CREATED:20260407T162436Z
LAST-MODIFIED:20260407T162437Z
UID:50843-1779017400-1779022800@www.frsuu.org
SUMMARY:Young Church After Party
DESCRIPTION:Sunday\, May 17\, Parish Hall\, following worship. \nYoung Church and Youth Group families\, let’s celebrate Rev. Rebecca’s ministry at the Young Church Sunday After Party. There’ll be bubbles\, chalk for spreading messages of love and joy\, and treats!
URL:https://www.frsuu.org/event/young-church-after-party/
LOCATION:Parish Hall 1st Floor
CATEGORIES:Young Church
END:VEVENT
BEGIN:VEVENT
DTSTART;TZID=America/New_York:20260519T190000
DTEND;TZID=America/New_York:20260519T203000
DTSTAMP:20260419T105330
CREATED:20240614T153418Z
LAST-MODIFIED:20251007T183856Z
UID:40542-1779217200-1779222600@www.frsuu.org
SUMMARY:Alcoholic Anonymous Step Sisters
DESCRIPTION:Contact 508-215-9469; meets in the Parish Hall as of 10/7/25.
URL:https://www.frsuu.org/event/alcoholic-anonymous-step-sisters/2026-05-19/
LOCATION:Parish Hall 1st Floor
CATEGORIES:Recovery
END:VEVENT
BEGIN:VEVENT
DTSTART;TZID=America/New_York:20260526T190000
DTEND;TZID=America/New_York:20260526T203000
DTSTAMP:20260419T105330
CREATED:20240614T153418Z
LAST-MODIFIED:20251007T183858Z
UID:40543-1779822000-1779827400@www.frsuu.org
SUMMARY:Alcoholic Anonymous Step Sisters
DESCRIPTION:Contact 508-215-9469; meets in the Parish Hall as of 10/7/25.
URL:https://www.frsuu.org/event/alcoholic-anonymous-step-sisters/2026-05-26/
LOCATION:Parish Hall 1st Floor
CATEGORIES:Recovery
END:VEVENT
BEGIN:VEVENT
DTSTART;TZID=America/New_York:20260528T180000
DTEND;TZID=America/New_York:20260528T210000
DTSTAMP:20260419T105330
CREATED:20260417T185748Z
LAST-MODIFIED:20260417T185748Z
UID:50946-1779991200-1780002000@www.frsuu.org
SUMMARY:Hold for External Event
DESCRIPTION:Thursday\, May 28\, Parish Hall\, 6-9pm. \nInternal: Confirmation and info to come from Lindsey Athanasiou.
URL:https://www.frsuu.org/event/hold-for-external-event/
LOCATION:Parish Hall 1st Floor
END:VEVENT
BEGIN:VEVENT
DTSTART;TZID=America/New_York:20260530T153000
DTEND;TZID=America/New_York:20260530T183000
DTSTAMP:20260419T105330
CREATED:20260331T155603Z
LAST-MODIFIED:20260331T155603Z
UID:50768-1780155000-1780165800@www.frsuu.org
SUMMARY:Reserved for Wedding 2
DESCRIPTION:Saturday\, May 30\, Parish Hall 1st Floor\, 3:30-6:30pm
URL:https://www.frsuu.org/event/reserved-for-wedding-2-2/
LOCATION:Parish Hall 1st Floor
END:VEVENT
BEGIN:VEVENT
DTSTART;TZID=America/New_York:20260602T190000
DTEND;TZID=America/New_York:20260602T203000
DTSTAMP:20260419T105330
CREATED:20240614T153418Z
LAST-MODIFIED:20251007T183900Z
UID:40544-1780426800-1780432200@www.frsuu.org
SUMMARY:Alcoholic Anonymous Step Sisters
DESCRIPTION:Contact 508-215-9469; meets in the Parish Hall as of 10/7/25.
URL:https://www.frsuu.org/event/alcoholic-anonymous-step-sisters/2026-06-02/
LOCATION:Parish Hall 1st Floor
CATEGORIES:Recovery
END:VEVENT
BEGIN:VEVENT
DTSTART;TZID=America/New_York:20260607T130000
DTEND;TZID=America/New_York:20260607T170000
DTSTAMP:20260419T105330
CREATED:20260416T200450Z
LAST-MODIFIED:20260416T200452Z
UID:50933-1780837200-1780851600@www.frsuu.org
SUMMARY:Shoba Mirzayee Graduation Party
DESCRIPTION:Sunday\, June 7\, Parish Hall 1st Floor\, 1-5pm. \nNHS Graduation Party for Shoba Mirzayee: Join us for an afternoon with Afghan food\, snacks\, and fun. Celebrate her achievements with some cake!
URL:https://www.frsuu.org/event/shoba-mirzayee-graduation-party/
LOCATION:Parish Hall 1st Floor
END:VEVENT
BEGIN:VEVENT
DTSTART;TZID=America/New_York:20260609T190000
DTEND;TZID=America/New_York:20260609T203000
DTSTAMP:20260419T105330
CREATED:20240614T153418Z
LAST-MODIFIED:20251007T183910Z
UID:40545-1781031600-1781037000@www.frsuu.org
SUMMARY:Alcoholic Anonymous Step Sisters
DESCRIPTION:Contact 508-215-9469; meets in the Parish Hall as of 10/7/25.
URL:https://www.frsuu.org/event/alcoholic-anonymous-step-sisters/2026-06-09/
LOCATION:Parish Hall 1st Floor
CATEGORIES:Recovery
END:VEVENT
BEGIN:VEVENT
DTSTART;TZID=America/New_York:20260616T190000
DTEND;TZID=America/New_York:20260616T203000
DTSTAMP:20260419T105330
CREATED:20240614T153418Z
LAST-MODIFIED:20251007T183914Z
UID:38958-1781636400-1781641800@www.frsuu.org
SUMMARY:Alcoholic Anonymous Step Sisters
DESCRIPTION:Contact 508-215-9469; meets in the Parish Hall as of 10/7/25.
URL:https://www.frsuu.org/event/alcoholic-anonymous-step-sisters/2026-06-16/
LOCATION:Parish Hall 1st Floor
CATEGORIES:Recovery
END:VEVENT
BEGIN:VEVENT
DTSTART;TZID=America/New_York:20260623T190000
DTEND;TZID=America/New_York:20260623T203000
DTSTAMP:20260419T105330
CREATED:20240614T153418Z
LAST-MODIFIED:20251007T183918Z
UID:39002-1782241200-1782246600@www.frsuu.org
SUMMARY:Alcoholic Anonymous Step Sisters
DESCRIPTION:Contact 508-215-9469; meets in the Parish Hall as of 10/7/25.
URL:https://www.frsuu.org/event/alcoholic-anonymous-step-sisters/2026-06-23/
LOCATION:Parish Hall 1st Floor
CATEGORIES:Recovery
END:VEVENT
BEGIN:VEVENT
DTSTART;TZID=America/New_York:20260630T190000
DTEND;TZID=America/New_York:20260630T203000
DTSTAMP:20260419T105330
CREATED:20240614T153418Z
LAST-MODIFIED:20251007T183921Z
UID:39017-1782846000-1782851400@www.frsuu.org
SUMMARY:Alcoholic Anonymous Step Sisters
DESCRIPTION:Contact 508-215-9469; meets in the Parish Hall as of 10/7/25.
URL:https://www.frsuu.org/event/alcoholic-anonymous-step-sisters/2026-06-30/
LOCATION:Parish Hall 1st Floor
CATEGORIES:Recovery
END:VEVENT
BEGIN:VEVENT
DTSTART;TZID=America/New_York:20260707T190000
DTEND;TZID=America/New_York:20260707T203000
DTSTAMP:20260419T105330
CREATED:20240614T153418Z
LAST-MODIFIED:20251007T183922Z
UID:39027-1783450800-1783456200@www.frsuu.org
SUMMARY:Alcoholic Anonymous Step Sisters
DESCRIPTION:Contact 508-215-9469; meets in the Parish Hall as of 10/7/25.
URL:https://www.frsuu.org/event/alcoholic-anonymous-step-sisters/2026-07-07/
LOCATION:Parish Hall 1st Floor
CATEGORIES:Recovery
END:VEVENT
BEGIN:VEVENT
DTSTART;TZID=America/New_York:20260714T190000
DTEND;TZID=America/New_York:20260714T203000
DTSTAMP:20260419T105330
CREATED:20240614T153418Z
LAST-MODIFIED:20251007T183923Z
UID:39050-1784055600-1784061000@www.frsuu.org
SUMMARY:Alcoholic Anonymous Step Sisters
DESCRIPTION:Contact 508-215-9469; meets in the Parish Hall as of 10/7/25.
URL:https://www.frsuu.org/event/alcoholic-anonymous-step-sisters/2026-07-14/
LOCATION:Parish Hall 1st Floor
CATEGORIES:Recovery
END:VEVENT
BEGIN:VEVENT
DTSTART;TZID=America/New_York:20260721T190000
DTEND;TZID=America/New_York:20260721T203000
DTSTAMP:20260419T105330
CREATED:20240614T153418Z
LAST-MODIFIED:20251007T183925Z
UID:39067-1784660400-1784665800@www.frsuu.org
SUMMARY:Alcoholic Anonymous Step Sisters
DESCRIPTION:Contact 508-215-9469; meets in the Parish Hall as of 10/7/25.
URL:https://www.frsuu.org/event/alcoholic-anonymous-step-sisters/2026-07-21/
LOCATION:Parish Hall 1st Floor
CATEGORIES:Recovery
END:VEVENT
BEGIN:VEVENT
DTSTART;TZID=America/New_York:20260728T190000
DTEND;TZID=America/New_York:20260728T203000
DTSTAMP:20260419T105330
CREATED:20240614T153418Z
LAST-MODIFIED:20251007T183926Z
UID:39082-1785265200-1785270600@www.frsuu.org
SUMMARY:Alcoholic Anonymous Step Sisters
DESCRIPTION:Contact 508-215-9469; meets in the Parish Hall as of 10/7/25.
URL:https://www.frsuu.org/event/alcoholic-anonymous-step-sisters/2026-07-28/
LOCATION:Parish Hall 1st Floor
CATEGORIES:Recovery
END:VEVENT
BEGIN:VEVENT
DTSTART;TZID=America/New_York:20260804T190000
DTEND;TZID=America/New_York:20260804T203000
DTSTAMP:20260419T105330
CREATED:20240614T153418Z
LAST-MODIFIED:20251007T183928Z
UID:39454-1785870000-1785875400@www.frsuu.org
SUMMARY:Alcoholic Anonymous Step Sisters
DESCRIPTION:Contact 508-215-9469; meets in the Parish Hall as of 10/7/25.
URL:https://www.frsuu.org/event/alcoholic-anonymous-step-sisters/2026-08-04/
LOCATION:Parish Hall 1st Floor
CATEGORIES:Recovery
END:VEVENT
BEGIN:VEVENT
DTSTART;TZID=America/New_York:20260811T190000
DTEND;TZID=America/New_York:20260811T203000
DTSTAMP:20260419T105330
CREATED:20240614T153418Z
LAST-MODIFIED:20251007T183929Z
UID:39460-1786474800-1786480200@www.frsuu.org
SUMMARY:Alcoholic Anonymous Step Sisters
DESCRIPTION:Contact 508-215-9469; meets in the Parish Hall as of 10/7/25.
URL:https://www.frsuu.org/event/alcoholic-anonymous-step-sisters/2026-08-11/
LOCATION:Parish Hall 1st Floor
CATEGORIES:Recovery
END:VEVENT
BEGIN:VEVENT
DTSTART;TZID=America/New_York:20260818T190000
DTEND;TZID=America/New_York:20260818T203000
DTSTAMP:20260419T105330
CREATED:20240614T153418Z
LAST-MODIFIED:20251007T183931Z
UID:39732-1787079600-1787085000@www.frsuu.org
SUMMARY:Alcoholic Anonymous Step Sisters
DESCRIPTION:Contact 508-215-9469; meets in the Parish Hall as of 10/7/25.
URL:https://www.frsuu.org/event/alcoholic-anonymous-step-sisters/2026-08-18/
LOCATION:Parish Hall 1st Floor
CATEGORIES:Recovery
END:VEVENT
BEGIN:VEVENT
DTSTART;TZID=America/New_York:20260825T190000
DTEND;TZID=America/New_York:20260825T203000
DTSTAMP:20260419T105330
CREATED:20240614T153418Z
LAST-MODIFIED:20251007T183932Z
UID:39898-1787684400-1787689800@www.frsuu.org
SUMMARY:Alcoholic Anonymous Step Sisters
DESCRIPTION:Contact 508-215-9469; meets in the Parish Hall as of 10/7/25.
URL:https://www.frsuu.org/event/alcoholic-anonymous-step-sisters/2026-08-25/
LOCATION:Parish Hall 1st Floor
CATEGORIES:Recovery
END:VEVENT
BEGIN:VEVENT
DTSTART;TZID=America/New_York:20260901T190000
DTEND;TZID=America/New_York:20260901T203000
DTSTAMP:20260419T105330
CREATED:20240614T153418Z
LAST-MODIFIED:20251007T183933Z
UID:40078-1788289200-1788294600@www.frsuu.org
SUMMARY:Alcoholic Anonymous Step Sisters
DESCRIPTION:Contact 508-215-9469; meets in the Parish Hall as of 10/7/25.
URL:https://www.frsuu.org/event/alcoholic-anonymous-step-sisters/2026-09-01/
LOCATION:Parish Hall 1st Floor
CATEGORIES:Recovery
END:VEVENT
BEGIN:VEVENT
DTSTART;TZID=America/New_York:20260908T190000
DTEND;TZID=America/New_York:20260908T203000
DTSTAMP:20260419T105330
CREATED:20240614T153418Z
LAST-MODIFIED:20251007T183934Z
UID:40928-1788894000-1788899400@www.frsuu.org
SUMMARY:Alcoholic Anonymous Step Sisters
DESCRIPTION:Contact 508-215-9469; meets in the Parish Hall as of 10/7/25.
URL:https://www.frsuu.org/event/alcoholic-anonymous-step-sisters/2026-09-08/
LOCATION:Parish Hall 1st Floor
CATEGORIES:Recovery
END:VEVENT
BEGIN:VEVENT
DTSTART;TZID=America/New_York:20260915T190000
DTEND;TZID=America/New_York:20260915T203000
DTSTAMP:20260419T105330
CREATED:20240614T153418Z
LAST-MODIFIED:20251007T183935Z
UID:41273-1789498800-1789504200@www.frsuu.org
SUMMARY:Alcoholic Anonymous Step Sisters
DESCRIPTION:Contact 508-215-9469; meets in the Parish Hall as of 10/7/25.
URL:https://www.frsuu.org/event/alcoholic-anonymous-step-sisters/2026-09-15/
LOCATION:Parish Hall 1st Floor
CATEGORIES:Recovery
END:VEVENT
BEGIN:VEVENT
DTSTART;TZID=America/New_York:20260922T190000
DTEND;TZID=America/New_York:20260922T203000
DTSTAMP:20260419T105330
CREATED:20240614T153418Z
LAST-MODIFIED:20251007T183937Z
UID:41469-1790103600-1790109000@www.frsuu.org
SUMMARY:Alcoholic Anonymous Step Sisters
DESCRIPTION:Contact 508-215-9469; meets in the Parish Hall as of 10/7/25.
URL:https://www.frsuu.org/event/alcoholic-anonymous-step-sisters/2026-09-22/
LOCATION:Parish Hall 1st Floor
CATEGORIES:Recovery
END:VEVENT
BEGIN:VEVENT
DTSTART;TZID=America/New_York:20260929T190000
DTEND;TZID=America/New_York:20260929T203000
DTSTAMP:20260419T105330
CREATED:20240614T153418Z
LAST-MODIFIED:20251007T183938Z
UID:41781-1790708400-1790713800@www.frsuu.org
SUMMARY:Alcoholic Anonymous Step Sisters
DESCRIPTION:Contact 508-215-9469; meets in the Parish Hall as of 10/7/25.
URL:https://www.frsuu.org/event/alcoholic-anonymous-step-sisters/2026-09-29/
LOCATION:Parish Hall 1st Floor
CATEGORIES:Recovery
END:VEVENT
END:VCALENDAR