BEGIN:VCALENDAR
VERSION:2.0
PRODID:-//First Religious Society of Newburyport - ECPv6.15.20//NONSGML v1.0//EN
CALSCALE:GREGORIAN
METHOD:PUBLISH
X-ORIGINAL-URL:https://www.frsuu.org
X-WR-CALDESC:Events for First Religious Society of Newburyport
REFRESH-INTERVAL;VALUE=DURATION:PT1H
X-Robots-Tag:noindex
X-PUBLISHED-TTL:PT1H
BEGIN:VTIMEZONE
TZID:America/New_York
BEGIN:DAYLIGHT
TZOFFSETFROM:-0500
TZOFFSETTO:-0400
TZNAME:EDT
DTSTART:20250309T070000
END:DAYLIGHT
BEGIN:STANDARD
TZOFFSETFROM:-0400
TZOFFSETTO:-0500
TZNAME:EST
DTSTART:20251102T060000
END:STANDARD
BEGIN:DAYLIGHT
TZOFFSETFROM:-0500
TZOFFSETTO:-0400
TZNAME:EDT
DTSTART:20260308T070000
END:DAYLIGHT
BEGIN:STANDARD
TZOFFSETFROM:-0400
TZOFFSETTO:-0500
TZNAME:EST
DTSTART:20261101T060000
END:STANDARD
BEGIN:DAYLIGHT
TZOFFSETFROM:-0500
TZOFFSETTO:-0400
TZNAME:EDT
DTSTART:20270314T070000
END:DAYLIGHT
BEGIN:STANDARD
TZOFFSETFROM:-0400
TZOFFSETTO:-0500
TZNAME:EST
DTSTART:20271107T060000
END:STANDARD
BEGIN:DAYLIGHT
TZOFFSETFROM:-0500
TZOFFSETTO:-0400
TZNAME:EDT
DTSTART:20280312T070000
END:DAYLIGHT
BEGIN:STANDARD
TZOFFSETFROM:-0400
TZOFFSETTO:-0500
TZNAME:EST
DTSTART:20281105T060000
END:STANDARD
END:VTIMEZONE
BEGIN:VEVENT
DTSTART;TZID=America/New_York:20260908T190000
DTEND;TZID=America/New_York:20260908T203000
DTSTAMP:20260419T173349
CREATED:20240614T153418Z
LAST-MODIFIED:20251007T183934Z
UID:40928-1788894000-1788899400@www.frsuu.org
SUMMARY:Alcoholic Anonymous Step Sisters
DESCRIPTION:Contact 508-215-9469; meets in the Parish Hall as of 10/7/25.
URL:https://www.frsuu.org/event/alcoholic-anonymous-step-sisters/2026-09-08/
LOCATION:Parish Hall 1st Floor
CATEGORIES:Recovery
END:VEVENT
BEGIN:VEVENT
DTSTART;TZID=America/New_York:20260915T190000
DTEND;TZID=America/New_York:20260915T203000
DTSTAMP:20260419T173349
CREATED:20240614T153418Z
LAST-MODIFIED:20251007T183935Z
UID:41273-1789498800-1789504200@www.frsuu.org
SUMMARY:Alcoholic Anonymous Step Sisters
DESCRIPTION:Contact 508-215-9469; meets in the Parish Hall as of 10/7/25.
URL:https://www.frsuu.org/event/alcoholic-anonymous-step-sisters/2026-09-15/
LOCATION:Parish Hall 1st Floor
CATEGORIES:Recovery
END:VEVENT
BEGIN:VEVENT
DTSTART;TZID=America/New_York:20260922T190000
DTEND;TZID=America/New_York:20260922T203000
DTSTAMP:20260419T173349
CREATED:20240614T153418Z
LAST-MODIFIED:20251007T183937Z
UID:41469-1790103600-1790109000@www.frsuu.org
SUMMARY:Alcoholic Anonymous Step Sisters
DESCRIPTION:Contact 508-215-9469; meets in the Parish Hall as of 10/7/25.
URL:https://www.frsuu.org/event/alcoholic-anonymous-step-sisters/2026-09-22/
LOCATION:Parish Hall 1st Floor
CATEGORIES:Recovery
END:VEVENT
BEGIN:VEVENT
DTSTART;TZID=America/New_York:20260929T190000
DTEND;TZID=America/New_York:20260929T203000
DTSTAMP:20260419T173349
CREATED:20240614T153418Z
LAST-MODIFIED:20251007T183938Z
UID:41781-1790708400-1790713800@www.frsuu.org
SUMMARY:Alcoholic Anonymous Step Sisters
DESCRIPTION:Contact 508-215-9469; meets in the Parish Hall as of 10/7/25.
URL:https://www.frsuu.org/event/alcoholic-anonymous-step-sisters/2026-09-29/
LOCATION:Parish Hall 1st Floor
CATEGORIES:Recovery
END:VEVENT
BEGIN:VEVENT
DTSTART;TZID=America/New_York:20261003T090000
DTEND;TZID=America/New_York:20261003T170000
DTSTAMP:20260419T173349
CREATED:20260327T170403Z
LAST-MODIFIED:20260327T170717Z
UID:50740-1791018000-1791046800@www.frsuu.org
SUMMARY:Newburyport Chocolate Tour
DESCRIPTION:Saturday\, October 3\, Vestibule\, brick area in front of church\, Parish Hall 1st floor\, 9am-5pm. \nThe Annual Newburyport Chocolate Tour starts at First Religious Society UU. The Parish Hall will be for volunteer check-in and the brick area in front of the church is for tour ticket-holders to check in. \nTour participants spend this day sampling chocolate goodies as they stroll through delightful stores throughout the beautiful downtown Newburyport. As always\, 100% of the net proceeds will be passed on to local non-profit programs. In the last 10 years\, the Newburyport Chocolate Tour has given away over $120\,000 to 25+ local groups!
URL:https://www.frsuu.org/event/newburyport-chocolate-tour-2/
LOCATION:Parish Hall 1st Floor
END:VEVENT
BEGIN:VEVENT
DTSTART;TZID=America/New_York:20261006T190000
DTEND;TZID=America/New_York:20261006T203000
DTSTAMP:20260419T173349
CREATED:20240614T153418Z
LAST-MODIFIED:20251007T183939Z
UID:41823-1791313200-1791318600@www.frsuu.org
SUMMARY:Alcoholic Anonymous Step Sisters
DESCRIPTION:Contact 508-215-9469; meets in the Parish Hall as of 10/7/25.
URL:https://www.frsuu.org/event/alcoholic-anonymous-step-sisters/2026-10-06/
LOCATION:Parish Hall 1st Floor
CATEGORIES:Recovery
END:VEVENT
BEGIN:VEVENT
DTSTART;TZID=America/New_York:20261013T190000
DTEND;TZID=America/New_York:20261013T203000
DTSTAMP:20260419T173349
CREATED:20240614T153418Z
LAST-MODIFIED:20251007T183941Z
UID:42121-1791918000-1791923400@www.frsuu.org
SUMMARY:Alcoholic Anonymous Step Sisters
DESCRIPTION:Contact 508-215-9469; meets in the Parish Hall as of 10/7/25.
URL:https://www.frsuu.org/event/alcoholic-anonymous-step-sisters/2026-10-13/
LOCATION:Parish Hall 1st Floor
CATEGORIES:Recovery
END:VEVENT
BEGIN:VEVENT
DTSTART;TZID=America/New_York:20261020T190000
DTEND;TZID=America/New_York:20261020T203000
DTSTAMP:20260419T173349
CREATED:20240614T153418Z
LAST-MODIFIED:20251007T183943Z
UID:42256-1792522800-1792528200@www.frsuu.org
SUMMARY:Alcoholic Anonymous Step Sisters
DESCRIPTION:Contact 508-215-9469; meets in the Parish Hall as of 10/7/25.
URL:https://www.frsuu.org/event/alcoholic-anonymous-step-sisters/2026-10-20/
LOCATION:Parish Hall 1st Floor
CATEGORIES:Recovery
END:VEVENT
BEGIN:VEVENT
DTSTART;TZID=America/New_York:20261027T190000
DTEND;TZID=America/New_York:20261027T203000
DTSTAMP:20260419T173349
CREATED:20240614T153418Z
LAST-MODIFIED:20251007T183944Z
UID:42378-1793127600-1793133000@www.frsuu.org
SUMMARY:Alcoholic Anonymous Step Sisters
DESCRIPTION:Contact 508-215-9469; meets in the Parish Hall as of 10/7/25.
URL:https://www.frsuu.org/event/alcoholic-anonymous-step-sisters/2026-10-27/
LOCATION:Parish Hall 1st Floor
CATEGORIES:Recovery
END:VEVENT
BEGIN:VEVENT
DTSTART;TZID=America/New_York:20261103T190000
DTEND;TZID=America/New_York:20261103T203000
DTSTAMP:20260419T173349
CREATED:20240614T153418Z
LAST-MODIFIED:20251007T183946Z
UID:42428-1793732400-1793737800@www.frsuu.org
SUMMARY:Alcoholic Anonymous Step Sisters
DESCRIPTION:Contact 508-215-9469; meets in the Parish Hall as of 10/7/25.
URL:https://www.frsuu.org/event/alcoholic-anonymous-step-sisters/2026-11-03/
LOCATION:Parish Hall 1st Floor
CATEGORIES:Recovery
END:VEVENT
BEGIN:VEVENT
DTSTART;TZID=America/New_York:20261110T190000
DTEND;TZID=America/New_York:20261110T203000
DTSTAMP:20260419T173349
CREATED:20240614T153418Z
LAST-MODIFIED:20251007T183947Z
UID:42713-1794337200-1794342600@www.frsuu.org
SUMMARY:Alcoholic Anonymous Step Sisters
DESCRIPTION:Contact 508-215-9469; meets in the Parish Hall as of 10/7/25.
URL:https://www.frsuu.org/event/alcoholic-anonymous-step-sisters/2026-11-10/
LOCATION:Parish Hall 1st Floor
CATEGORIES:Recovery
END:VEVENT
BEGIN:VEVENT
DTSTART;TZID=America/New_York:20261117T190000
DTEND;TZID=America/New_York:20261117T203000
DTSTAMP:20260419T173349
CREATED:20240614T153418Z
LAST-MODIFIED:20251007T183948Z
UID:42799-1794942000-1794947400@www.frsuu.org
SUMMARY:Alcoholic Anonymous Step Sisters
DESCRIPTION:Contact 508-215-9469; meets in the Parish Hall as of 10/7/25.
URL:https://www.frsuu.org/event/alcoholic-anonymous-step-sisters/2026-11-17/
LOCATION:Parish Hall 1st Floor
CATEGORIES:Recovery
END:VEVENT
BEGIN:VEVENT
DTSTART;TZID=America/New_York:20261124T190000
DTEND;TZID=America/New_York:20261124T203000
DTSTAMP:20260419T173349
CREATED:20240614T153418Z
LAST-MODIFIED:20251007T183949Z
UID:42925-1795546800-1795552200@www.frsuu.org
SUMMARY:Alcoholic Anonymous Step Sisters
DESCRIPTION:Contact 508-215-9469; meets in the Parish Hall as of 10/7/25.
URL:https://www.frsuu.org/event/alcoholic-anonymous-step-sisters/2026-11-24/
LOCATION:Parish Hall 1st Floor
CATEGORIES:Recovery
END:VEVENT
BEGIN:VEVENT
DTSTART;TZID=America/New_York:20261201T190000
DTEND;TZID=America/New_York:20261201T203000
DTSTAMP:20260419T173349
CREATED:20240614T153418Z
LAST-MODIFIED:20251007T183950Z
UID:42968-1796151600-1796157000@www.frsuu.org
SUMMARY:Alcoholic Anonymous Step Sisters
DESCRIPTION:Contact 508-215-9469; meets in the Parish Hall as of 10/7/25.
URL:https://www.frsuu.org/event/alcoholic-anonymous-step-sisters/2026-12-01/
LOCATION:Parish Hall 1st Floor
CATEGORIES:Recovery
END:VEVENT
BEGIN:VEVENT
DTSTART;TZID=America/New_York:20261208T190000
DTEND;TZID=America/New_York:20261208T203000
DTSTAMP:20260419T173349
CREATED:20240614T153418Z
LAST-MODIFIED:20251007T183951Z
UID:43096-1796756400-1796761800@www.frsuu.org
SUMMARY:Alcoholic Anonymous Step Sisters
DESCRIPTION:Contact 508-215-9469; meets in the Parish Hall as of 10/7/25.
URL:https://www.frsuu.org/event/alcoholic-anonymous-step-sisters/2026-12-08/
LOCATION:Parish Hall 1st Floor
CATEGORIES:Recovery
END:VEVENT
BEGIN:VEVENT
DTSTART;TZID=America/New_York:20261215T190000
DTEND;TZID=America/New_York:20261215T203000
DTSTAMP:20260419T173349
CREATED:20240614T153418Z
LAST-MODIFIED:20251007T183953Z
UID:43154-1797361200-1797366600@www.frsuu.org
SUMMARY:Alcoholic Anonymous Step Sisters
DESCRIPTION:Contact 508-215-9469; meets in the Parish Hall as of 10/7/25.
URL:https://www.frsuu.org/event/alcoholic-anonymous-step-sisters/2026-12-15/
LOCATION:Parish Hall 1st Floor
CATEGORIES:Recovery
END:VEVENT
BEGIN:VEVENT
DTSTART;TZID=America/New_York:20261222T190000
DTEND;TZID=America/New_York:20261222T203000
DTSTAMP:20260419T173349
CREATED:20240614T153418Z
LAST-MODIFIED:20251007T183955Z
UID:43357-1797966000-1797971400@www.frsuu.org
SUMMARY:Alcoholic Anonymous Step Sisters
DESCRIPTION:Contact 508-215-9469; meets in the Parish Hall as of 10/7/25.
URL:https://www.frsuu.org/event/alcoholic-anonymous-step-sisters/2026-12-22/
LOCATION:Parish Hall 1st Floor
CATEGORIES:Recovery
END:VEVENT
BEGIN:VEVENT
DTSTART;TZID=America/New_York:20261229T190000
DTEND;TZID=America/New_York:20261229T203000
DTSTAMP:20260419T173349
CREATED:20240614T153418Z
LAST-MODIFIED:20251007T183956Z
UID:43387-1798570800-1798576200@www.frsuu.org
SUMMARY:Alcoholic Anonymous Step Sisters
DESCRIPTION:Contact 508-215-9469; meets in the Parish Hall as of 10/7/25.
URL:https://www.frsuu.org/event/alcoholic-anonymous-step-sisters/2026-12-29/
LOCATION:Parish Hall 1st Floor
CATEGORIES:Recovery
END:VEVENT
BEGIN:VEVENT
DTSTART;TZID=America/New_York:20270105T190000
DTEND;TZID=America/New_York:20270105T203000
DTSTAMP:20260419T173349
CREATED:20240614T153418Z
LAST-MODIFIED:20251007T183957Z
UID:43459-1799175600-1799181000@www.frsuu.org
SUMMARY:Alcoholic Anonymous Step Sisters
DESCRIPTION:Contact 508-215-9469; meets in the Parish Hall as of 10/7/25.
URL:https://www.frsuu.org/event/alcoholic-anonymous-step-sisters/2027-01-05/
LOCATION:Parish Hall 1st Floor
CATEGORIES:Recovery
END:VEVENT
BEGIN:VEVENT
DTSTART;TZID=America/New_York:20270112T190000
DTEND;TZID=America/New_York:20270112T203000
DTSTAMP:20260419T173349
CREATED:20240614T153418Z
LAST-MODIFIED:20251007T183958Z
UID:43557-1799780400-1799785800@www.frsuu.org
SUMMARY:Alcoholic Anonymous Step Sisters
DESCRIPTION:Contact 508-215-9469; meets in the Parish Hall as of 10/7/25.
URL:https://www.frsuu.org/event/alcoholic-anonymous-step-sisters/2027-01-12/
LOCATION:Parish Hall 1st Floor
CATEGORIES:Recovery
END:VEVENT
BEGIN:VEVENT
DTSTART;TZID=America/New_York:20270119T190000
DTEND;TZID=America/New_York:20270119T203000
DTSTAMP:20260419T173349
CREATED:20240614T153418Z
LAST-MODIFIED:20251007T184000Z
UID:43818-1800385200-1800390600@www.frsuu.org
SUMMARY:Alcoholic Anonymous Step Sisters
DESCRIPTION:Contact 508-215-9469; meets in the Parish Hall as of 10/7/25.
URL:https://www.frsuu.org/event/alcoholic-anonymous-step-sisters/2027-01-19/
LOCATION:Parish Hall 1st Floor
CATEGORIES:Recovery
END:VEVENT
BEGIN:VEVENT
DTSTART;TZID=America/New_York:20270126T190000
DTEND;TZID=America/New_York:20270126T203000
DTSTAMP:20260419T173349
CREATED:20240614T153418Z
LAST-MODIFIED:20251007T184008Z
UID:44039-1800990000-1800995400@www.frsuu.org
SUMMARY:Alcoholic Anonymous Step Sisters
DESCRIPTION:Contact 508-215-9469; meets in the Parish Hall as of 10/7/25.
URL:https://www.frsuu.org/event/alcoholic-anonymous-step-sisters/2027-01-26/
LOCATION:Parish Hall 1st Floor
CATEGORIES:Recovery
END:VEVENT
BEGIN:VEVENT
DTSTART;TZID=America/New_York:20270202T190000
DTEND;TZID=America/New_York:20270202T203000
DTSTAMP:20260419T173349
CREATED:20240614T153418Z
LAST-MODIFIED:20251007T184109Z
UID:44258-1801594800-1801600200@www.frsuu.org
SUMMARY:Alcoholic Anonymous Step Sisters
DESCRIPTION:Contact 508-215-9469; meets in the Parish Hall as of 10/7/25.
URL:https://www.frsuu.org/event/alcoholic-anonymous-step-sisters/2027-02-02/
LOCATION:Parish Hall 1st Floor
CATEGORIES:Recovery
END:VEVENT
BEGIN:VEVENT
DTSTART;TZID=America/New_York:20270209T190000
DTEND;TZID=America/New_York:20270209T203000
DTSTAMP:20260419T173349
CREATED:20240614T153418Z
LAST-MODIFIED:20251007T184115Z
UID:44469-1802199600-1802205000@www.frsuu.org
SUMMARY:Alcoholic Anonymous Step Sisters
DESCRIPTION:Contact 508-215-9469; meets in the Parish Hall as of 10/7/25.
URL:https://www.frsuu.org/event/alcoholic-anonymous-step-sisters/2027-02-09/
LOCATION:Parish Hall 1st Floor
CATEGORIES:Recovery
END:VEVENT
BEGIN:VEVENT
DTSTART;TZID=America/New_York:20270216T190000
DTEND;TZID=America/New_York:20270216T203000
DTSTAMP:20260419T173349
CREATED:20240614T153418Z
LAST-MODIFIED:20251007T184117Z
UID:44571-1802804400-1802809800@www.frsuu.org
SUMMARY:Alcoholic Anonymous Step Sisters
DESCRIPTION:Contact 508-215-9469; meets in the Parish Hall as of 10/7/25.
URL:https://www.frsuu.org/event/alcoholic-anonymous-step-sisters/2027-02-16/
LOCATION:Parish Hall 1st Floor
CATEGORIES:Recovery
END:VEVENT
BEGIN:VEVENT
DTSTART;TZID=America/New_York:20270223T190000
DTEND;TZID=America/New_York:20270223T203000
DTSTAMP:20260419T173349
CREATED:20240614T153418Z
LAST-MODIFIED:20251007T184119Z
UID:44676-1803409200-1803414600@www.frsuu.org
SUMMARY:Alcoholic Anonymous Step Sisters
DESCRIPTION:Contact 508-215-9469; meets in the Parish Hall as of 10/7/25.
URL:https://www.frsuu.org/event/alcoholic-anonymous-step-sisters/2027-02-23/
LOCATION:Parish Hall 1st Floor
CATEGORIES:Recovery
END:VEVENT
BEGIN:VEVENT
DTSTART;TZID=America/New_York:20270302T190000
DTEND;TZID=America/New_York:20270302T203000
DTSTAMP:20260419T173349
CREATED:20240614T153418Z
LAST-MODIFIED:20251007T184122Z
UID:44738-1804014000-1804019400@www.frsuu.org
SUMMARY:Alcoholic Anonymous Step Sisters
DESCRIPTION:Contact 508-215-9469; meets in the Parish Hall as of 10/7/25.
URL:https://www.frsuu.org/event/alcoholic-anonymous-step-sisters/2027-03-02/
LOCATION:Parish Hall 1st Floor
CATEGORIES:Recovery
END:VEVENT
BEGIN:VEVENT
DTSTART;TZID=America/New_York:20270309T190000
DTEND;TZID=America/New_York:20270309T203000
DTSTAMP:20260419T173349
CREATED:20240614T153418Z
LAST-MODIFIED:20251007T184124Z
UID:44884-1804618800-1804624200@www.frsuu.org
SUMMARY:Alcoholic Anonymous Step Sisters
DESCRIPTION:Contact 508-215-9469; meets in the Parish Hall as of 10/7/25.
URL:https://www.frsuu.org/event/alcoholic-anonymous-step-sisters/2027-03-09/
LOCATION:Parish Hall 1st Floor
CATEGORIES:Recovery
END:VEVENT
BEGIN:VEVENT
DTSTART;TZID=America/New_York:20270316T190000
DTEND;TZID=America/New_York:20270316T203000
DTSTAMP:20260419T173349
CREATED:20240614T153418Z
LAST-MODIFIED:20251007T184125Z
UID:44933-1805223600-1805229000@www.frsuu.org
SUMMARY:Alcoholic Anonymous Step Sisters
DESCRIPTION:Contact 508-215-9469; meets in the Parish Hall as of 10/7/25.
URL:https://www.frsuu.org/event/alcoholic-anonymous-step-sisters/2027-03-16/
LOCATION:Parish Hall 1st Floor
CATEGORIES:Recovery
END:VEVENT
BEGIN:VEVENT
DTSTART;TZID=America/New_York:20270323T190000
DTEND;TZID=America/New_York:20270323T203000
DTSTAMP:20260419T173349
CREATED:20240614T153418Z
LAST-MODIFIED:20251007T184127Z
UID:45291-1805828400-1805833800@www.frsuu.org
SUMMARY:Alcoholic Anonymous Step Sisters
DESCRIPTION:Contact 508-215-9469; meets in the Parish Hall as of 10/7/25.
URL:https://www.frsuu.org/event/alcoholic-anonymous-step-sisters/2027-03-23/
LOCATION:Parish Hall 1st Floor
CATEGORIES:Recovery
END:VEVENT
END:VCALENDAR