BEGIN:VCALENDAR
VERSION:2.0
PRODID:-//First Religious Society of Newburyport - ECPv6.15.20//NONSGML v1.0//EN
CALSCALE:GREGORIAN
METHOD:PUBLISH
X-WR-CALNAME:First Religious Society of Newburyport
X-ORIGINAL-URL:https://www.frsuu.org
X-WR-CALDESC:Events for First Religious Society of Newburyport
REFRESH-INTERVAL;VALUE=DURATION:PT1H
X-Robots-Tag:noindex
X-PUBLISHED-TTL:PT1H
BEGIN:VTIMEZONE
TZID:America/New_York
BEGIN:DAYLIGHT
TZOFFSETFROM:-0500
TZOFFSETTO:-0400
TZNAME:EDT
DTSTART:20230312T070000
END:DAYLIGHT
BEGIN:STANDARD
TZOFFSETFROM:-0400
TZOFFSETTO:-0500
TZNAME:EST
DTSTART:20231105T060000
END:STANDARD
BEGIN:DAYLIGHT
TZOFFSETFROM:-0500
TZOFFSETTO:-0400
TZNAME:EDT
DTSTART:20240310T070000
END:DAYLIGHT
BEGIN:STANDARD
TZOFFSETFROM:-0400
TZOFFSETTO:-0500
TZNAME:EST
DTSTART:20241103T060000
END:STANDARD
BEGIN:DAYLIGHT
TZOFFSETFROM:-0500
TZOFFSETTO:-0400
TZNAME:EDT
DTSTART:20250309T070000
END:DAYLIGHT
BEGIN:STANDARD
TZOFFSETFROM:-0400
TZOFFSETTO:-0500
TZNAME:EST
DTSTART:20251102T060000
END:STANDARD
BEGIN:DAYLIGHT
TZOFFSETFROM:-0500
TZOFFSETTO:-0400
TZNAME:EDT
DTSTART:20260308T070000
END:DAYLIGHT
BEGIN:STANDARD
TZOFFSETFROM:-0400
TZOFFSETTO:-0500
TZNAME:EST
DTSTART:20261101T060000
END:STANDARD
END:VTIMEZONE
BEGIN:VEVENT
DTSTART;TZID=America/New_York:20251112T120000
DTEND;TZID=America/New_York:20251112T133000
DTSTAMP:20260419T125248
CREATED:20251020T181757Z
LAST-MODIFIED:20251020T181758Z
UID:49068-1762948800-1762954200@www.frsuu.org
SUMMARY:Retired Old Men Eating Out (ROMEO)
DESCRIPTION:Wednesday\, November 12\, The Grog\, 12-1:30pm. \nJoin us at our next ROMEO meeting. Our Officer of the Day is Peter Wyatt who can be reached at peterwyatt530@hotmail.com. Please feel free to contact Peter if you have any questions or concerns. No reservations are required\, but $$$ to pay your share of the tab is needed.
URL:https://www.frsuu.org/event/retired-old-men-eating-out-romeo-14/
LOCATION:The Grog\, 13 Middle St\, Newburyport\, MA\, 01950\, United States
ORGANIZER;CN="Ed Budelmann":MAILTO:edbudelmann@gmail.com
END:VEVENT
BEGIN:VEVENT
DTSTART;TZID=America/New_York:20251001T120000
DTEND;TZID=America/New_York:20251001T130000
DTSTAMP:20260419T125248
CREATED:20250923T174824Z
LAST-MODIFIED:20250923T174825Z
UID:48227-1759320000-1759323600@www.frsuu.org
SUMMARY:Ladies Who Lunch
DESCRIPTION:Wednesday\, October 1\, The Grog\, noon. Please join us for good food and conversation at our first gathering this church year. Text or call Nancy or Annie if you plan on joining us.
URL:https://www.frsuu.org/event/ladies-who-lunch-7/
LOCATION:The Grog\, 13 Middle St\, Newburyport\, MA\, 01950\, United States
END:VEVENT
BEGIN:VEVENT
DTSTART;TZID=America/New_York:20250611T120000
DTEND;TZID=America/New_York:20250611T133000
DTSTAMP:20260419T125248
CREATED:20250528T140104Z
LAST-MODIFIED:20250528T140113Z
UID:46262-1749643200-1749648600@www.frsuu.org
SUMMARY:Retired Old Men Eating Out (ROMEO)
DESCRIPTION:Wednesday\, June 11\, The Grog\, 12pm. \nJoin us for the next meeting of ROMEO. Our Officer of the Day is Ray Wilson who can be reached at skypastures@gmail.com. Please feel free to contact Ray if you have any questions or concerns. \nNo reservations are required\, but $$$ to pay your share of the tab is needed.
URL:https://www.frsuu.org/event/retired-old-men-eating-out-romeo-10/
LOCATION:The Grog\, 13 Middle St\, Newburyport\, MA\, 01950\, United States
ORGANIZER;CN="Ed Budelmann":MAILTO:edbudelmann@gmail.com
END:VEVENT
BEGIN:VEVENT
DTSTART;TZID=America/New_York:20250409T120000
DTEND;TZID=America/New_York:20250409T133000
DTSTAMP:20260419T125248
CREATED:20250327T143744Z
LAST-MODIFIED:20250327T150138Z
UID:45344-1744200000-1744205400@www.frsuu.org
SUMMARY:Retired Old Men Eating Out (ROMEO)
DESCRIPTION:Wednesday\, April 9\, The Grog\, 12pm. \nOur Officer of the Day is Tom Himmel. Please feel free to contact Tom (see Steeple newsletter for Tom’s email address) if you have any questions or concerns. No reservations are required\, but $$$ to pay your share of the tab is needed.
URL:https://www.frsuu.org/event/retired-old-men-eating-out-romeo-8/
LOCATION:The Grog\, 13 Middle St\, Newburyport\, MA\, 01950\, United States
ORGANIZER;CN="Ed Budelmann":MAILTO:edbudelmann@gmail.com
END:VEVENT
BEGIN:VEVENT
DTSTART;TZID=America/New_York:20250212T120000
DTEND;TZID=America/New_York:20250212T133000
DTSTAMP:20260419T125248
CREATED:20250128T172612Z
LAST-MODIFIED:20250128T172612Z
UID:44151-1739361600-1739367000@www.frsuu.org
SUMMARY:Retired Old Men Eating Out (ROMEO)
DESCRIPTION:Wednesday\, February 12\, The Grog\, noon. Our Officer of the Day is Phil Herzeler who can be reached at ph@computer.org. Please feel free to contact Phil if you have any questions or concerns. No reservations are required\, but $$$ to pay your share of the tab is needed.
URL:https://www.frsuu.org/event/retired-old-men-eating-out-romeo-6/
LOCATION:The Grog\, 13 Middle St\, Newburyport\, MA\, 01950\, United States
ORGANIZER;CN="Ed Budelmann":MAILTO:edbudelmann@gmail.com
END:VEVENT
BEGIN:VEVENT
DTSTART;TZID=America/New_York:20250109T120000
DTEND;TZID=America/New_York:20250109T140000
DTSTAMP:20260419T125248
CREATED:20241122T222104Z
LAST-MODIFIED:20241122T222104Z
UID:42915-1736424000-1736431200@www.frsuu.org
SUMMARY:Staff Holiday Party (offsite)
DESCRIPTION:Thursday\, January 9\, The Grog\, 12-2pm
URL:https://www.frsuu.org/event/staff-holiday-party-offsite/
LOCATION:The Grog\, 13 Middle St\, Newburyport\, MA\, 01950\, United States
END:VEVENT
BEGIN:VEVENT
DTSTART;TZID=America/New_York:20241113T120000
DTEND;TZID=America/New_York:20241113T133000
DTSTAMP:20260419T125248
CREATED:20241029T183609Z
LAST-MODIFIED:20241029T183609Z
UID:42391-1731499200-1731504600@www.frsuu.org
SUMMARY:Retired Old Men Eating Out (ROMEO)
DESCRIPTION:The next meeting of ROMEO is at The Grog on Wednesday\, November 13 at 12pm. The Officer of the Day is Bob Hooker. Reservations are not required. Please bring small bills to cover your share of the tab.
URL:https://www.frsuu.org/event/retired-old-men-eating-out-romeo-4/
LOCATION:The Grog\, 13 Middle St\, Newburyport\, MA\, 01950\, United States
ORGANIZER;CN="Ed Budelmann":MAILTO:edbudelmann@gmail.com
END:VEVENT
BEGIN:VEVENT
DTSTART;TZID=America/New_York:20240911T120000
DTEND;TZID=America/New_York:20240911T133000
DTSTAMP:20260419T125248
CREATED:20240904T170907Z
LAST-MODIFIED:20240904T170907Z
UID:40086-1726056000-1726061400@www.frsuu.org
SUMMARY:Retired Old Men Eating Out (ROMEO)
DESCRIPTION:The next meeting of ROMEO is Wednesday\, September 11 at 12pm at The Grog\, 13 Middle St\, Newburyport. Our Officer of the Day is Peter Wyatt who can be reached at peterwyatt530@hotmail.com. Reservations are not required. Please bring small bills to cover your share of the tab.
URL:https://www.frsuu.org/event/retired-old-men-eating-out-romeo-2/
LOCATION:The Grog\, 13 Middle St\, Newburyport\, MA\, 01950\, United States
END:VEVENT
END:VCALENDAR